PDS_VERSION_ID = PDS3
/* FILE DATA ELEMENTS */
RECORD_TYPE = UNDEFINED
/* POINTERS TO DATA OBJECTS */
^IMAGE = ("HA694_0000_BL4.TIF")
/* IDENTIFICATION DATA ELEMENTS */
DATA_SET_ID = "MEX-M-HRSC-4-REFDR-MAPPROJECT-EXT3-V4.0"
DATA_SET_NAME = "MARS EXPRESS HRSC MAP PROJECTED REFDR EXTENSION3 V4.0"
DETECTOR_ID = MEX_HRSC_BLUE
EVENT_TYPE = "MARS-REGIONAL-MAPPING-Te-Fl"
INSTRUMENT_HOST_ID = MEX
INSTRUMENT_HOST_NAME = "MARS EXPRESS"
INSTRUMENT_ID = HRSC
INSTRUMENT_NAME = "HIGH RESOLUTION STEREO CAMERA"
MISSION_NAME = "MARS EXPRESS"
MISSION_PHASE_NAME = ME_Phase_26
PROCESSING_LEVEL_ID = 4
PRODUCT_CREATION_TIME = 2023-02-05T03:55:10.000Z
PRODUCT_ID = "HA694_0000_BL4.TIF"
RELEASE_ID = 0009
REVISION_ID = 0000
/* QUALITY DATA ELEMENTS */
DATA_QUALITY_ID = 1
DATA_QUALITY_DESC = "Data calculated based on original SPICE kernels"
/* TIME DATA ELEMENTS */
SPACECRAFT_CLOCK_START_COUNT = "1/0285965672.08262"
SPACECRAFT_CLOCK_STOP_COUNT = "1/0285966034.26790"
START_TIME = 2012-05-24T18:55:09.978Z
STOP_TIME = 2012-05-24T18:59:03.898Z
/* ORBITAL DATA ELEMENTS */
ASCENDING_NODE_LONGITUDE = 13.23
MAXIMUM_RESOLUTION = 0.0726
FOOTPRINT_POINT_LATITUDE = (-41.5989,-41.5898,-41.5768,-41.5538, -41.5532,-41.545,-41.065,-40.5816, -40.2134,-39.7209,-39.3462,-38.845, -38.5902,-38.3349,-38.0804,-37.8222, -37.5626,-37.3035,-37.0412,-36.7766, -36.3792,-36.1131,-35.8451,-35.5751, -35.3027,-34.8919,-34.6154,-34.3396, -34.0584,-33.7777,-33.3509,-33.0666, -32.7781,-32.4896,-32.198,-31.9053, -31.4615,-31.0137,-30.7125,-30.4085, -30.1035,-29.7957,-29.4867,-29.1738, -28.7022,-28.3859,-27.9056,-27.7445, -27.6929,-27.6994,-27.7011,-27.7008, -27.6989,-27.6966,-27.6964,-27.6978, -28.1818,-28.6606,-28.9777,-29.2916, -29.7591,-30.0688,-30.3747,-30.6799, -30.9818,-31.2824,-31.5803,-31.8777, -32.1716,-32.4653,-32.7548,-33.0451, -33.4736,-33.7589,-34.0398,-34.4604, -34.7372,-35.151,-35.56,-35.8325, -36.2357,-36.5046,-36.7688,-37.0335, -37.2977,-37.5577,-37.8179,-38.0777, -38.3333,-38.5893,-38.8454,-39.0965, -39.3479,-39.7244,-40.2181,-40.5879, -41.0727,-41.437,-41.5559,-41.5989)
FOOTPRINT_POINT_LONGITUDE = (285.13,284.529,283.907,283.068,283.048 ,283.027,283.042,283.054,283.062, 283.072,283.079,283.088,283.091,283.095 ,283.099,283.102,283.105,283.108, 283.111,283.111,283.112,283.118,283.119 ,283.122,283.123,283.122,283.122, 283.122,283.121,283.119,283.116,283.114 ,283.113,283.111,283.109,283.106, 283.102,283.095,283.09,283.084,283.079, 283.073,283.066,283.06,283.049,283.043, 283.031,283.027,283.026,283.832,284.353 ,284.849,285.226,285.532,285.556, 285.564,285.553,285.543,285.536,285.528 ,285.517,285.509,285.502,285.495, 285.488,285.48,285.473,285.465,285.457, 285.449,285.441,285.433,285.421,285.413 ,285.406,285.394,285.387,285.375, 285.363,285.355,285.342,285.333,285.324 ,285.315,285.306,285.297,285.288, 285.279,285.27,285.26,285.25,285.241, 285.231,285.217,285.197,285.182,285.161 ,285.146,285.14,285.13)
ORBIT_NUMBER = 10694
ORBITAL_ECCENTRICITY = 0.577
ORBITAL_INCLINATION = 86.87
ORBITAL_SEMIMAJOR_AXIS = 8770.92
PERIAPSIS_ALTITUDE = 329.16
PERIAPSIS_ARGUMENT_ANGLE = 292.47
PERIAPSIS_TIME = 2012-05-24T18:48:35.000Z
SPACECRAFT_ORIENTATION = (0.0,1.0,0.0)
^MEX_ORIENTATION_DESC = "MEX_ORIENTATION_DESC.TXT"
SPACECRAFT_POINTING_MODE = ACROSSTRACK
^MEX_POINTING_DESC = "MEX_POINTING_DESC.TXT"
RIGHT_ASCENSION = -1e+32
DECLINATION = -1e+32
OFFSET_ANGLE = 0.2
SPACECRAFT_SOLAR_DISTANCE = 2.42219e+08
TARGET_NAME = MARS
/* CAMERA DATA ELEMENTS */
DETECTOR_TEMPERATURE = 18.1666
FOCAL_PLANE_TEMPERATURE = 7.9716
INST_CMPRS_NAME = "DISCRETE COSINE TRANSFORMATION (DCT)"
INST_CMPRS_RATIO = 8.95803
INST_CMPRS_QUALITY = 0
INST_CMPRS_QUANTZ_TBL_ID = 0
INSTRUMENT_TEMPERATURE = 11.234
LENS_TEMPERATURE = 8.5833
MACROPIXEL_SIZE = 4
MISSING_FRAMES = 0
PIXEL_SUBSAMPLING_FLAG = N
SIGNAL_CHAIN_ID = 2
/* RADIOMETRIC DATA ELEMENTS */
BANDWIDTH = 76.0
CENTER_FILTER_WAVELENGTH = 444.0
RADIANCE_OFFSET = 0.0668951
RADIANCE_SCALING_FACTOR = 0.00372037
REFLECTANCE_SCALING_FACTOR = 0.000224262
MEX:REFLECTANCE_OFFSET = 0.0040324
/* IMAGE OBJECT DEFINITIONS */
OBJECT = IMAGE
  INTERCHANGE_FORMAT = BINARY
  LINES = 16469
  LINE_SAMPLES = 2728
  SAMPLE_TYPE = UNSIGNED_INTEGER
  SAMPLE_BITS = 8
  BANDS = 1
  BAND_STORAGE_TYPE = BAND_SEQUENTIAL
  MAXIMUM = 255
  MEAN = 95.0218
  MINIMUM = 1
  STANDARD_DEVIATION = 19.4125
END_OBJECT = IMAGE
/* MAP OBJECT DEFINITIONS */
OBJECT = IMAGE_MAP_PROJECTION
  ^DATA_SET_MAP_PROJECTION_CATALOG= "DSMAP.CAT"
  A_AXIS_RADIUS = 3396.0
  B_AXIS_RADIUS = 3396.0
  C_AXIS_RADIUS = 3396.0
  CENTER_LATITUDE = 0.0
  CENTER_LONGITUDE = 284.0
  COORDINATE_SYSTEM_NAME = PLANETOGRAPHIC
  COORDINATE_SYSTEM_TYPE = "BODY-FIXED ROTATING"
  EASTERNMOST_LONGITUDE = 285.564
  FIRST_STANDARD_PARALLEL = "N/A"
  LINE_FIRST_PIXEL = 1
  LINE_LAST_PIXEL = 16469
  LINE_PROJECTION_OFFSET = -32822.125
  MAP_PROJECTION_ROTATION = 0.0
  MAP_PROJECTION_TYPE = SINUSOIDAL
  MAP_RESOLUTION = 1185.42760773333
  MAP_SCALE = 0.05
  MAXIMUM_LATITUDE = -27.6929
  MINIMUM_LATITUDE = -41.5989
  POSITIVE_LONGITUDE_DIRECTION = EAST
  REFERENCE_LATITUDE = "N/A"
  REFERENCE_LONGITUDE = "N/A"
  SAMPLE_FIRST_PIXEL = 1
  SAMPLE_LAST_PIXEL = 2728
  SAMPLE_PROJECTION_OFFSET = 1062.875
  SECOND_STANDARD_PARALLEL = "N/A"
  WESTERNMOST_LONGITUDE = 283.026
END_OBJECT = IMAGE_MAP_PROJECTION
END
