PDS_VERSION_ID = PDS3
/* FILE DATA ELEMENTS */
RECORD_TYPE = UNDEFINED
/* POINTERS TO DATA OBJECTS */
^IMAGE = ("HA678_0000_RE4.TIF")
/* IDENTIFICATION DATA ELEMENTS */
DATA_SET_ID = "MEX-M-HRSC-4-REFDR-MAPPROJECT-EXT3-V4.0"
DATA_SET_NAME = "MARS EXPRESS HRSC MAP PROJECTED REFDR EXTENSION3 V4.0"
DETECTOR_ID = MEX_HRSC_RED
EVENT_TYPE = "MARS-REGIONAL-MAPPING-Gl-Pf-Mw"
INSTRUMENT_HOST_ID = MEX
INSTRUMENT_HOST_NAME = "MARS EXPRESS"
INSTRUMENT_ID = HRSC
INSTRUMENT_NAME = "HIGH RESOLUTION STEREO CAMERA"
MISSION_NAME = "MARS EXPRESS"
MISSION_PHASE_NAME = ME_Phase_25
PROCESSING_LEVEL_ID = 4
PRODUCT_CREATION_TIME = 2023-02-05T03:55:10.000Z
PRODUCT_ID = "HA678_0000_RE4.TIF"
RELEASE_ID = 0009
REVISION_ID = 0000
/* QUALITY DATA ELEMENTS */
DATA_QUALITY_ID = 1
DATA_QUALITY_DESC = "Data calculated based on original SPICE kernels"
/* TIME DATA ELEMENTS */
SPACECRAFT_CLOCK_START_COUNT = "1/0285562894.09052"
SPACECRAFT_CLOCK_STOP_COUNT = "1/0285563233.55681"
START_TIME = 2012-05-20T03:01:43.589Z
STOP_TIME = 2012-05-20T03:05:33.398Z
/* ORBITAL DATA ELEMENTS */
ASCENDING_NODE_LONGITUDE = 13.52
MAXIMUM_RESOLUTION = 0.0624
FOOTPRINT_POINT_LATITUDE = (-47.3333,-47.3195,-47.3021,-47.2593, -47.2584,-47.2097,-46.9324,-46.3836, -46.1044,-45.8279,-45.5519,-45.0023, -44.4564,-44.1771,-43.762,-43.4858, -43.2052,-42.6629,-42.1072,-41.8261, -41.5446,-41.2643,-40.8354,-40.5499, -40.2618,-39.8255,-39.5319,-39.2376, -38.9427,-38.6415,-38.3411,-37.8902, -37.4303,-36.9688,-36.6567,-36.3432, -36.0302,-35.7117,-35.3918,-35.0721, -34.746,-34.4205,-33.9261,-33.5948, -33.2617,-32.924,-32.5865,-32.4157, -32.3303,-32.3549,-32.3642,-32.3707, -32.3708,-32.3721,-32.7151,-33.0534, -33.3926,-33.7252,-34.0579,-34.388, -34.7144,-35.2031,-35.6836,-36.0043, -36.321,-36.6327,-36.9451,-37.2546, -37.5621,-38.0231,-38.4749,-38.7761, -39.0777,-39.3705,-39.6657,-40.1076, -40.3963,-40.8272,-41.1156,-41.3998, -41.6806,-41.9636,-42.2453,-42.5242, -42.9363,-43.3492,-43.6247,-43.9019, -44.312,-44.5915,-44.8676,-45.2817, -45.5583,-45.8366,-46.1119,-46.3879, -46.803,-47.0801,-47.2186,-47.3333)
FOOTPRINT_POINT_LONGITUDE = (120.421,119.986,119.513,118.563, 118.545,118.511,118.528,118.564,118.579 ,118.594,118.609,118.639,118.67,118.68, 118.698,118.709,118.717,118.743,118.763 ,118.773,118.783,118.792,118.805, 118.815,118.823,118.833,118.841,118.848 ,118.854,118.86,118.866,118.874,118.882 ,118.889,118.893,118.896,118.9,118.903, 118.906,118.908,118.91,118.912,118.913, 118.914,118.915,118.915,118.915,118.915 ,118.915,119.902,120.375,121.003, 121.022,121.029,121.02,121.012,121.003, 120.995,120.986,120.977,120.968,120.954 ,120.94,120.93,120.92,120.911,120.901, 120.891,120.881,120.865,120.849,120.839 ,120.827,120.817,120.806,120.788, 120.777,120.76,120.748,120.736,120.725, 120.712,120.7,120.687,120.669,120.649, 120.636,120.622,120.603,120.588,120.574 ,120.552,120.537,120.521,120.506, 120.491,120.467,120.451,120.442, 120.421)
ORBIT_NUMBER = 10678
ORBITAL_ECCENTRICITY = 0.577
ORBITAL_INCLINATION = 86.88
ORBITAL_SEMIMAJOR_AXIS = 8776.88
PERIAPSIS_ALTITUDE = 329.07
PERIAPSIS_ARGUMENT_ANGLE = 295.16
PERIAPSIS_TIME = 2012-05-20T02:57:44.000Z
SPACECRAFT_ORIENTATION = (0.0,1.0,0.0)
^MEX_ORIENTATION_DESC = "MEX_ORIENTATION_DESC.TXT"
SPACECRAFT_POINTING_MODE = ACROSSTRACK
^MEX_POINTING_DESC = "MEX_POINTING_DESC.TXT"
RIGHT_ASCENSION = -1e+32
DECLINATION = -1e+32
OFFSET_ANGLE = 0.25
SPACECRAFT_SOLAR_DISTANCE = 2.4284e+08
TARGET_NAME = MARS
/* CAMERA DATA ELEMENTS */
DETECTOR_TEMPERATURE = 19.1861
FOCAL_PLANE_TEMPERATURE = 7.9716
INST_CMPRS_NAME = "DISCRETE COSINE TRANSFORMATION (DCT)"
INST_CMPRS_RATIO = 5.73399
INST_CMPRS_QUALITY = 0
INST_CMPRS_QUANTZ_TBL_ID = 0
INSTRUMENT_TEMPERATURE = 11.8457
LENS_TEMPERATURE = 8.9911
MACROPIXEL_SIZE = 4
MISSING_FRAMES = 0
PIXEL_SUBSAMPLING_FLAG = N
SIGNAL_CHAIN_ID = 2
/* RADIOMETRIC DATA ELEMENTS */
BANDWIDTH = 48.0
CENTER_FILTER_WAVELENGTH = 748.0
RADIANCE_OFFSET = 0.105192
RADIANCE_SCALING_FACTOR = 0.00648779
REFLECTANCE_SCALING_FACTOR = 0.000873094
MEX:REFLECTANCE_OFFSET = 0.0141562
/* IMAGE OBJECT DEFINITIONS */
OBJECT = IMAGE
  INTERCHANGE_FORMAT = BINARY
  LINES = 17691
  LINE_SAMPLES = 2318
  SAMPLE_TYPE = UNSIGNED_INTEGER
  SAMPLE_BITS = 8
  BANDS = 1
  BAND_STORAGE_TYPE = BAND_SEQUENTIAL
  MAXIMUM = 255
  MEAN = 102.967
  MINIMUM = 1
  STANDARD_DEVIATION = 21.956
END_OBJECT = IMAGE
/* MAP OBJECT DEFINITIONS */
OBJECT = IMAGE_MAP_PROJECTION
  ^DATA_SET_MAP_PROJECTION_CATALOG= "DSMAP.CAT"
  A_AXIS_RADIUS = 3396.0
  B_AXIS_RADIUS = 3396.0
  C_AXIS_RADIUS = 3396.0
  CENTER_LATITUDE = 0.0
  CENTER_LONGITUDE = 120.0
  COORDINATE_SYSTEM_NAME = PLANETOGRAPHIC
  COORDINATE_SYSTEM_TYPE = "BODY-FIXED ROTATING"
  EASTERNMOST_LONGITUDE = 121.029
  FIRST_STANDARD_PARALLEL = "N/A"
  LINE_FIRST_PIXEL = 1
  LINE_LAST_PIXEL = 17691
  LINE_PROJECTION_OFFSET = -38330.875
  MAP_PROJECTION_ROTATION = 0.0
  MAP_PROJECTION_TYPE = SINUSOIDAL
  MAP_RESOLUTION = 1185.42760773333
  MAP_SCALE = 0.05
  MAXIMUM_LATITUDE = -32.3303
  MINIMUM_LATITUDE = -47.3333
  POSITIVE_LONGITUDE_DIRECTION = EAST
  REFERENCE_LATITUDE = "N/A"
  REFERENCE_LONGITUDE = "N/A"
  SAMPLE_FIRST_PIXEL = 1
  SAMPLE_LAST_PIXEL = 2318
  SAMPLE_PROJECTION_OFFSET = 1225.375
  SECOND_STANDARD_PARALLEL = "N/A"
  WESTERNMOST_LONGITUDE = 118.511
END_OBJECT = IMAGE_MAP_PROJECTION
END
