PDS_VERSION_ID = PDS3
/* FILE DATA ELEMENTS */
RECORD_TYPE = UNDEFINED
/* POINTERS TO DATA OBJECTS */
^IMAGE = ("HA677_0000_S14.TIF")
/* IDENTIFICATION DATA ELEMENTS */
DATA_SET_ID = "MEX-M-HRSC-4-REFDR-MAPPROJECT-EXT3-V4.0"
DATA_SET_NAME = "MARS EXPRESS HRSC MAP PROJECTED REFDR EXTENSION3 V4.0"
DETECTOR_ID = MEX_HRSC_S1
EVENT_TYPE = "MARS-REGIONAL-MAPPING-Vo-Te"
INSTRUMENT_HOST_ID = MEX
INSTRUMENT_HOST_NAME = "MARS EXPRESS"
INSTRUMENT_ID = HRSC
INSTRUMENT_NAME = "HIGH RESOLUTION STEREO CAMERA"
MISSION_NAME = "MARS EXPRESS"
MISSION_PHASE_NAME = ME_Phase_25
PROCESSING_LEVEL_ID = 4
PRODUCT_CREATION_TIME = 2023-02-05T03:55:10.000Z
PRODUCT_ID = "HA677_0000_S14.TIF"
RELEASE_ID = 0009
REVISION_ID = 0000
/* QUALITY DATA ELEMENTS */
DATA_QUALITY_ID = 1
DATA_QUALITY_DESC = "Data calculated based on original SPICE kernels"
/* TIME DATA ELEMENTS */
SPACECRAFT_CLOCK_START_COUNT = "1/0285537788.08255"
SPACECRAFT_CLOCK_STOP_COUNT = "1/0285538168.13135"
START_TIME = 2012-05-19T20:04:31.395Z
STOP_TIME = 2012-05-19T20:09:29.984Z
/* ORBITAL DATA ELEMENTS */
ASCENDING_NODE_LONGITUDE = 13.54
MAXIMUM_RESOLUTION = 0.0377
FOOTPRINT_POINT_LATITUDE = (-42.8616,-42.864,-42.864,-42.8611, -42.861,-42.9043,-42.4892,-41.9321, -41.514,-40.9509,-40.5221,-39.9511, -39.6608,-39.3728,-38.9339,-38.6396, -38.1922,-37.8933,-37.4396,-37.1374, -36.8286,-36.3608,-36.0449,-35.738, -35.427,-34.9512,-34.6325,-34.3094, -33.9863,-33.6583,-33.3276,-32.8299, -32.4982,-32.1624,-31.8228,-31.4781, -31.133,-30.7929,-30.4438,-30.0925, -29.7392,-29.2027,-28.6679,-28.3102, -27.956,-27.6017,-27.2508,-27.0757, -27.0563,-27.0447,-27.035,-27.0219, -27.0116,-27.001,-26.992,-26.9914, -26.9918,-27.3436,-27.6968,-28.0519, -28.409,-28.7678,-29.1287,-29.6674, -30.023,-30.3767,-30.7276,-31.0746, -31.4211,-31.7648,-32.1042,-32.6103, -32.945,-33.2769,-33.6053,-34.0991, -34.4237,-34.9066,-35.2266,-35.543, -35.8591,-36.1714,-36.4837,-36.7929, -37.1012,-37.5558,-37.8585,-38.1562, -38.5989,-38.8977,-39.1954,-39.4875, -39.7827,-40.0729,-40.79,-41.3563, -41.9157,-42.7472,-42.8848,-42.8616)
FOOTPRINT_POINT_LONGITUDE = (222.537,221.893,221.24,220.454,220.433 ,220.39,220.412,220.434,220.449,220.467 ,220.481,220.496,220.503,220.508, 220.517,220.523,220.532,220.537,220.544 ,220.548,220.553,220.562,220.568, 220.567,220.566,220.568,220.569,220.569 ,220.57,220.57,220.571,220.57,220.566, 220.563,220.561,220.56,220.557,220.55, 220.545,220.539,220.534,220.524,220.512 ,220.505,220.497,220.489,220.481, 220.476,220.476,221.016,221.446,222.006 ,222.432,222.855,223.198,223.224, 223.234,223.222,223.21,223.198,223.185, 223.173,223.16,223.141,223.129,223.116, 223.103,223.09,223.078,223.065,223.052, 223.032,223.019,223.006,222.993,222.973 ,222.96,222.94,222.926,222.913,222.899, 222.885,222.872,222.858,222.844,222.822 ,222.808,222.793,222.771,222.757, 222.742,222.727,222.713,222.698,222.659 ,222.629,222.597,222.548,222.54, 222.537)
ORBIT_NUMBER = 10677
ORBITAL_ECCENTRICITY = 0.577
ORBITAL_INCLINATION = 86.89
ORBITAL_SEMIMAJOR_AXIS = 8773.3
PERIAPSIS_ALTITUDE = 328.55
PERIAPSIS_ARGUMENT_ANGLE = 295.33
PERIAPSIS_TIME = 2012-05-19T19:58:16.000Z
SPACECRAFT_ORIENTATION = (0.0,1.0,0.0)
^MEX_ORIENTATION_DESC = "MEX_ORIENTATION_DESC.TXT"
SPACECRAFT_POINTING_MODE = ACROSSTRACK
^MEX_POINTING_DESC = "MEX_POINTING_DESC.TXT"
RIGHT_ASCENSION = -1e+32
DECLINATION = -1e+32
OFFSET_ANGLE = 0.6
SPACECRAFT_SOLAR_DISTANCE = 2.42878e+08
TARGET_NAME = MARS
/* CAMERA DATA ELEMENTS */
DETECTOR_TEMPERATURE = 17.7588
FOCAL_PLANE_TEMPERATURE = 8.5833
INST_CMPRS_NAME = "DISCRETE COSINE TRANSFORMATION (DCT)"
INST_CMPRS_RATIO = 5.78403
INST_CMPRS_QUALITY = 0
INST_CMPRS_QUANTZ_TBL_ID = 0
INSTRUMENT_TEMPERATURE = 11.8457
LENS_TEMPERATURE = 8.9911
MACROPIXEL_SIZE = 2
MISSING_FRAMES = 0
PIXEL_SUBSAMPLING_FLAG = N
SIGNAL_CHAIN_ID = 1
/* RADIOMETRIC DATA ELEMENTS */
BANDWIDTH = 180.0
CENTER_FILTER_WAVELENGTH = 677.0
RADIANCE_OFFSET = 0.393943
RADIANCE_SCALING_FACTOR = 0.0261341
REFLECTANCE_SCALING_FACTOR = 0.00080431
MEX:REFLECTANCE_OFFSET = 0.0121241
/* IMAGE OBJECT DEFINITIONS */
OBJECT = IMAGE
  INTERCHANGE_FORMAT = BINARY
  LINES = 37746
  LINE_SAMPLES = 5162
  SAMPLE_TYPE = UNSIGNED_INTEGER
  SAMPLE_BITS = 8
  BANDS = 1
  BAND_STORAGE_TYPE = BAND_SEQUENTIAL
  MAXIMUM = 255
  MEAN = 112.037
  MINIMUM = 1
  STANDARD_DEVIATION = 41.0073
END_OBJECT = IMAGE
/* MAP OBJECT DEFINITIONS */
OBJECT = IMAGE_MAP_PROJECTION
  ^DATA_SET_MAP_PROJECTION_CATALOG= "DSMAP.CAT"
  A_AXIS_RADIUS = 3396.0
  B_AXIS_RADIUS = 3396.0
  C_AXIS_RADIUS = 3396.0
  CENTER_LATITUDE = 0.0
  CENTER_LONGITUDE = 222.0
  COORDINATE_SYSTEM_NAME = PLANETOGRAPHIC
  COORDINATE_SYSTEM_TYPE = "BODY-FIXED ROTATING"
  EASTERNMOST_LONGITUDE = 223.234
  FIRST_STANDARD_PARALLEL = "N/A"
  LINE_FIRST_PIXEL = 1
  LINE_LAST_PIXEL = 37746
  LINE_PROJECTION_OFFSET = -64082.25
  MAP_PROJECTION_ROTATION = 0.0
  MAP_PROJECTION_TYPE = SINUSOIDAL
  MAP_RESOLUTION = 2370.85521546667
  MAP_SCALE = 0.025
  MAXIMUM_LATITUDE = -26.9914
  MINIMUM_LATITUDE = -42.9043
  POSITIVE_LONGITUDE_DIRECTION = EAST
  REFERENCE_LATITUDE = "N/A"
  REFERENCE_LONGITUDE = "N/A"
  SAMPLE_FIRST_PIXEL = 1
  SAMPLE_LAST_PIXEL = 5162
  SAMPLE_PROJECTION_OFFSET = 2903.75
  SECOND_STANDARD_PARALLEL = "N/A"
  WESTERNMOST_LONGITUDE = 220.39
END_OBJECT = IMAGE_MAP_PROJECTION
END
