PDS_VERSION_ID = PDS3
/* FILE DATA ELEMENTS */
RECORD_TYPE = UNDEFINED
/* POINTERS TO DATA OBJECTS */
^IMAGE = ("HA671_0000_P24.TIF")
/* IDENTIFICATION DATA ELEMENTS */
DATA_SET_ID = "MEX-M-HRSC-4-REFDR-MAPPROJECT-EXT3-V4.0"
DATA_SET_NAME = "MARS EXPRESS HRSC MAP PROJECTED REFDR EXTENSION3 V4.0"
DETECTOR_ID = MEX_HRSC_P2
EVENT_TYPE = "MARS-REGIONAL-MAPPING-Vo-Gl-Pf"
INSTRUMENT_HOST_ID = MEX
INSTRUMENT_HOST_NAME = "MARS EXPRESS"
INSTRUMENT_ID = HRSC
INSTRUMENT_NAME = "HIGH RESOLUTION STEREO CAMERA"
MISSION_NAME = "MARS EXPRESS"
MISSION_PHASE_NAME = ME_Phase_25
PROCESSING_LEVEL_ID = 4
PRODUCT_CREATION_TIME = 2023-02-05T03:55:10.000Z
PRODUCT_ID = "HA671_0000_P24.TIF"
RELEASE_ID = 0009
REVISION_ID = 0000
/* QUALITY DATA ELEMENTS */
DATA_QUALITY_ID = 1
DATA_QUALITY_DESC = "Data calculated based on original SPICE kernels"
/* TIME DATA ELEMENTS */
SPACECRAFT_CLOCK_START_COUNT = "1/0285386867.08388"
SPACECRAFT_CLOCK_STOP_COUNT = "1/0285387111.50027"
START_TIME = 2012-05-18T02:08:04.590Z
STOP_TIME = 2012-05-18T02:10:13.997Z
/* ORBITAL DATA ELEMENTS */
ASCENDING_NODE_LONGITUDE = 13.65
MAXIMUM_RESOLUTION = 0.0365
FOOTPRINT_POINT_LATITUDE = (-37.6519,-37.6504,-37.6465,-37.6438, -37.638,-37.632,-37.6235,-37.6231, -37.595,-37.2228,-36.7713,-36.3918, -36.0881,-35.7784,-35.6234,-35.3912, -35.0804,-34.9227,-34.7647,-34.6065, -34.449,-34.2909,-34.0497,-33.8887, -33.728,-33.5669,-33.4064,-33.1607, -32.9966,-32.8328,-32.6695,-32.4204, -32.2533,-32.0028,-31.8362,-31.6673, -31.4971,-31.3269,-31.157,-30.9006, -30.7277,-30.4683,-30.2957,-30.0329, -29.8572,-29.5935,-29.5057,-29.4506, -29.4533,-29.456,-29.4588,-29.4605, -29.4617,-29.4623,-29.4613,-29.4595, -29.4593,-29.46,-29.8133,-29.9895, -30.2537,-30.4269,-30.6003,-30.7741, -30.9479,-31.119,-31.2887,-31.459, -31.6293,-31.7996,-31.967,-32.2178, -32.3852,-32.6356,-32.7998,-33.0478, -33.2927,-33.4561,-33.6172,-33.7786, -34.0206,-34.1821,-34.342,-34.5792, -34.7374,-34.8958,-35.0546,-35.2121, -35.3672,-35.5223,-35.6778,-35.8334, -35.9889,-36.2952,-36.6762,-36.9048, -37.2064,-37.5045,-37.5791,-37.6519)
FOOTPRINT_POINT_LONGITUDE = (116.792,116.51,116.098,115.892,115.535 ,115.235,114.879,114.86,114.84,114.844, 114.849,114.852,114.854,114.856,114.857 ,114.858,114.859,114.86,114.86,114.861, 114.861,114.861,114.861,114.861,114.861 ,114.861,114.861,114.86,114.86,114.859, 114.859,114.857,114.856,114.855,114.854 ,114.853,114.851,114.85,114.848,114.846 ,114.844,114.841,114.839,114.836, 114.834,114.83,114.829,114.828,115.016, 115.226,115.519,115.728,115.958,116.273 ,116.67,116.964,116.985,116.993,116.986 ,116.983,116.978,116.975,116.972, 116.968,116.965,116.961,116.958,116.955 ,116.952,116.948,116.945,116.94,116.936 ,116.931,116.928,116.922,116.917, 116.914,116.91,116.906,116.901,116.897, 116.894,116.888,116.884,116.881,116.876 ,116.872,116.869,116.865,116.861, 116.857,116.853,116.845,116.834,116.828 ,116.82,116.811,116.809,116.792)
ORBIT_NUMBER = 10671
ORBITAL_ECCENTRICITY = 0.577
ORBITAL_INCLINATION = 86.88
ORBITAL_SEMIMAJOR_AXIS = 8778.55
PERIAPSIS_ALTITUDE = 329.06
PERIAPSIS_ARGUMENT_ANGLE = 296.35
PERIAPSIS_TIME = 2012-05-18T02:01:49.000Z
SPACECRAFT_ORIENTATION = (0.0,1.0,0.0)
^MEX_ORIENTATION_DESC = "MEX_ORIENTATION_DESC.TXT"
SPACECRAFT_POINTING_MODE = NADIR
^MEX_POINTING_DESC = "MEX_POINTING_DESC.TXT"
RIGHT_ASCENSION = -1e+32
DECLINATION = -1e+32
OFFSET_ANGLE = -1e+32
SPACECRAFT_SOLAR_DISTANCE = 2.43103e+08
TARGET_NAME = MARS
/* CAMERA DATA ELEMENTS */
DETECTOR_TEMPERATURE = 18.7783
FOCAL_PLANE_TEMPERATURE = 8.3794
INST_CMPRS_NAME = "DISCRETE COSINE TRANSFORMATION (DCT)"
INST_CMPRS_RATIO = 3.99157
INST_CMPRS_QUALITY = 0
INST_CMPRS_QUANTZ_TBL_ID = 0
INSTRUMENT_TEMPERATURE = 11.8457
LENS_TEMPERATURE = 8.5833
MACROPIXEL_SIZE = 2
MISSING_FRAMES = 0
PIXEL_SUBSAMPLING_FLAG = N
SIGNAL_CHAIN_ID = 3
/* RADIOMETRIC DATA ELEMENTS */
BANDWIDTH = 177.0
CENTER_FILTER_WAVELENGTH = 676.5
RADIANCE_OFFSET = 0.879162
RADIANCE_SCALING_FACTOR = 0.0203819
REFLECTANCE_SCALING_FACTOR = 0.000638679
MEX:REFLECTANCE_OFFSET = 0.027549
/* IMAGE OBJECT DEFINITIONS */
OBJECT = IMAGE
  INTERCHANGE_FORMAT = BINARY
  LINES = 19370
  LINE_SAMPLES = 4697
  SAMPLE_TYPE = UNSIGNED_INTEGER
  SAMPLE_BITS = 8
  BANDS = 1
  BAND_STORAGE_TYPE = BAND_SEQUENTIAL
  MAXIMUM = 255
  MEAN = 109.901
  MINIMUM = 1
  STANDARD_DEVIATION = 17.7715
END_OBJECT = IMAGE
/* MAP OBJECT DEFINITIONS */
OBJECT = IMAGE_MAP_PROJECTION
  ^DATA_SET_MAP_PROJECTION_CATALOG= "DSMAP.CAT"
  A_AXIS_RADIUS = 3396.0
  B_AXIS_RADIUS = 3396.0
  C_AXIS_RADIUS = 3396.0
  CENTER_LATITUDE = 0.0
  CENTER_LONGITUDE = 116.0
  COORDINATE_SYSTEM_NAME = PLANETOGRAPHIC
  COORDINATE_SYSTEM_TYPE = "BODY-FIXED ROTATING"
  EASTERNMOST_LONGITUDE = 116.993
  FIRST_STANDARD_PARALLEL = "N/A"
  LINE_FIRST_PIXEL = 1
  LINE_LAST_PIXEL = 19370
  LINE_PROJECTION_OFFSET = -69832.75
  MAP_PROJECTION_ROTATION = 0.0
  MAP_PROJECTION_TYPE = SINUSOIDAL
  MAP_RESOLUTION = 2370.85521546667
  MAP_SCALE = 0.025
  MAXIMUM_LATITUDE = -29.4506
  MINIMUM_LATITUDE = -37.6519
  POSITIVE_LONGITUDE_DIRECTION = EAST
  REFERENCE_LATITUDE = "N/A"
  REFERENCE_LONGITUDE = "N/A"
  SAMPLE_FIRST_PIXEL = 1
  SAMPLE_LAST_PIXEL = 4697
  SAMPLE_PROJECTION_OFFSET = 2538.75
  SECOND_STANDARD_PARALLEL = "N/A"
  WESTERNMOST_LONGITUDE = 114.828
END_OBJECT = IMAGE_MAP_PROJECTION
END
