PDS_VERSION_ID = PDS3
/* FILE DATA ELEMENTS */
RECORD_TYPE = UNDEFINED
/* POINTERS TO DATA OBJECTS */
^IMAGE = ("HA671_0000_BL4.TIF")
/* IDENTIFICATION DATA ELEMENTS */
DATA_SET_ID = "MEX-M-HRSC-4-REFDR-MAPPROJECT-EXT3-V4.0"
DATA_SET_NAME = "MARS EXPRESS HRSC MAP PROJECTED REFDR EXTENSION3 V4.0"
DETECTOR_ID = MEX_HRSC_BLUE
EVENT_TYPE = "MARS-REGIONAL-MAPPING-Vo-Gl-Pf"
INSTRUMENT_HOST_ID = MEX
INSTRUMENT_HOST_NAME = "MARS EXPRESS"
INSTRUMENT_ID = HRSC
INSTRUMENT_NAME = "HIGH RESOLUTION STEREO CAMERA"
MISSION_NAME = "MARS EXPRESS"
MISSION_PHASE_NAME = ME_Phase_25
PROCESSING_LEVEL_ID = 4
PRODUCT_CREATION_TIME = 2023-02-05T03:55:10.000Z
PRODUCT_ID = "HA671_0000_BL4.TIF"
RELEASE_ID = 0009
REVISION_ID = 0000
/* QUALITY DATA ELEMENTS */
DATA_QUALITY_ID = 1
DATA_QUALITY_DESC = "Data calculated based on original SPICE kernels"
/* TIME DATA ELEMENTS */
SPACECRAFT_CLOCK_START_COUNT = "1/0285386867.08388"
SPACECRAFT_CLOCK_STOP_COUNT = "1/0285387111.50027"
START_TIME = 2012-05-18T02:08:25.085Z
STOP_TIME = 2012-05-18T02:10:39.938Z
/* ORBITAL DATA ELEMENTS */
ASCENDING_NODE_LONGITUDE = 13.65
MAXIMUM_RESOLUTION = 0.0729
FOOTPRINT_POINT_LATITUDE = (-37.6253,-37.6237,-37.6211,-37.6166, -37.6123,-37.6047,-37.5989,-37.5985, -37.5895,-37.1393,-36.8363,-36.5339, -36.3036,-35.995,-35.6868,-35.4524, -35.1381,-34.8246,-34.5856,-34.4259, -34.1863,-34.0268,-33.8648,-33.7022, -33.5397,-33.3774,-33.2152,-33.0497, -32.8845,-32.7194,-32.5546,-32.3041, -32.1361,-31.9683,-31.8007,-31.5461, -31.3754,-31.205,-30.9481,-30.7749, -30.6018,-30.4289,-30.2543,-30.0784, -29.9028,-29.7272,-29.5495,-29.4603, -29.4469,-29.45,-29.4517,-29.4535, -29.4545,-29.4548,-29.4547,-29.4535, -29.4521,-29.4519,-29.4532,-29.7212, -29.8972,-30.0734,-30.2498,-30.4251, -30.5986,-30.7723,-30.9462,-31.1186, -31.2892,-31.4601,-31.6312,-31.8012, -31.9693,-32.1375,-32.3059,-32.5572, -32.7226,-32.8882,-33.1368,-33.3012, -33.4639,-33.6267,-33.7897,-34.0339, -34.1938,-34.3538,-34.514,-34.6743, -34.8339,-35.1484,-35.4634,-35.6987, -36.0077,-36.3171,-36.5482,-36.8515, -37.1553,-37.5324,-37.6068,-37.6253)
FOOTPRINT_POINT_LONGITUDE = (116.817,116.559,116.245,115.858, 115.563,115.14,114.863,114.845,114.825, 114.83,114.832,114.835,114.836,114.838, 114.839,114.84,114.841,114.842,114.842, 114.842,114.842,114.842,114.841,114.841 ,114.841,114.84,114.839,114.839,114.838 ,114.837,114.836,114.834,114.833, 114.832,114.83,114.828,114.826,114.824, 114.822,114.819,114.817,114.815,114.813 ,114.81,114.808,114.805,114.802,114.801 ,114.801,115.111,115.319,115.63,115.9, 116.087,116.357,116.752,117.002,117.022 ,117.029,117.024,117.02,117.017,117.013 ,117.01,117.006,117.002,116.999,116.995 ,116.992,116.988,116.984,116.981, 116.977,116.973,116.97,116.964,116.96, 116.956,116.951,116.947,116.943,116.939 ,116.935,116.93,116.926,116.922,116.918 ,116.914,116.91,116.901,116.893,116.887 ,116.878,116.87,116.863,116.854,116.846 ,116.834,116.832,116.817)
ORBIT_NUMBER = 10671
ORBITAL_ECCENTRICITY = 0.577
ORBITAL_INCLINATION = 86.88
ORBITAL_SEMIMAJOR_AXIS = 8778.55
PERIAPSIS_ALTITUDE = 329.06
PERIAPSIS_ARGUMENT_ANGLE = 296.35
PERIAPSIS_TIME = 2012-05-18T02:01:49.000Z
SPACECRAFT_ORIENTATION = (0.0,1.0,0.0)
^MEX_ORIENTATION_DESC = "MEX_ORIENTATION_DESC.TXT"
SPACECRAFT_POINTING_MODE = NADIR
^MEX_POINTING_DESC = "MEX_POINTING_DESC.TXT"
RIGHT_ASCENSION = -1e+32
DECLINATION = -1e+32
OFFSET_ANGLE = -1e+32
SPACECRAFT_SOLAR_DISTANCE = 2.43103e+08
TARGET_NAME = MARS
/* CAMERA DATA ELEMENTS */
DETECTOR_TEMPERATURE = 18.5744
FOCAL_PLANE_TEMPERATURE = 8.3794
INST_CMPRS_NAME = "DISCRETE COSINE TRANSFORMATION (DCT)"
INST_CMPRS_RATIO = 5.21984
INST_CMPRS_QUALITY = 0
INST_CMPRS_QUANTZ_TBL_ID = 0
INSTRUMENT_TEMPERATURE = 11.8457
LENS_TEMPERATURE = 8.5833
MACROPIXEL_SIZE = 4
MISSING_FRAMES = 0
PIXEL_SUBSAMPLING_FLAG = N
SIGNAL_CHAIN_ID = 2
/* RADIOMETRIC DATA ELEMENTS */
BANDWIDTH = 76.0
CENTER_FILTER_WAVELENGTH = 444.0
RADIANCE_OFFSET = 0.154301
RADIANCE_SCALING_FACTOR = 0.00196659
REFLECTANCE_SCALING_FACTOR = 0.000119413
MEX:REFLECTANCE_OFFSET = 0.00936929
/* IMAGE OBJECT DEFINITIONS */
OBJECT = IMAGE
  INTERCHANGE_FORMAT = BINARY
  LINES = 9685
  LINE_SAMPLES = 2349
  SAMPLE_TYPE = UNSIGNED_INTEGER
  SAMPLE_BITS = 8
  BANDS = 1
  BAND_STORAGE_TYPE = BAND_SEQUENTIAL
  MAXIMUM = 255
  MEAN = 135.856
  MINIMUM = 1
  STANDARD_DEVIATION = 17.7761
END_OBJECT = IMAGE
/* MAP OBJECT DEFINITIONS */
OBJECT = IMAGE_MAP_PROJECTION
  ^DATA_SET_MAP_PROJECTION_CATALOG= "DSMAP.CAT"
  A_AXIS_RADIUS = 3396.0
  B_AXIS_RADIUS = 3396.0
  C_AXIS_RADIUS = 3396.0
  CENTER_LATITUDE = 0.0
  CENTER_LONGITUDE = 116.0
  COORDINATE_SYSTEM_NAME = PLANETOGRAPHIC
  COORDINATE_SYSTEM_TYPE = "BODY-FIXED ROTATING"
  EASTERNMOST_LONGITUDE = 117.029
  FIRST_STANDARD_PARALLEL = "N/A"
  LINE_FIRST_PIXEL = 1
  LINE_LAST_PIXEL = 9685
  LINE_PROJECTION_OFFSET = -34916.625
  MAP_PROJECTION_ROTATION = 0.0
  MAP_PROJECTION_TYPE = SINUSOIDAL
  MAP_RESOLUTION = 1185.42760773333
  MAP_SCALE = 0.05
  MAXIMUM_LATITUDE = -29.4469
  MINIMUM_LATITUDE = -37.6253
  POSITIVE_LONGITUDE_DIRECTION = EAST
  REFERENCE_LATITUDE = "N/A"
  REFERENCE_LONGITUDE = "N/A"
  SAMPLE_FIRST_PIXEL = 1
  SAMPLE_LAST_PIXEL = 2349
  SAMPLE_PROJECTION_OFFSET = 1269.125
  SECOND_STANDARD_PARALLEL = "N/A"
  WESTERNMOST_LONGITUDE = 114.801
END_OBJECT = IMAGE_MAP_PROJECTION
END
