PDS_VERSION_ID = PDS3
/* FILE DATA ELEMENTS */
RECORD_TYPE = UNDEFINED
/* POINTERS TO DATA OBJECTS */
^IMAGE = ("HA669_0000_RE4.TIF")
/* IDENTIFICATION DATA ELEMENTS */
DATA_SET_ID = "MEX-M-HRSC-4-REFDR-MAPPROJECT-EXT3-V4.0"
DATA_SET_NAME = "MARS EXPRESS HRSC MAP PROJECTED REFDR EXTENSION3 V4.0"
DETECTOR_ID = MEX_HRSC_RED
EVENT_TYPE = "MARS-REGIONAL-MAPPING-Te-Im-Fl"
INSTRUMENT_HOST_ID = MEX
INSTRUMENT_HOST_NAME = "MARS EXPRESS"
INSTRUMENT_ID = HRSC
INSTRUMENT_NAME = "HIGH RESOLUTION STEREO CAMERA"
MISSION_NAME = "MARS EXPRESS"
MISSION_PHASE_NAME = ME_Phase_25
PROCESSING_LEVEL_ID = 4
PRODUCT_CREATION_TIME = 2023-02-05T03:55:10.000Z
PRODUCT_ID = "HA669_0000_RE4.TIF"
RELEASE_ID = 0009
REVISION_ID = 0000
/* QUALITY DATA ELEMENTS */
DATA_QUALITY_ID = 1
DATA_QUALITY_DESC = "Data calculated based on original SPICE kernels"
/* TIME DATA ELEMENTS */
SPACECRAFT_CLOCK_START_COUNT = "1/0285336458.09062"
SPACECRAFT_CLOCK_STOP_COUNT = "1/0285336876.39329"
START_TIME = 2012-05-17T12:07:48.069Z
STOP_TIME = 2012-05-17T12:12:28.811Z
/* ORBITAL DATA ELEMENTS */
ASCENDING_NODE_LONGITUDE = 13.69
MAXIMUM_RESOLUTION = 0.0672
FOOTPRINT_POINT_LATITUDE = (-42.5077,-42.4627,-42.4125,-42.3379, -42.3359,-42.2734,-41.8242,-41.0671, -40.609,-40.1392,-39.527,-39.2068, -38.8909,-38.5729,-38.2593,-37.7773, -37.4498,-37.1277,-36.6271,-36.2893, -35.9552,-35.6152,-35.2724,-34.7613, -34.4179,-34.0692,-33.537,-33.182, -32.8222,-32.4612,-32.0939,-31.5446, -30.9844,-30.6095,-30.2284,-29.8471, -29.4603,-29.0729,-28.6797,-28.0854, -27.6847,-27.2799,-26.6676,-26.2552, -25.8372,-25.416,-24.7756,-24.5595, -24.461,-24.4977,-24.5179,-24.5424, -24.559,-24.5837,-24.5847,-24.5864, -25.0193,-25.4468,-26.0815,-26.7065, -27.3229,-27.7296,-28.1295,-28.5312, -28.9271,-29.3206,-29.7103,-30.0957, -30.4779,-31.0459,-31.4206,-31.7921, -32.1608,-32.7105,-33.0729,-33.4323, -33.7882,-34.1436,-34.4909,-35.01, -35.5175,-35.8588,-36.3648,-36.6998, -37.0362,-37.3633,-37.6952,-38.0183, -38.502,-38.822,-39.1432,-39.4605, -39.7744,-40.088,-40.4017,-40.7139, -41.3228,-42.233,-42.378,-42.5077)
FOOTPRINT_POINT_LONGITUDE = (319.225,318.669,318.096,317.318, 317.299,317.218,317.246,317.296,317.323 ,317.341,317.391,317.398,317.416, 317.434,317.455,317.479,317.492,317.51, 317.525,317.532,317.543,317.554,317.562 ,317.58,317.594,317.601,317.611,317.618 ,317.624,317.631,317.633,317.644, 317.649,317.652,317.655,317.658,317.66, 317.661,317.663,317.664,317.663,317.662 ,317.661,317.659,317.656,317.653, 317.646,317.643,317.642,318.225,318.579 ,319.038,319.384,319.959,319.981, 319.988,319.977,319.966,319.949,319.932 ,319.914,319.902,319.889,319.877, 319.865,319.852,319.839,319.826,319.813 ,319.792,319.778,319.764,319.75,319.729 ,319.715,319.7,319.685,319.67,319.654, 319.629,319.604,319.587,319.562,319.546 ,319.529,319.511,319.495,319.476, 319.449,319.431,319.412,319.394,319.375 ,319.356,319.336,319.318,319.277, 319.216,319.203,319.225)
ORBIT_NUMBER = 10669
ORBITAL_ECCENTRICITY = 0.577
ORBITAL_INCLINATION = 86.89
ORBITAL_SEMIMAJOR_AXIS = 8774.71
PERIAPSIS_ALTITUDE = 329.53
PERIAPSIS_ARGUMENT_ANGLE = 296.71
PERIAPSIS_TIME = 2012-05-17T12:03:00.000Z
SPACECRAFT_ORIENTATION = (0.0,1.0,0.0)
^MEX_ORIENTATION_DESC = "MEX_ORIENTATION_DESC.TXT"
SPACECRAFT_POINTING_MODE = ACROSSTRACK
^MEX_POINTING_DESC = "MEX_POINTING_DESC.TXT"
RIGHT_ASCENSION = -1e+32
DECLINATION = -1e+32
OFFSET_ANGLE = 1.374
SPACECRAFT_SOLAR_DISTANCE = 2.43178e+08
TARGET_NAME = MARS
/* CAMERA DATA ELEMENTS */
DETECTOR_TEMPERATURE = 18.3705
FOCAL_PLANE_TEMPERATURE = 8.1755
INST_CMPRS_NAME = "DISCRETE COSINE TRANSFORMATION (DCT)"
INST_CMPRS_RATIO = 9.82068
INST_CMPRS_QUALITY = 0
INST_CMPRS_QUANTZ_TBL_ID = 0
INSTRUMENT_TEMPERATURE = 11.0301
LENS_TEMPERATURE = 8.5833
MACROPIXEL_SIZE = 4
MISSING_FRAMES = 0
PIXEL_SUBSAMPLING_FLAG = N
SIGNAL_CHAIN_ID = 2
/* RADIOMETRIC DATA ELEMENTS */
BANDWIDTH = 48.0
CENTER_FILTER_WAVELENGTH = 748.0
RADIANCE_OFFSET = 0.133881
RADIANCE_SCALING_FACTOR = 0.00375017
REFLECTANCE_SCALING_FACTOR = 0.000506086
MEX:REFLECTANCE_OFFSET = 0.0180673
/* IMAGE OBJECT DEFINITIONS */
OBJECT = IMAGE
  INTERCHANGE_FORMAT = BINARY
  LINES = 21206
  LINE_SAMPLES = 2755
  SAMPLE_TYPE = UNSIGNED_INTEGER
  SAMPLE_BITS = 8
  BANDS = 1
  BAND_STORAGE_TYPE = BAND_SEQUENTIAL
  MAXIMUM = 255
  MEAN = 117.003
  MINIMUM = 1
  STANDARD_DEVIATION = 24.2156
END_OBJECT = IMAGE
/* MAP OBJECT DEFINITIONS */
OBJECT = IMAGE_MAP_PROJECTION
  ^DATA_SET_MAP_PROJECTION_CATALOG= "DSMAP.CAT"
  A_AXIS_RADIUS = 3396.0
  B_AXIS_RADIUS = 3396.0
  C_AXIS_RADIUS = 3396.0
  CENTER_LATITUDE = 0.0
  CENTER_LONGITUDE = 319.0
  COORDINATE_SYSTEM_NAME = PLANETOGRAPHIC
  COORDINATE_SYSTEM_TYPE = "BODY-FIXED ROTATING"
  EASTERNMOST_LONGITUDE = 319.988
  FIRST_STANDARD_PARALLEL = "N/A"
  LINE_FIRST_PIXEL = 1
  LINE_LAST_PIXEL = 21206
  LINE_PROJECTION_OFFSET = -29074.625
  MAP_PROJECTION_ROTATION = 0.0
  MAP_PROJECTION_TYPE = SINUSOIDAL
  MAP_RESOLUTION = 1185.42760773333
  MAP_SCALE = 0.05
  MAXIMUM_LATITUDE = -24.461
  MINIMUM_LATITUDE = -42.5077
  POSITIVE_LONGITUDE_DIRECTION = EAST
  REFERENCE_LATITUDE = "N/A"
  REFERENCE_LONGITUDE = "N/A"
  SAMPLE_FIRST_PIXEL = 1
  SAMPLE_LAST_PIXEL = 2755
  SAMPLE_PROJECTION_OFFSET = 1591.875
  SECOND_STANDARD_PARALLEL = "N/A"
  WESTERNMOST_LONGITUDE = 317.218
END_OBJECT = IMAGE_MAP_PROJECTION
END
