PDS_VERSION_ID = PDS3
/* FILE DATA ELEMENTS */
RECORD_TYPE = UNDEFINED
/* POINTERS TO DATA OBJECTS */
^IMAGE = ("HA669_0000_ND4.TIF")
/* IDENTIFICATION DATA ELEMENTS */
DATA_SET_ID = "MEX-M-HRSC-4-REFDR-MAPPROJECT-EXT3-V4.0"
DATA_SET_NAME = "MARS EXPRESS HRSC MAP PROJECTED REFDR EXTENSION3 V4.0"
DETECTOR_ID = MEX_HRSC_NADIR
EVENT_TYPE = "MARS-REGIONAL-MAPPING-Te-Im-Fl"
INSTRUMENT_HOST_ID = MEX
INSTRUMENT_HOST_NAME = "MARS EXPRESS"
INSTRUMENT_ID = HRSC
INSTRUMENT_NAME = "HIGH RESOLUTION STEREO CAMERA"
MISSION_NAME = "MARS EXPRESS"
MISSION_PHASE_NAME = ME_Phase_25
PROCESSING_LEVEL_ID = 4
PRODUCT_CREATION_TIME = 2023-02-05T03:55:10.000Z
PRODUCT_ID = "HA669_0000_ND4.TIF"
RELEASE_ID = 0009
REVISION_ID = 0000
/* QUALITY DATA ELEMENTS */
DATA_QUALITY_ID = 1
DATA_QUALITY_DESC = "Data calculated based on original SPICE kernels"
/* TIME DATA ELEMENTS */
SPACECRAFT_CLOCK_START_COUNT = "1/0285336458.09062"
SPACECRAFT_CLOCK_STOP_COUNT = "1/0285336876.39329"
START_TIME = 2012-05-17T12:08:19.353Z
STOP_TIME = 2012-05-17T12:13:20.352Z
/* ORBITAL DATA ELEMENTS */
ASCENDING_NODE_LONGITUDE = 13.69
MAXIMUM_RESOLUTION = 0.0167
FOOTPRINT_POINT_LATITUDE = (-42.4167,-42.3981,-42.3754,-42.3446, -42.3437,-42.3382,-41.8832,-40.9688, -40.3509,-39.7242,-38.9325,-38.6113, -38.2907,-37.9663,-37.639,-37.3121, -36.8139,-36.4809,-35.9747,-35.6362, -35.1215,-34.7773,-34.2533,-33.9033, -33.5474,-33.1917,-32.8306,-32.4693, -32.1031,-31.7362,-31.3641,-30.8025, -30.4244,-30.0425,-29.4646,-29.0759, -28.6824,-28.2866,-27.8872,-27.4835, -27.0774,-26.6677,-26.2532,-25.8354, -25.4141,-24.7739,-24.5589,-24.5259, -24.5313,-24.5348,-24.538,-24.5392, -24.5387,-24.5386,-24.5389,-24.9711, -25.3983,-25.8218,-26.2419,-26.6586, -27.0699,-27.4781,-27.8838,-28.2847, -28.6825,-29.0781,-29.4682,-30.0487, -30.4325,-30.8119,-31.3759,-31.7498, -32.118,-32.4858,-32.8484,-33.2111, -33.568,-33.9256,-34.2766,-34.8028, -35.1481,-35.6648,-36.0045,-36.5126, -36.8465,-37.347,-37.6747,-38.0029, -38.3293,-38.6511,-38.9735,-39.2943, -39.6101,-39.9263,-40.2427,-40.8621, -41.6314,-42.2393,-42.3912,-42.4167)
FOOTPRINT_POINT_LONGITUDE = (319.269,318.658,318.028,317.295, 317.274,317.185,317.213,317.269,317.305 ,317.34,317.377,317.394,317.413,317.434 ,317.447,317.457,317.48,317.486,317.499 ,317.509,317.522,317.533,317.549, 317.554,317.56,317.566,317.571,317.577, 317.578,317.583,317.588,317.591,317.593 ,317.595,317.596,317.596,317.596, 317.595,317.594,317.591,317.589,317.586 ,317.583,317.579,317.573,317.563,317.56 ,317.559,318.019,318.398,318.921, 319.339,320.042,320.066,320.078,320.065 ,320.053,320.04,320.027,320.014,320.001 ,319.988,319.974,319.96,319.947,319.933 ,319.919,319.898,319.883,319.869, 319.846,319.831,319.816,319.801,319.786 ,319.77,319.755,319.738,319.722,319.696 ,319.678,319.652,319.635,319.609, 319.592,319.564,319.546,319.527,319.508 ,319.489,319.47,319.451,319.432,319.412 ,319.392,319.351,319.299,319.257, 319.243,319.269)
ORBIT_NUMBER = 10669
ORBITAL_ECCENTRICITY = 0.577
ORBITAL_INCLINATION = 86.89
ORBITAL_SEMIMAJOR_AXIS = 8774.71
PERIAPSIS_ALTITUDE = 329.53
PERIAPSIS_ARGUMENT_ANGLE = 296.71
PERIAPSIS_TIME = 2012-05-17T12:03:00.000Z
SPACECRAFT_ORIENTATION = (0.0,1.0,0.0)
^MEX_ORIENTATION_DESC = "MEX_ORIENTATION_DESC.TXT"
SPACECRAFT_POINTING_MODE = ACROSSTRACK
^MEX_POINTING_DESC = "MEX_POINTING_DESC.TXT"
RIGHT_ASCENSION = -1e+32
DECLINATION = -1e+32
OFFSET_ANGLE = 1.374
SPACECRAFT_SOLAR_DISTANCE = 2.43178e+08
TARGET_NAME = MARS
/* CAMERA DATA ELEMENTS */
DETECTOR_TEMPERATURE = 18.3705
FOCAL_PLANE_TEMPERATURE = 8.1755
INST_CMPRS_NAME = "DISCRETE COSINE TRANSFORMATION (DCT)"
INST_CMPRS_RATIO = 5.79063
INST_CMPRS_QUALITY = 0
INST_CMPRS_QUANTZ_TBL_ID = 0
INSTRUMENT_TEMPERATURE = 11.0301
LENS_TEMPERATURE = 8.5833
MACROPIXEL_SIZE = 1
MISSING_FRAMES = 0
PIXEL_SUBSAMPLING_FLAG = N
SIGNAL_CHAIN_ID = 0
/* RADIOMETRIC DATA ELEMENTS */
BANDWIDTH = 177.0
CENTER_FILTER_WAVELENGTH = 677.5
RADIANCE_OFFSET = 0.374736
RADIANCE_SCALING_FACTOR = 0.0136268
REFLECTANCE_SCALING_FACTOR = 0.00042808
MEX:REFLECTANCE_OFFSET = 0.0117722
/* IMAGE OBJECT DEFINITIONS */
OBJECT = IMAGE
  INTERCHANGE_FORMAT = BINARY
  LINES = 84822
  LINE_SAMPLES = 11020
  SAMPLE_TYPE = UNSIGNED_INTEGER
  SAMPLE_BITS = 8
  BANDS = 1
  BAND_STORAGE_TYPE = BAND_SEQUENTIAL
  MAXIMUM = 255
  MEAN = 117.786
  MINIMUM = 1
  STANDARD_DEVIATION = 23.9919
END_OBJECT = IMAGE
/* MAP OBJECT DEFINITIONS */
OBJECT = IMAGE_MAP_PROJECTION
  ^DATA_SET_MAP_PROJECTION_CATALOG= "DSMAP.CAT"
  A_AXIS_RADIUS = 3396.0
  B_AXIS_RADIUS = 3396.0
  C_AXIS_RADIUS = 3396.0
  CENTER_LATITUDE = 0.0
  CENTER_LONGITUDE = 319.0
  COORDINATE_SYSTEM_NAME = PLANETOGRAPHIC
  COORDINATE_SYSTEM_TYPE = "BODY-FIXED ROTATING"
  EASTERNMOST_LONGITUDE = 320.078
  FIRST_STANDARD_PARALLEL = "N/A"
  LINE_FIRST_PIXEL = 1
  LINE_LAST_PIXEL = 84822
  LINE_PROJECTION_OFFSET = -116297.0
  MAP_PROJECTION_ROTATION = 0.0
  MAP_PROJECTION_TYPE = SINUSOIDAL
  MAP_RESOLUTION = 4741.71043093333
  MAP_SCALE = 0.0125
  MAXIMUM_LATITUDE = -24.5259
  MINIMUM_LATITUDE = -42.4167
  POSITIVE_LONGITUDE_DIRECTION = EAST
  REFERENCE_LATITUDE = "N/A"
  REFERENCE_LONGITUDE = "N/A"
  SAMPLE_FIRST_PIXEL = 1
  SAMPLE_LAST_PIXEL = 11020
  SAMPLE_PROJECTION_OFFSET = 6369.0
  SECOND_STANDARD_PARALLEL = "N/A"
  WESTERNMOST_LONGITUDE = 317.185
END_OBJECT = IMAGE_MAP_PROJECTION
END
