PDS_VERSION_ID = PDS3
/* FILE DATA ELEMENTS */
RECORD_TYPE = UNDEFINED
/* POINTERS TO DATA OBJECTS */
^IMAGE = ("HA659_0000_BL4.TIF")
/* IDENTIFICATION DATA ELEMENTS */
DATA_SET_ID = "MEX-M-HRSC-4-REFDR-MAPPROJECT-EXT3-V4.0"
DATA_SET_NAME = "MARS EXPRESS HRSC MAP PROJECTED REFDR EXTENSION3 V4.0"
DETECTOR_ID = MEX_HRSC_BLUE
EVENT_TYPE = "MARS-CLOUD-VARIABLE-At"
INSTRUMENT_HOST_ID = MEX
INSTRUMENT_HOST_NAME = "MARS EXPRESS"
INSTRUMENT_ID = HRSC
INSTRUMENT_NAME = "HIGH RESOLUTION STEREO CAMERA"
MISSION_NAME = "MARS EXPRESS"
MISSION_PHASE_NAME = ME_Phase_25
PROCESSING_LEVEL_ID = 4
PRODUCT_CREATION_TIME = 2023-02-05T03:55:10.000Z
PRODUCT_ID = "HA659_0000_BL4.TIF"
RELEASE_ID = 0009
REVISION_ID = 0000
/* QUALITY DATA ELEMENTS */
DATA_QUALITY_ID = 1
DATA_QUALITY_DESC = "Data calculated based on original SPICE kernels"
/* TIME DATA ELEMENTS */
SPACECRAFT_CLOCK_START_COUNT = "1/0285085094.09083"
SPACECRAFT_CLOCK_STOP_COUNT = "1/0285086217.25936"
START_TIME = 2012-05-14T14:18:57.873Z
STOP_TIME = 2012-05-14T14:34:53.052Z
/* ORBITAL DATA ELEMENTS */
ASCENDING_NODE_LONGITUDE = 13.88
MAXIMUM_RESOLUTION = 0.1004
FOOTPRINT_POINT_LATITUDE = (-22.7854,-22.7977,-22.8004,-22.8004, -22.803,-21.1851,-20.1185,-19.0619, -18.0147,-16.9774,-15.9497,-14.9321, -13.9238,-12.9251,-11.9366,-10.9582, -9.98886,-9.02894,-8.08091,-7.14099, -6.21187,-5.29315,-4.38358,-3.48323, -2.59194,-1.71087,-0.838945,0.0236029, 0.876029,1.71917,2.5531,3.37795,4.19364 ,5.00051,5.79845,6.58758,7.36802, 8.13978,8.90305,9.65784,11.1421,12.5922 ,14.0118,15.4023,16.7636,18.0946, 19.3967,19.7177,19.7438,19.8769,19.9315 ,20.0284,20.0847,20.1578,20.1608, 20.1611,18.8443,17.4995,16.126,14.7231, 13.2897,11.8253,10.3291,9.56896,8.80046 ,8.02362,7.23841,6.44467,5.6424,4.83147 ,4.01172,3.18334,2.34587,1.49941, 0.643864,-0.220801,-1.095,-1.97943, -2.87304,-4.23066,-5.1416,-6.07338, -7.00486,-7.95317,-8.90514,-9.87389, -10.848,-11.8321,-12.8244,-13.8288, -14.8416,-15.8643,-16.8965,-17.9382, -18.9895,-20.0503,-21.1207,-22.2006, -22.744,-22.7854)
FOOTPRINT_POINT_LONGITUDE = (263.87,262.72,261.526,261.504,261.505, 261.451,261.412,261.371,261.328,261.282 ,261.234,261.184,261.131,261.076, 261.019,260.96,260.899,260.834,260.771, 260.704,260.636,260.568,260.497,260.424 ,260.348,260.272,260.194,260.114, 260.033,259.952,259.869,259.784,259.698 ,259.611,259.522,259.432,259.341, 259.248,259.154,259.059,258.866,258.671 ,258.469,258.258,258.041,257.821, 257.596,257.54,257.535,259.438,260.29, 261.929,262.98,264.499,264.565,264.588, 264.538,264.491,264.448,264.407,264.368 ,264.332,264.298,264.282,264.267, 264.252,264.237,264.223,264.209,264.196 ,264.183,264.171,264.159,264.147, 264.135,264.124,264.113,264.101,264.089 ,264.072,264.07,264.051,264.047,264.032 ,264.027,264.01,264.0,263.99,263.982, 263.969,263.959,263.948,263.937,263.925 ,263.913,263.901,263.887,263.873, 263.866,263.87)
ORBIT_NUMBER = 10659
ORBITAL_ECCENTRICITY = 0.577
ORBITAL_INCLINATION = 86.87
ORBITAL_SEMIMAJOR_AXIS = 8779.2
PERIAPSIS_ALTITUDE = 329.35
PERIAPSIS_ARGUMENT_ANGLE = 298.39
PERIAPSIS_TIME = 2012-05-14T14:08:47.000Z
SPACECRAFT_ORIENTATION = (0.0,1.0,0.0)
^MEX_ORIENTATION_DESC = "MEX_ORIENTATION_DESC.TXT"
SPACECRAFT_POINTING_MODE = NADIR
^MEX_POINTING_DESC = "MEX_POINTING_DESC.TXT"
RIGHT_ASCENSION = -1e+32
DECLINATION = -1e+32
OFFSET_ANGLE = -1e+32
SPACECRAFT_SOLAR_DISTANCE = 2.43544e+08
TARGET_NAME = MARS
/* CAMERA DATA ELEMENTS */
DETECTOR_TEMPERATURE = 17.9627
FOCAL_PLANE_TEMPERATURE = 8.3794
INST_CMPRS_NAME = "DISCRETE COSINE TRANSFORMATION (DCT)"
INST_CMPRS_RATIO = 28.0593
INST_CMPRS_QUALITY = 0
INST_CMPRS_QUANTZ_TBL_ID = 0
INSTRUMENT_TEMPERATURE = 10.8262
LENS_TEMPERATURE = 8.7872
MACROPIXEL_SIZE = 4
MISSING_FRAMES = 0
PIXEL_SUBSAMPLING_FLAG = N
SIGNAL_CHAIN_ID = 2
/* RADIOMETRIC DATA ELEMENTS */
BANDWIDTH = 76.0
CENTER_FILTER_WAVELENGTH = 444.0
RADIANCE_OFFSET = 0.227969
RADIANCE_SCALING_FACTOR = 0.00612044
REFLECTANCE_SCALING_FACTOR = 0.000372987
MEX:REFLECTANCE_OFFSET = 0.0138927
/* IMAGE OBJECT DEFINITIONS */
OBJECT = IMAGE
  INTERCHANGE_FORMAT = BINARY
  LINES = 25467
  LINE_SAMPLES = 3931
  SAMPLE_TYPE = UNSIGNED_INTEGER
  SAMPLE_BITS = 8
  BANDS = 1
  BAND_STORAGE_TYPE = BAND_SEQUENTIAL
  MAXIMUM = 255
  MEAN = 135.286
  MINIMUM = 1
  STANDARD_DEVIATION = 45.1981
END_OBJECT = IMAGE
/* MAP OBJECT DEFINITIONS */
OBJECT = IMAGE_MAP_PROJECTION
  ^DATA_SET_MAP_PROJECTION_CATALOG= "DSMAP.CAT"
  A_AXIS_RADIUS = 3396.0
  B_AXIS_RADIUS = 3396.0
  C_AXIS_RADIUS = 3396.0
  CENTER_LATITUDE = 0.0
  CENTER_LONGITUDE = 262.0
  COORDINATE_SYSTEM_NAME = PLANETOGRAPHIC
  COORDINATE_SYSTEM_TYPE = "BODY-FIXED ROTATING"
  EASTERNMOST_LONGITUDE = 264.588
  FIRST_STANDARD_PARALLEL = "N/A"
  LINE_FIRST_PIXEL = 1
  LINE_LAST_PIXEL = 25467
  LINE_PROJECTION_OFFSET = 11949.0
  MAP_PROJECTION_ROTATION = 0.0
  MAP_PROJECTION_TYPE = SINUSOIDAL
  MAP_RESOLUTION = 592.713803866667
  MAP_SCALE = 0.1
  MAXIMUM_LATITUDE = 20.1611
  MINIMUM_LATITUDE = -22.803
  POSITIVE_LONGITUDE_DIRECTION = EAST
  REFERENCE_LATITUDE = "N/A"
  REFERENCE_LONGITUDE = "N/A"
  SAMPLE_FIRST_PIXEL = 1
  SAMPLE_LAST_PIXEL = 3931
  SAMPLE_PROJECTION_OFFSET = 2490.0
  SECOND_STANDARD_PARALLEL = "N/A"
  WESTERNMOST_LONGITUDE = 257.535
END_OBJECT = IMAGE_MAP_PROJECTION
END
