PDS_VERSION_ID = PDS3
/* FILE DATA ELEMENTS */
RECORD_TYPE = UNDEFINED
/* POINTERS TO DATA OBJECTS */
^IMAGE = ("HA646_0000_RE4.TIF")
/* IDENTIFICATION DATA ELEMENTS */
DATA_SET_ID = "MEX-M-HRSC-4-REFDR-MAPPROJECT-EXT3-V4.0"
DATA_SET_NAME = "MARS EXPRESS HRSC MAP PROJECTED REFDR EXTENSION3 V4.0"
DETECTOR_ID = MEX_HRSC_RED
EVENT_TYPE = "MARS-REGIONAL-MAPPING-Te-Im-Fl"
INSTRUMENT_HOST_ID = MEX
INSTRUMENT_HOST_NAME = "MARS EXPRESS"
INSTRUMENT_ID = HRSC
INSTRUMENT_NAME = "HIGH RESOLUTION STEREO CAMERA"
MISSION_NAME = "MARS EXPRESS"
MISSION_PHASE_NAME = ME_Phase_25
PROCESSING_LEVEL_ID = 4
PRODUCT_CREATION_TIME = 2023-02-05T03:55:10.000Z
PRODUCT_ID = "HA646_0000_RE4.TIF"
RELEASE_ID = 0009
REVISION_ID = 0000
/* QUALITY DATA ELEMENTS */
DATA_QUALITY_ID = 1
DATA_QUALITY_DESC = "Data calculated based on original SPICE kernels"
/* TIME DATA ELEMENTS */
SPACECRAFT_CLOCK_START_COUNT = "1/0284757526.09048"
SPACECRAFT_CLOCK_STOP_COUNT = "1/0284757759.08336"
START_TIME = 2012-05-10T19:18:54.942Z
STOP_TIME = 2012-05-10T19:21:25.348Z
/* ORBITAL DATA ELEMENTS */
ASCENDING_NODE_LONGITUDE = 14.12
MAXIMUM_RESOLUTION = 0.0586
FOOTPRINT_POINT_LATITUDE = (-46.6453,-46.6365,-46.6269,-46.6165, -46.6053,-46.5933,-46.5719,-46.5711, -46.5214,-46.3452,-45.9938,-45.6416, -45.3763,-45.1993,-45.0208,-44.6685, -44.4908,-44.1391,-43.786,-43.4337, -43.1695,-42.9932,-42.7855,-42.5754, -42.2603,-41.9459,-41.7364,-41.4236, -41.2141,-41.005,-40.797,-40.5883, -40.2744,-40.0629,-39.8566,-39.6466, -39.437,-39.2279,-39.0194,-38.8103, -38.6013,-38.3927,-38.0809,-37.8727, -37.6653,-37.3549,-37.146,-36.8279, -36.7212,-36.6432,-36.6552,-36.6692, -36.682,-36.6915,-36.6918,-36.693, -36.9068,-37.1199,-37.4325,-37.6415, -37.8503,-38.1621,-38.4777,-38.685, -38.8935,-39.2081,-39.4183,-39.6279, -39.9424,-40.1527,-40.3635,-40.5739, -40.7843,-41.1004,-41.3103,-41.5202, -41.7298,-42.0443,-42.2547,-42.4643, -42.675,-42.8847,-43.0879,-43.2647, -43.5292,-43.7057,-43.8824,-44.1472, -44.3237,-44.5008,-44.6779,-44.8548, -45.121,-45.4747,-45.6541,-46.0053, -46.2698,-46.4462,-46.5344,-46.6453)
FOOTPRINT_POINT_LONGITUDE = (151.765,151.508,151.25,150.991,150.731 ,150.47,150.044,150.028,149.991,150.003 ,150.027,150.05,150.065,150.075,150.084 ,150.105,150.114,150.133,150.151, 150.169,150.182,150.19,150.2,150.209, 150.223,150.237,150.246,150.26,150.268, 150.276,150.285,150.293,150.304,150.31, 150.318,150.324,150.331,150.337,150.343 ,150.349,150.354,150.36,150.369,150.374 ,150.379,150.387,150.392,150.397,150.4, 150.401,150.788,151.275,151.745,152.178 ,152.195,152.201,152.194,152.187, 152.177,152.17,152.163,152.153,152.142, 152.135,152.128,152.116,152.108,152.101 ,152.089,152.081,152.072,152.064, 152.056,152.043,152.034,152.025,152.017 ,152.004,151.995,151.986,151.976, 151.967,151.958,151.95,151.938,151.929, 151.921,151.908,151.899,151.891,151.882 ,151.873,151.859,151.84,151.83,151.812, 151.798,151.788,151.783,151.765)
ORBIT_NUMBER = 10646
ORBITAL_ECCENTRICITY = 0.577
ORBITAL_INCLINATION = 86.87
ORBITAL_SEMIMAJOR_AXIS = 8783.96
PERIAPSIS_ALTITUDE = 330.69
PERIAPSIS_ARGUMENT_ANGLE = 300.62
PERIAPSIS_TIME = 2012-05-10T19:16:07.000Z
SPACECRAFT_ORIENTATION = (0.0,1.0,0.0)
^MEX_ORIENTATION_DESC = "MEX_ORIENTATION_DESC.TXT"
SPACECRAFT_POINTING_MODE = ACROSSTRACK
^MEX_POINTING_DESC = "MEX_POINTING_DESC.TXT"
RIGHT_ASCENSION = -1e+32
DECLINATION = -1e+32
OFFSET_ANGLE = 0.3
SPACECRAFT_SOLAR_DISTANCE = 2.44005e+08
TARGET_NAME = MARS
/* CAMERA DATA ELEMENTS */
DETECTOR_TEMPERATURE = 17.1471
FOCAL_PLANE_TEMPERATURE = 8.1755
INST_CMPRS_NAME = "DISCRETE COSINE TRANSFORMATION (DCT)"
INST_CMPRS_RATIO = 6.62119
INST_CMPRS_QUALITY = 0
INST_CMPRS_QUANTZ_TBL_ID = 0
INSTRUMENT_TEMPERATURE = 11.6418
LENS_TEMPERATURE = 8.3794
MACROPIXEL_SIZE = 4
MISSING_FRAMES = 0
PIXEL_SUBSAMPLING_FLAG = N
SIGNAL_CHAIN_ID = 2
/* RADIOMETRIC DATA ELEMENTS */
BANDWIDTH = 48.0
CENTER_FILTER_WAVELENGTH = 748.0
RADIANCE_OFFSET = 0.0558958
RADIANCE_SCALING_FACTOR = 0.00479107
REFLECTANCE_SCALING_FACTOR = 0.000650958
MEX:REFLECTANCE_OFFSET = 0.00759451
/* IMAGE OBJECT DEFINITIONS */
OBJECT = IMAGE
  INTERCHANGE_FORMAT = BINARY
  LINES = 11768
  LINE_SAMPLES = 2017
  SAMPLE_TYPE = UNSIGNED_INTEGER
  SAMPLE_BITS = 8
  BANDS = 1
  BAND_STORAGE_TYPE = BAND_SEQUENTIAL
  MAXIMUM = 255
  MEAN = 80.9518
  MINIMUM = 1
  STANDARD_DEVIATION = 18.6879
END_OBJECT = IMAGE
/* MAP OBJECT DEFINITIONS */
OBJECT = IMAGE_MAP_PROJECTION
  ^DATA_SET_MAP_PROJECTION_CATALOG= "DSMAP.CAT"
  A_AXIS_RADIUS = 3396.0
  B_AXIS_RADIUS = 3396.0
  C_AXIS_RADIUS = 3396.0
  CENTER_LATITUDE = 0.0
  CENTER_LONGITUDE = 151.0
  COORDINATE_SYSTEM_NAME = PLANETOGRAPHIC
  COORDINATE_SYSTEM_TYPE = "BODY-FIXED ROTATING"
  EASTERNMOST_LONGITUDE = 152.201
  FIRST_STANDARD_PARALLEL = "N/A"
  LINE_FIRST_PIXEL = 1
  LINE_LAST_PIXEL = 11768
  LINE_PROJECTION_OFFSET = -43429.375
  MAP_PROJECTION_ROTATION = 0.0
  MAP_PROJECTION_TYPE = SINUSOIDAL
  MAP_RESOLUTION = 1185.42760773333
  MAP_SCALE = 0.05
  MAXIMUM_LATITUDE = -36.6432
  MINIMUM_LATITUDE = -46.6453
  POSITIVE_LONGITUDE_DIRECTION = EAST
  REFERENCE_LATITUDE = "N/A"
  REFERENCE_LONGITUDE = "N/A"
  SAMPLE_FIRST_PIXEL = 1
  SAMPLE_LAST_PIXEL = 2017
  SAMPLE_PROJECTION_OFFSET = 839.625
  SECOND_STANDARD_PARALLEL = "N/A"
  WESTERNMOST_LONGITUDE = 149.991
END_OBJECT = IMAGE_MAP_PROJECTION
END
