PDS_VERSION_ID = PDS3
/* FILE DATA ELEMENTS */
RECORD_TYPE = UNDEFINED
/* POINTERS TO DATA OBJECTS */
^IMAGE = ("HA646_0000_IR4.TIF")
/* IDENTIFICATION DATA ELEMENTS */
DATA_SET_ID = "MEX-M-HRSC-4-REFDR-MAPPROJECT-EXT3-V4.0"
DATA_SET_NAME = "MARS EXPRESS HRSC MAP PROJECTED REFDR EXTENSION3 V4.0"
DETECTOR_ID = MEX_HRSC_IR
EVENT_TYPE = "MARS-REGIONAL-MAPPING-Te-Im-Fl"
INSTRUMENT_HOST_ID = MEX
INSTRUMENT_HOST_NAME = "MARS EXPRESS"
INSTRUMENT_ID = HRSC
INSTRUMENT_NAME = "HIGH RESOLUTION STEREO CAMERA"
MISSION_NAME = "MARS EXPRESS"
MISSION_PHASE_NAME = ME_Phase_25
PROCESSING_LEVEL_ID = 4
PRODUCT_CREATION_TIME = 2023-02-05T03:55:10.000Z
PRODUCT_ID = "HA646_0000_IR4.TIF"
RELEASE_ID = 0009
REVISION_ID = 0000
/* QUALITY DATA ELEMENTS */
DATA_QUALITY_ID = 1
DATA_QUALITY_DESC = "Data calculated based on original SPICE kernels"
/* TIME DATA ELEMENTS */
SPACECRAFT_CLOCK_START_COUNT = "1/0284757526.09048"
SPACECRAFT_CLOCK_STOP_COUNT = "1/0284757759.08336"
START_TIME = 2012-05-10T19:19:49.476Z
STOP_TIME = 2012-05-10T19:22:33.245Z
/* ORBITAL DATA ELEMENTS */
ASCENDING_NODE_LONGITUDE = 14.12
MAXIMUM_RESOLUTION = 0.0616
FOOTPRINT_POINT_LATITUDE = (-46.4983,-46.4917,-46.4832,-46.4689, -46.4686,-46.5115,-46.2168,-46.0195, -45.8234,-45.5299,-45.2382,-44.9471, -44.7515,-44.3651,-44.0741,-43.8808, -43.5912,-43.3983,-43.2054,-43.013, -42.8207,-42.6285,-42.2451,-41.8619, -41.5748,-41.1928,-40.9041,-40.7081, -40.5125,-40.1261,-39.931,-39.7328, -39.5346,-39.2304,-39.0334,-38.8358, -38.6339,-38.4327,-38.23,-38.0288, -37.8274,-37.6205,-37.4146,-37.2089, -37.0059,-36.7991,-36.6945,-36.6297, -36.636,-36.6392,-36.6414,-36.6418, -36.6413,-36.6411,-36.6422,-36.9552, -37.1599,-37.3659,-37.674,-37.8793, -38.0807,-38.3832,-38.6873,-38.8905, -39.0883,-39.2859,-39.4916,-39.7893, -39.9862,-40.1801,-40.3745,-40.5689, -40.8603,-41.054,-41.436,-41.7223, -42.0108,-42.2027,-42.3953,-42.5878, -42.7811,-42.9741,-43.1674,-43.4572, -43.6507,-43.8445,-44.1355,-44.3299, -44.5244,-44.7189,-44.9137,-45.108, -45.3018,-45.4976,-45.6911,-45.8881, -46.0869,-46.3828,-46.4815,-46.4983)
FOOTPRINT_POINT_LONGITUDE = (151.821,151.279,150.733,150.011, 149.994,149.95,149.969,149.982,149.994, 150.011,150.027,150.042,150.053,150.072 ,150.086,150.095,150.109,150.117, 150.126,150.134,150.143,150.151,150.166 ,150.181,150.192,150.206,150.217, 150.224,150.231,150.241,150.248,150.254 ,150.259,150.266,150.271,150.276,150.28 ,150.284,150.289,150.294,150.298, 150.302,150.307,150.311,150.313,150.316 ,150.318,150.319,150.78,151.204,151.628 ,151.921,152.269,152.287,152.293, 152.282,152.274,152.267,152.255,152.247 ,152.239,152.227,152.216,152.208,152.2, 152.192,152.183,152.171,152.162,152.154 ,152.146,152.137,152.124,152.115, 152.098,152.085,152.072,152.063,152.054 ,152.044,152.035,152.026,152.016, 152.002,151.992,151.982,151.967,151.956 ,151.946,151.935,151.925,151.914, 151.903,151.892,151.88,151.869,151.858, 151.841,151.835,151.821)
ORBIT_NUMBER = 10646
ORBITAL_ECCENTRICITY = 0.577
ORBITAL_INCLINATION = 86.87
ORBITAL_SEMIMAJOR_AXIS = 8783.96
PERIAPSIS_ALTITUDE = 330.69
PERIAPSIS_ARGUMENT_ANGLE = 300.62
PERIAPSIS_TIME = 2012-05-10T19:16:07.000Z
SPACECRAFT_ORIENTATION = (0.0,1.0,0.0)
^MEX_ORIENTATION_DESC = "MEX_ORIENTATION_DESC.TXT"
SPACECRAFT_POINTING_MODE = ACROSSTRACK
^MEX_POINTING_DESC = "MEX_POINTING_DESC.TXT"
RIGHT_ASCENSION = -1e+32
DECLINATION = -1e+32
OFFSET_ANGLE = 0.3
SPACECRAFT_SOLAR_DISTANCE = 2.44005e+08
TARGET_NAME = MARS
/* CAMERA DATA ELEMENTS */
DETECTOR_TEMPERATURE = 17.7588
FOCAL_PLANE_TEMPERATURE = 8.1755
INST_CMPRS_NAME = "DISCRETE COSINE TRANSFORMATION (DCT)"
INST_CMPRS_RATIO = 6.33532
INST_CMPRS_QUALITY = 0
INST_CMPRS_QUANTZ_TBL_ID = 0
INSTRUMENT_TEMPERATURE = 11.6418
LENS_TEMPERATURE = 8.3794
MACROPIXEL_SIZE = 4
MISSING_FRAMES = 1
PIXEL_SUBSAMPLING_FLAG = N
SIGNAL_CHAIN_ID = 2
/* RADIOMETRIC DATA ELEMENTS */
BANDWIDTH = 81.0
CENTER_FILTER_WAVELENGTH = 955.5
RADIANCE_OFFSET = 0.0147286
RADIANCE_SCALING_FACTOR = 0.00447634
REFLECTANCE_SCALING_FACTOR = 0.000574971
MEX:REFLECTANCE_OFFSET = 0.00189184
/* IMAGE OBJECT DEFINITIONS */
OBJECT = IMAGE
  INTERCHANGE_FORMAT = BINARY
  LINES = 11768
  LINE_SAMPLES = 2017
  SAMPLE_TYPE = UNSIGNED_INTEGER
  SAMPLE_BITS = 8
  BANDS = 1
  BAND_STORAGE_TYPE = BAND_SEQUENTIAL
  MAXIMUM = 255
  MEAN = 81.1237
  MINIMUM = 1
  STANDARD_DEVIATION = 19.487
END_OBJECT = IMAGE
/* MAP OBJECT DEFINITIONS */
OBJECT = IMAGE_MAP_PROJECTION
  ^DATA_SET_MAP_PROJECTION_CATALOG= "DSMAP.CAT"
  A_AXIS_RADIUS = 3396.0
  B_AXIS_RADIUS = 3396.0
  C_AXIS_RADIUS = 3396.0
  CENTER_LATITUDE = 0.0
  CENTER_LONGITUDE = 151.0
  COORDINATE_SYSTEM_NAME = PLANETOGRAPHIC
  COORDINATE_SYSTEM_TYPE = "BODY-FIXED ROTATING"
  EASTERNMOST_LONGITUDE = 152.293
  FIRST_STANDARD_PARALLEL = "N/A"
  LINE_FIRST_PIXEL = 1
  LINE_LAST_PIXEL = 11768
  LINE_PROJECTION_OFFSET = -43429.375
  MAP_PROJECTION_ROTATION = 0.0
  MAP_PROJECTION_TYPE = SINUSOIDAL
  MAP_RESOLUTION = 1185.42760773333
  MAP_SCALE = 0.05
  MAXIMUM_LATITUDE = -36.6297
  MINIMUM_LATITUDE = -46.5115
  POSITIVE_LONGITUDE_DIRECTION = EAST
  REFERENCE_LATITUDE = "N/A"
  REFERENCE_LONGITUDE = "N/A"
  SAMPLE_FIRST_PIXEL = 1
  SAMPLE_LAST_PIXEL = 2017
  SAMPLE_PROJECTION_OFFSET = 839.625
  SECOND_STANDARD_PARALLEL = "N/A"
  WESTERNMOST_LONGITUDE = 149.95
END_OBJECT = IMAGE_MAP_PROJECTION
END
