PDS_VERSION_ID = PDS3
/* FILE DATA ELEMENTS */
RECORD_TYPE = UNDEFINED
/* POINTERS TO DATA OBJECTS */
^IMAGE = ("HA633_0000_P14.TIF")
/* IDENTIFICATION DATA ELEMENTS */
DATA_SET_ID = "MEX-M-HRSC-4-REFDR-MAPPROJECT-EXT3-V4.0"
DATA_SET_NAME = "MARS EXPRESS HRSC MAP PROJECTED REFDR EXTENSION3 V4.0"
DETECTOR_ID = MEX_HRSC_P1
EVENT_TYPE = "MARS-REGIONAL-MAPPING-Im-Fl"
INSTRUMENT_HOST_ID = MEX
INSTRUMENT_HOST_NAME = "MARS EXPRESS"
INSTRUMENT_ID = HRSC
INSTRUMENT_NAME = "HIGH RESOLUTION STEREO CAMERA"
MISSION_NAME = "MARS EXPRESS"
MISSION_PHASE_NAME = ME_Phase_25
PROCESSING_LEVEL_ID = 4
PRODUCT_CREATION_TIME = 2023-02-05T03:55:10.000Z
PRODUCT_ID = "HA633_0000_P14.TIF"
RELEASE_ID = 0009
REVISION_ID = 0000
/* QUALITY DATA ELEMENTS */
DATA_QUALITY_ID = 1
DATA_QUALITY_DESC = "Data calculated based on original SPICE kernels"
/* TIME DATA ELEMENTS */
SPACECRAFT_CLOCK_START_COUNT = "1/0284430394.09046"
SPACECRAFT_CLOCK_STOP_COUNT = "1/0284430612.34545"
START_TIME = 2012-05-07T00:27:34.063Z
STOP_TIME = 2012-05-07T00:29:57.939Z
/* ORBITAL DATA ELEMENTS */
ASCENDING_NODE_LONGITUDE = 14.37
MAXIMUM_RESOLUTION = 0.0315
FOOTPRINT_POINT_LATITUDE = (-41.6549,-41.6529,-41.6479,-41.6445, -41.6406,-41.6334,-41.6331,-41.662, -41.4925,-41.3234,-41.1546,-40.9858, -40.6492,-40.4806,-40.1491,-39.8982, -39.6463,-39.4768,-39.1439,-38.7278, -38.3954,-38.1412,-37.9707,-37.6342, -37.3793,-37.122,-36.948,-36.7756, -36.6034,-36.3455,-36.1731,-35.909, -35.7329,-35.5569,-35.3811,-35.2052, -34.9369,-34.7579,-34.5787,-34.4003, -34.2226,-34.0391,-33.8567,-33.6746, -33.4917,-33.3087,-33.124,-33.0317, -32.9963,-32.9961,-32.9983,-32.9992, -32.999,-32.9991,-32.9982,-32.9974, -32.9974,-32.9979,-33.1841,-33.3696, -33.5521,-33.735,-33.9175,-34.1007, -34.2825,-34.4614,-34.7302,-34.9095, -35.0896,-35.3556,-35.5313,-35.7074, -35.8838,-36.0602,-36.2346,-36.4131, -36.5883,-36.7609,-36.9318,-37.1067, -37.2802,-37.5342,-37.7035,-38.0377, -38.2095,-38.5435,-38.7941,-39.0451, -39.2959,-39.6308,-39.9661,-40.2181, -40.5543,-40.8074,-40.9761,-41.1451, -41.3989,-41.5682,-41.653,-41.6549)
FOOTPRINT_POINT_LONGITUDE = (41.144,40.8732,40.3801,40.1069,39.8328 ,39.4019,39.3846,39.3499,39.357,39.3637 ,39.3701,39.3765,39.3885,39.3947, 39.4019,39.4096,39.4182,39.4254,39.4343 ,39.4456,39.4543,39.4611,39.4656, 39.4705,39.4766,39.483,39.4869,39.4895, 39.4919,39.4954,39.4982,39.5021,39.5045 ,39.5069,39.5092,39.5117,39.5146, 39.5163,39.5181,39.5194,39.5202,39.5222 ,39.5236,39.5247,39.5265,39.5283, 39.5283,39.5283,39.5284,39.8314,40.038, 40.3946,40.6381,40.9557,41.2349,41.4394 ,41.458,41.4646,41.4593,41.4538,41.4485 ,41.4432,41.4376,41.4321,41.4265, 41.4209,41.4124,41.4065,41.4009,41.3924 ,41.3865,41.3807,41.3748,41.3688, 41.3627,41.3587,41.3536,41.3474,41.3406 ,41.3349,41.3292,41.32,41.3137,41.2994, 41.2936,41.2804,41.2713,41.262,41.2524, 41.2393,41.2259,41.2157,41.2017,41.1912 ,41.1841,41.1769,41.166,41.1587,41.155, 41.144)
ORBIT_NUMBER = 10633
ORBITAL_ECCENTRICITY = 0.578
ORBITAL_INCLINATION = 86.87
ORBITAL_SEMIMAJOR_AXIS = 8787.95
PERIAPSIS_ALTITUDE = 330.27
PERIAPSIS_ARGUMENT_ANGLE = 302.81
PERIAPSIS_TIME = 2012-05-07T00:23:15.000Z
SPACECRAFT_ORIENTATION = (0.0,1.0,0.0)
^MEX_ORIENTATION_DESC = "MEX_ORIENTATION_DESC.TXT"
SPACECRAFT_POINTING_MODE = ACROSSTRACK
^MEX_POINTING_DESC = "MEX_POINTING_DESC.TXT"
RIGHT_ASCENSION = -1e+32
DECLINATION = -1e+32
OFFSET_ANGLE = 0.3
SPACECRAFT_SOLAR_DISTANCE = 2.44448e+08
TARGET_NAME = MARS
/* CAMERA DATA ELEMENTS */
DETECTOR_TEMPERATURE = 17.5549
FOCAL_PLANE_TEMPERATURE = 8.5833
INST_CMPRS_NAME = "DISCRETE COSINE TRANSFORMATION (DCT)"
INST_CMPRS_RATIO = 8.21322
INST_CMPRS_QUALITY = 0
INST_CMPRS_QUANTZ_TBL_ID = 0
INSTRUMENT_TEMPERATURE = 11.8457
LENS_TEMPERATURE = 8.7872
MACROPIXEL_SIZE = 2
MISSING_FRAMES = 0
PIXEL_SUBSAMPLING_FLAG = N
SIGNAL_CHAIN_ID = 3
/* RADIOMETRIC DATA ELEMENTS */
BANDWIDTH = 174.0
CENTER_FILTER_WAVELENGTH = 675.0
RADIANCE_OFFSET = 0.985107
RADIANCE_SCALING_FACTOR = 0.0120606
REFLECTANCE_SCALING_FACTOR = 0.000387637
MEX:REFLECTANCE_OFFSET = 0.031662
/* IMAGE OBJECT DEFINITIONS */
OBJECT = IMAGE
  INTERCHANGE_FORMAT = BINARY
  LINES = 20643
  LINE_SAMPLES = 3936
  SAMPLE_TYPE = UNSIGNED_INTEGER
  SAMPLE_BITS = 8
  BANDS = 1
  BAND_STORAGE_TYPE = BAND_SEQUENTIAL
  MAXIMUM = 255
  MEAN = 121.184
  MINIMUM = 1
  STANDARD_DEVIATION = 34.1337
END_OBJECT = IMAGE
/* MAP OBJECT DEFINITIONS */
OBJECT = IMAGE_MAP_PROJECTION
  ^DATA_SET_MAP_PROJECTION_CATALOG= "DSMAP.CAT"
  A_AXIS_RADIUS = 3396.0
  B_AXIS_RADIUS = 3396.0
  C_AXIS_RADIUS = 3396.0
  CENTER_LATITUDE = 0.0
  CENTER_LONGITUDE = 40.0
  COORDINATE_SYSTEM_NAME = PLANETOGRAPHIC
  COORDINATE_SYSTEM_TYPE = "BODY-FIXED ROTATING"
  EASTERNMOST_LONGITUDE = 41.4646
  FIRST_STANDARD_PARALLEL = "N/A"
  LINE_FIRST_PIXEL = 1
  LINE_LAST_PIXEL = 20643
  LINE_PROJECTION_OFFSET = -78236.75
  MAP_PROJECTION_ROTATION = 0.0
  MAP_PROJECTION_TYPE = SINUSOIDAL
  MAP_RESOLUTION = 2370.85521546667
  MAP_SCALE = 0.025
  MAXIMUM_LATITUDE = -32.9961
  MINIMUM_LATITUDE = -41.662
  POSITIVE_LONGITUDE_DIRECTION = EAST
  REFERENCE_LATITUDE = "N/A"
  REFERENCE_LONGITUDE = "N/A"
  SAMPLE_FIRST_PIXEL = 1
  SAMPLE_LAST_PIXEL = 3936
  SAMPLE_PROJECTION_OFFSET = 1112.75
  SECOND_STANDARD_PARALLEL = "N/A"
  WESTERNMOST_LONGITUDE = 39.3499
END_OBJECT = IMAGE_MAP_PROJECTION
END
