PDS_VERSION_ID = PDS3
/* FILE DATA ELEMENTS */
RECORD_TYPE = UNDEFINED
/* POINTERS TO DATA OBJECTS */
^IMAGE = ("HA632_0000_P14.TIF")
/* IDENTIFICATION DATA ELEMENTS */
DATA_SET_ID = "MEX-M-HRSC-4-REFDR-MAPPROJECT-EXT3-V4.0"
DATA_SET_NAME = "MARS EXPRESS HRSC MAP PROJECTED REFDR EXTENSION3 V4.0"
DETECTOR_ID = MEX_HRSC_P1
EVENT_TYPE = "MARS-REGIONAL-MAPPING-Im-Fl"
INSTRUMENT_HOST_ID = MEX
INSTRUMENT_HOST_NAME = "MARS EXPRESS"
INSTRUMENT_ID = HRSC
INSTRUMENT_NAME = "HIGH RESOLUTION STEREO CAMERA"
MISSION_NAME = "MARS EXPRESS"
MISSION_PHASE_NAME = ME_Phase_25
PROCESSING_LEVEL_ID = 4
PRODUCT_CREATION_TIME = 2023-02-05T03:55:10.000Z
PRODUCT_ID = "HA632_0000_P14.TIF"
RELEASE_ID = 0009
REVISION_ID = 0000
/* QUALITY DATA ELEMENTS */
DATA_QUALITY_ID = 1
DATA_QUALITY_DESC = "Data calculated based on original SPICE kernels"
/* TIME DATA ELEMENTS */
SPACECRAFT_CLOCK_START_COUNT = "1/0284405178.09046"
SPACECRAFT_CLOCK_STOP_COUNT = "1/0284405357.57526"
START_TIME = 2012-05-06T17:27:15.180Z
STOP_TIME = 2012-05-06T17:29:05.704Z
/* ORBITAL DATA ELEMENTS */
ASCENDING_NODE_LONGITUDE = 14.39
MAXIMUM_RESOLUTION = 0.0297
FOOTPRINT_POINT_LATITUDE = (-44.8083,-44.7987,-44.791,-44.783, -44.7744,-44.7655,-44.7561,-44.7555, -44.7806,-44.5433,-44.2459,-44.0083, -43.8115,-43.6699,-43.4577,-43.3164, -43.1045,-42.9632,-42.8223,-42.6816, -42.5409,-42.4005,-42.2603,-42.1199, -41.9795,-41.8393,-41.6995,-41.4891, -41.3488,-41.2091,-41.0697,-40.9297, -40.72,-40.5106,-40.371,-40.0943, -39.8865,-39.7478,-39.6095,-39.4025, -39.1266,-38.8509,-38.5755,-38.3007, -38.161,-38.0202,-37.9497,-37.9409, -37.9484,-37.9538,-37.9602,-37.9686, -37.9783,-37.9819,-37.986,-37.9863, -37.9865,-38.1285,-38.2676,-38.4719, -38.6772,-38.9539,-39.1613,-39.2995, -39.4382,-39.5769,-39.7158,-39.9244, -40.0634,-40.2026,-40.3417,-40.4806, -40.6208,-40.7604,-40.9001,-41.0402, -41.1803,-41.3202,-41.4595,-41.5999, -41.7406,-41.8811,-42.0919,-42.2324, -42.4436,-42.5848,-42.7257,-42.8669, -43.0083,-43.2203,-43.3615,-43.5044, -43.6445,-43.7866,-43.9959,-44.2936, -44.4725,-44.7705,-44.8301,-44.8083)
FOOTPRINT_POINT_LONGITUDE = (144.376,143.994,143.719,143.445, 143.174,142.904,142.635,142.619,142.609 ,142.617,142.627,142.634,142.64,142.644 ,142.651,142.655,142.66,142.664,142.668 ,142.671,142.675,142.678,142.682, 142.685,142.688,142.691,142.694,142.698 ,142.701,142.704,142.707,142.709, 142.713,142.717,142.719,142.723,142.726 ,142.728,142.73,142.732,142.736,142.739 ,142.741,142.744,142.745,142.746, 142.747,142.747,143.026,143.255,143.538 ,143.894,144.13,144.311,144.565,144.583 ,144.589,144.587,144.582,144.574, 144.568,144.563,144.558,144.555,144.552 ,144.549,144.546,144.542,144.538, 144.535,144.532,144.528,144.525,144.522 ,144.519,144.516,144.513,144.509, 144.504,144.501,144.498,144.494,144.489 ,144.485,144.479,144.476,144.472, 144.468,144.464,144.458,144.454,144.452 ,144.446,144.442,144.436,144.427, 144.422,144.412,144.41,144.376)
ORBIT_NUMBER = 10632
ORBITAL_ECCENTRICITY = 0.578
ORBITAL_INCLINATION = 86.87
ORBITAL_SEMIMAJOR_AXIS = 8788.25
PERIAPSIS_ALTITUDE = 330.71
PERIAPSIS_ARGUMENT_ANGLE = 302.99
PERIAPSIS_TIME = 2012-05-06T17:23:49.000Z
SPACECRAFT_ORIENTATION = (0.0,1.0,0.0)
^MEX_ORIENTATION_DESC = "MEX_ORIENTATION_DESC.TXT"
SPACECRAFT_POINTING_MODE = ACROSSTRACK
^MEX_POINTING_DESC = "MEX_POINTING_DESC.TXT"
RIGHT_ASCENSION = -1e+32
DECLINATION = -1e+32
OFFSET_ANGLE = -0.5
SPACECRAFT_SOLAR_DISTANCE = 2.44481e+08
TARGET_NAME = MARS
/* CAMERA DATA ELEMENTS */
DETECTOR_TEMPERATURE = 17.7588
FOCAL_PLANE_TEMPERATURE = 8.5833
INST_CMPRS_NAME = "DISCRETE COSINE TRANSFORMATION (DCT)"
INST_CMPRS_RATIO = 4.15197
INST_CMPRS_QUALITY = 0
INST_CMPRS_QUANTZ_TBL_ID = 0
INSTRUMENT_TEMPERATURE = 11.6418
LENS_TEMPERATURE = 8.9911
MACROPIXEL_SIZE = 2
MISSING_FRAMES = 0
PIXEL_SUBSAMPLING_FLAG = N
SIGNAL_CHAIN_ID = 3
/* RADIOMETRIC DATA ELEMENTS */
BANDWIDTH = 174.0
CENTER_FILTER_WAVELENGTH = 675.0
RADIANCE_OFFSET = 0.288324
RADIANCE_SCALING_FACTOR = 0.0169602
REFLECTANCE_SCALING_FACTOR = 0.000545263
MEX:REFLECTANCE_OFFSET = 0.00926947
/* IMAGE OBJECT DEFINITIONS */
OBJECT = IMAGE
  INTERCHANGE_FORMAT = BINARY
  LINES = 16290
  LINE_SAMPLES = 3352
  SAMPLE_TYPE = UNSIGNED_INTEGER
  SAMPLE_BITS = 8
  BANDS = 1
  BAND_STORAGE_TYPE = BAND_SEQUENTIAL
  MAXIMUM = 255
  MEAN = 90.0076
  MINIMUM = 1
  STANDARD_DEVIATION = 18.7771
END_OBJECT = IMAGE
/* MAP OBJECT DEFINITIONS */
OBJECT = IMAGE_MAP_PROJECTION
  ^DATA_SET_MAP_PROJECTION_CATALOG= "DSMAP.CAT"
  A_AXIS_RADIUS = 3396.0
  B_AXIS_RADIUS = 3396.0
  C_AXIS_RADIUS = 3396.0
  CENTER_LATITUDE = 0.0
  CENTER_LONGITUDE = 144.0
  COORDINATE_SYSTEM_NAME = PLANETOGRAPHIC
  COORDINATE_SYSTEM_TYPE = "BODY-FIXED ROTATING"
  EASTERNMOST_LONGITUDE = 144.589
  FIRST_STANDARD_PARALLEL = "N/A"
  LINE_FIRST_PIXEL = 1
  LINE_LAST_PIXEL = 16290
  LINE_PROJECTION_OFFSET = -90011.75
  MAP_PROJECTION_ROTATION = 0.0
  MAP_PROJECTION_TYPE = SINUSOIDAL
  MAP_RESOLUTION = 2370.85521546667
  MAP_SCALE = 0.025
  MAXIMUM_LATITUDE = -37.9409
  MINIMUM_LATITUDE = -44.8301
  POSITIVE_LONGITUDE_DIRECTION = EAST
  REFERENCE_LATITUDE = "N/A"
  REFERENCE_LONGITUDE = "N/A"
  SAMPLE_FIRST_PIXEL = 1
  SAMPLE_LAST_PIXEL = 3352
  SAMPLE_PROJECTION_OFFSET = 2317.25
  SECOND_STANDARD_PARALLEL = "N/A"
  WESTERNMOST_LONGITUDE = 142.609
END_OBJECT = IMAGE_MAP_PROJECTION
END
