PDS_VERSION_ID = PDS3
/* FILE DATA ELEMENTS */
RECORD_TYPE = UNDEFINED
/* POINTERS TO DATA OBJECTS */
^IMAGE = ("HA631_0000_RE4.TIF")
/* IDENTIFICATION DATA ELEMENTS */
DATA_SET_ID = "MEX-M-HRSC-4-REFDR-MAPPROJECT-EXT3-V4.0"
DATA_SET_NAME = "MARS EXPRESS HRSC MAP PROJECTED REFDR EXTENSION3 V4.0"
DETECTOR_ID = MEX_HRSC_RED
EVENT_TYPE = "MARS-CLOUD-VARIABLE-At"
INSTRUMENT_HOST_ID = MEX
INSTRUMENT_HOST_NAME = "MARS EXPRESS"
INSTRUMENT_ID = HRSC
INSTRUMENT_NAME = "HIGH RESOLUTION STEREO CAMERA"
MISSION_NAME = "MARS EXPRESS"
MISSION_PHASE_NAME = ME_Phase_25
PROCESSING_LEVEL_ID = 4
PRODUCT_CREATION_TIME = 2023-02-05T03:55:10.000Z
PRODUCT_ID = "HA631_0000_RE4.TIF"
RELEASE_ID = 0009
REVISION_ID = 0000
/* QUALITY DATA ELEMENTS */
DATA_QUALITY_ID = 1
DATA_QUALITY_DESC = "Data calculated based on original SPICE kernels"
/* TIME DATA ELEMENTS */
SPACECRAFT_CLOCK_START_COUNT = "1/0284380299.08410"
SPACECRAFT_CLOCK_STOP_COUNT = "1/0284381643.12168"
START_TIME = 2012-05-06T10:31:42.886Z
STOP_TIME = 2012-05-06T10:45:03.806Z
/* ORBITAL DATA ELEMENTS */
ASCENDING_NODE_LONGITUDE = 14.41
MAXIMUM_RESOLUTION = 0.0815
FOOTPRINT_POINT_LATITUDE = (-26.0294,-26.0251,-26.0248,-26.0321, -24.6723,-23.2676,-21.8192,-20.3212, -18.7702,-17.1614,-16.3341,-15.4902, -14.6313,-13.7535,-12.8577,-11.943, -11.0085,-10.0536,-9.07802,-8.08389, -6.55177,-5.52851,-4.50946,-3.49737, -2.49361,-1.49839,-0.509873,0.474003, 1.45157,2.41902,3.37819,4.32915,5.27096 ,6.20538,7.13254,8.05405,8.96715, 9.87186,10.7689,11.6588,12.5409,13.4159 ,14.2837,15.1448,15.9985,16.8453, 17.6854,18.1026,18.2353,18.2799,18.3433 ,18.3909,18.4702,18.4726,18.4719, 17.6284,16.7791,15.922,15.0581,14.1871, 13.3088,12.4231,11.5304,10.6303,9.72302 ,8.34616,7.422,6.48908,5.07573,4.12497, 2.64643,1.65412,0.674342,-0.307256, -1.27614,-2.26419,-3.26714,-4.27781, -5.2966,-6.32355,-7.35691,-8.37383, -9.36751,-10.3396,-11.2909,-12.2222, -13.1337,-14.0258,-14.8996,-15.757, -16.5973,-17.4215,-18.232,-19.8058, -21.3251,-22.7955,-24.2153,-25.5939, -25.9315,-26.0294)
FOOTPRINT_POINT_LONGITUDE = (246.346,244.466,244.448,244.447, 244.425,244.397,244.364,244.325,244.278 ,244.225,244.195,244.163,244.129, 244.092,244.053,244.011,243.966,243.919 ,243.868,243.815,243.729,243.668, 243.604,243.537,243.469,243.4,243.328, 243.253,243.176,243.099,243.019,242.938 ,242.856,242.772,242.686,242.598, 242.508,242.417,242.324,242.229,242.133 ,242.035,241.934,241.832,241.728, 241.622,241.514,241.46,241.442,242.686, 244.022,245.063,246.703,246.753,246.77, 246.754,246.739,246.724,246.71,246.697, 246.684,246.672,246.661,246.65,246.639, 246.623,246.614,246.605,246.592,246.585 ,246.561,246.546,246.538,246.532, 246.532,246.529,246.524,246.518,246.513 ,246.507,246.5,246.494,246.488,246.482, 246.476,246.469,246.463,246.457,246.451 ,246.445,246.438,246.432,246.425, 246.411,246.396,246.381,246.365,246.348 ,246.344,246.346)
ORBIT_NUMBER = 10631
ORBITAL_ECCENTRICITY = 0.578
ORBITAL_INCLINATION = 86.88
ORBITAL_SEMIMAJOR_AXIS = 8786.55
PERIAPSIS_ALTITUDE = 329.42
PERIAPSIS_ARGUMENT_ANGLE = 303.13
PERIAPSIS_TIME = 2012-05-06T10:24:19.000Z
SPACECRAFT_ORIENTATION = (0.0,1.0,0.0)
^MEX_ORIENTATION_DESC = "MEX_ORIENTATION_DESC.TXT"
SPACECRAFT_POINTING_MODE = NADIR
^MEX_POINTING_DESC = "MEX_POINTING_DESC.TXT"
RIGHT_ASCENSION = -1e+32
DECLINATION = -1e+32
OFFSET_ANGLE = -1e+32
SPACECRAFT_SOLAR_DISTANCE = 2.44514e+08
TARGET_NAME = MARS
/* CAMERA DATA ELEMENTS */
DETECTOR_TEMPERATURE = 18.9822
FOCAL_PLANE_TEMPERATURE = 8.3794
INST_CMPRS_NAME = "DISCRETE COSINE TRANSFORMATION (DCT)"
INST_CMPRS_RATIO = 26.6591
INST_CMPRS_QUALITY = 0
INST_CMPRS_QUANTZ_TBL_ID = 0
INSTRUMENT_TEMPERATURE = 11.6418
LENS_TEMPERATURE = 8.5833
MACROPIXEL_SIZE = 4
MISSING_FRAMES = 0
PIXEL_SUBSAMPLING_FLAG = N
SIGNAL_CHAIN_ID = 2
/* RADIOMETRIC DATA ELEMENTS */
BANDWIDTH = 48.0
CENTER_FILTER_WAVELENGTH = 748.0
RADIANCE_OFFSET = 0.246326
RADIANCE_SCALING_FACTOR = 0.0117125
REFLECTANCE_SCALING_FACTOR = 0.00159803
MEX:REFLECTANCE_OFFSET = 0.033608
/* IMAGE OBJECT DEFINITIONS */
OBJECT = IMAGE
  INTERCHANGE_FORMAT = BINARY
  LINES = 26378
  LINE_SAMPLES = 3373
  SAMPLE_TYPE = UNSIGNED_INTEGER
  SAMPLE_BITS = 8
  BANDS = 1
  BAND_STORAGE_TYPE = BAND_SEQUENTIAL
  MAXIMUM = 255
  MEAN = 167.37
  MINIMUM = 1
  STANDARD_DEVIATION = 44.4391
END_OBJECT = IMAGE
/* MAP OBJECT DEFINITIONS */
OBJECT = IMAGE_MAP_PROJECTION
  ^DATA_SET_MAP_PROJECTION_CATALOG= "DSMAP.CAT"
  A_AXIS_RADIUS = 3396.0
  B_AXIS_RADIUS = 3396.0
  C_AXIS_RADIUS = 3396.0
  CENTER_LATITUDE = 0.0
  CENTER_LONGITUDE = 245.0
  COORDINATE_SYSTEM_NAME = PLANETOGRAPHIC
  COORDINATE_SYSTEM_TYPE = "BODY-FIXED ROTATING"
  EASTERNMOST_LONGITUDE = 246.77
  FIRST_STANDARD_PARALLEL = "N/A"
  LINE_FIRST_PIXEL = 1
  LINE_LAST_PIXEL = 26378
  LINE_PROJECTION_OFFSET = 10954.0
  MAP_PROJECTION_ROTATION = 0.0
  MAP_PROJECTION_TYPE = SINUSOIDAL
  MAP_RESOLUTION = 592.713803866667
  MAP_SCALE = 0.1
  MAXIMUM_LATITUDE = 18.4726
  MINIMUM_LATITUDE = -26.0321
  POSITIVE_LONGITUDE_DIRECTION = EAST
  REFERENCE_LATITUDE = "N/A"
  REFERENCE_LONGITUDE = "N/A"
  SAMPLE_FIRST_PIXEL = 1
  SAMPLE_LAST_PIXEL = 3373
  SAMPLE_PROJECTION_OFFSET = 2190.0
  SECOND_STANDARD_PARALLEL = "N/A"
  WESTERNMOST_LONGITUDE = 241.442
END_OBJECT = IMAGE_MAP_PROJECTION
END
