PDS_VERSION_ID = PDS3
/* FILE DATA ELEMENTS */
RECORD_TYPE = UNDEFINED
/* POINTERS TO DATA OBJECTS */
^IMAGE = ("HA630_0000_P14.TIF")
/* IDENTIFICATION DATA ELEMENTS */
DATA_SET_ID = "MEX-M-HRSC-4-REFDR-MAPPROJECT-EXT3-V4.0"
DATA_SET_NAME = "MARS EXPRESS HRSC MAP PROJECTED REFDR EXTENSION3 V4.0"
DETECTOR_ID = MEX_HRSC_P1
EVENT_TYPE = "MARS-REGIONAL-MAPPING-Im-Fl-La"
INSTRUMENT_HOST_ID = MEX
INSTRUMENT_HOST_NAME = "MARS EXPRESS"
INSTRUMENT_ID = HRSC
INSTRUMENT_NAME = "HIGH RESOLUTION STEREO CAMERA"
MISSION_NAME = "MARS EXPRESS"
MISSION_PHASE_NAME = ME_Phase_25
PROCESSING_LEVEL_ID = 4
PRODUCT_CREATION_TIME = 2023-02-05T03:55:10.000Z
PRODUCT_ID = "HA630_0000_P14.TIF"
RELEASE_ID = 0009
REVISION_ID = 0000
/* QUALITY DATA ELEMENTS */
DATA_QUALITY_ID = 1
DATA_QUALITY_DESC = "Data calculated based on original SPICE kernels"
/* TIME DATA ELEMENTS */
SPACECRAFT_CLOCK_START_COUNT = "1/0284355014.09059"
SPACECRAFT_CLOCK_STOP_COUNT = "1/0284355432.25292"
START_TIME = 2012-05-06T03:31:25.477Z
STOP_TIME = 2012-05-06T03:36:42.231Z
/* ORBITAL DATA ELEMENTS */
ASCENDING_NODE_LONGITUDE = 14.43
MAXIMUM_RESOLUTION = 0.0376
FOOTPRINT_POINT_LATITUDE = (-32.9856,-32.987,-32.9871,-32.9844, -32.9843,-33.0039,-32.4249,-31.9887, -31.5454,-30.9512,-30.5026,-29.8945, -29.2803,-28.9707,-28.6584,-28.3432, -28.0313,-27.7123,-27.2288,-26.9059, -26.5789,-26.2517,-25.9206,-25.5889, -25.2533,-24.7464,-24.406,-24.0636, -23.7212,-23.3719,-23.0166,-22.4867, -22.1301,-21.7691,-21.4047,-21.0376, -20.668,-20.2951,-19.9193,-19.541, -19.1601,-18.7756,-18.3878,-17.9969, -17.6028,-17.2059,-16.8042,-16.1969, -15.9918,-15.9271,-15.9134,-15.901, -15.8943,-15.878,-15.866,-15.8655, -15.8661,-16.2791,-16.6846,-17.2892, -17.6873,-18.0822,-18.4765,-18.8626, -19.4387,-19.8165,-20.1961,-20.5716, -20.9432,-21.3122,-21.6791,-22.0411, -22.4002,-22.7575,-23.1104,-23.4609, -23.8171,-24.1585,-24.6686,-25.0096, -25.3467,-25.8487,-26.1814,-26.5096, -26.8369,-27.1604,-27.6447,-27.964, -28.4387,-28.9108,-29.2206,-29.685, -29.9903,-30.5981,-31.2001,-31.7933, -32.2327,-32.8171,-32.96,-32.9856)
FOOTPRINT_POINT_LONGITUDE = (348.185,347.694,347.146,346.317, 346.299,346.277,346.279,346.279,346.279 ,346.278,346.275,346.272,346.267, 346.264,346.261,346.258,346.252,346.248 ,346.243,346.238,346.233,346.227, 346.221,346.215,346.208,346.197,346.189 ,346.18,346.17,346.161,346.154,346.138, 346.127,346.116,346.105,346.094,346.082 ,346.07,346.057,346.043,346.029,346.014 ,345.998,345.982,345.966,345.948, 345.931,345.903,345.893,345.89,346.519, 347.041,347.457,348.028,348.547,348.573 ,348.582,348.575,348.566,348.554, 348.546,348.538,348.532,348.523,348.511 ,348.502,348.495,348.488,348.481, 348.474,348.466,348.459,348.451,348.444 ,348.436,348.428,348.423,348.414, 348.401,348.393,348.386,348.375,348.367 ,348.359,348.351,348.344,348.332, 348.325,348.313,348.302,348.294,348.282 ,348.274,348.258,348.242,348.226, 348.214,348.198,348.193,348.185)
ORBIT_NUMBER = 10630
ORBITAL_ECCENTRICITY = 0.577
ORBITAL_INCLINATION = 86.88
ORBITAL_SEMIMAJOR_AXIS = 8785.66
PERIAPSIS_ALTITUDE = 330.16
PERIAPSIS_ARGUMENT_ANGLE = 303.3
PERIAPSIS_TIME = 2012-05-06T03:24:51.000Z
SPACECRAFT_ORIENTATION = (0.0,1.0,0.0)
^MEX_ORIENTATION_DESC = "MEX_ORIENTATION_DESC.TXT"
SPACECRAFT_POINTING_MODE = ACROSSTRACK
^MEX_POINTING_DESC = "MEX_POINTING_DESC.TXT"
RIGHT_ASCENSION = -1e+32
DECLINATION = -1e+32
OFFSET_ANGLE = 0.3
SPACECRAFT_SOLAR_DISTANCE = 2.44547e+08
TARGET_NAME = MARS
/* CAMERA DATA ELEMENTS */
DETECTOR_TEMPERATURE = 17.9627
FOCAL_PLANE_TEMPERATURE = 9.6028
INST_CMPRS_NAME = "DISCRETE COSINE TRANSFORMATION (DCT)"
INST_CMPRS_RATIO = 6.37289
INST_CMPRS_QUALITY = 0
INST_CMPRS_QUANTZ_TBL_ID = 0
INSTRUMENT_TEMPERATURE = 12.0496
LENS_TEMPERATURE = 10.0106
MACROPIXEL_SIZE = 2
MISSING_FRAMES = 0
PIXEL_SUBSAMPLING_FLAG = N
SIGNAL_CHAIN_ID = 3
/* RADIOMETRIC DATA ELEMENTS */
BANDWIDTH = 174.0
CENTER_FILTER_WAVELENGTH = 675.0
RADIANCE_OFFSET = 0.504738
RADIANCE_SCALING_FACTOR = 0.0177043
REFLECTANCE_SCALING_FACTOR = 0.000569494
MEX:REFLECTANCE_OFFSET = 0.0162359
/* IMAGE OBJECT DEFINITIONS */
OBJECT = IMAGE
  INTERCHANGE_FORMAT = BINARY
  LINES = 40641
  LINE_SAMPLES = 5661
  SAMPLE_TYPE = UNSIGNED_INTEGER
  SAMPLE_BITS = 8
  BANDS = 1
  BAND_STORAGE_TYPE = BAND_SEQUENTIAL
  MAXIMUM = 255
  MEAN = 132.066
  MINIMUM = 1
  STANDARD_DEVIATION = 22.9399
END_OBJECT = IMAGE
/* MAP OBJECT DEFINITIONS */
OBJECT = IMAGE_MAP_PROJECTION
  ^DATA_SET_MAP_PROJECTION_CATALOG= "DSMAP.CAT"
  A_AXIS_RADIUS = 3396.0
  B_AXIS_RADIUS = 3396.0
  C_AXIS_RADIUS = 3396.0
  CENTER_LATITUDE = 0.0
  CENTER_LONGITUDE = 347.0
  COORDINATE_SYSTEM_NAME = PLANETOGRAPHIC
  COORDINATE_SYSTEM_TYPE = "BODY-FIXED ROTATING"
  EASTERNMOST_LONGITUDE = 348.582
  FIRST_STANDARD_PARALLEL = "N/A"
  LINE_FIRST_PIXEL = 1
  LINE_LAST_PIXEL = 40641
  LINE_PROJECTION_OFFSET = -37632.25
  MAP_PROJECTION_ROTATION = 0.0
  MAP_PROJECTION_TYPE = SINUSOIDAL
  MAP_RESOLUTION = 2370.85521546667
  MAP_SCALE = 0.025
  MAXIMUM_LATITUDE = -15.8655
  MINIMUM_LATITUDE = -33.0039
  POSITIVE_LONGITUDE_DIRECTION = EAST
  REFERENCE_LATITUDE = "N/A"
  REFERENCE_LONGITUDE = "N/A"
  SAMPLE_FIRST_PIXEL = 1
  SAMPLE_LAST_PIXEL = 5661
  SAMPLE_PROJECTION_OFFSET = 2303.25
  SECOND_STANDARD_PARALLEL = "N/A"
  WESTERNMOST_LONGITUDE = 345.89
END_OBJECT = IMAGE_MAP_PROJECTION
END
