PDS_VERSION_ID = PDS3
/* FILE DATA ELEMENTS */
RECORD_TYPE = UNDEFINED
/* POINTERS TO DATA OBJECTS */
^IMAGE = ("HA629_0000_S14.TIF")
/* IDENTIFICATION DATA ELEMENTS */
DATA_SET_ID = "MEX-M-HRSC-4-REFDR-MAPPROJECT-EXT3-V4.0"
DATA_SET_NAME = "MARS EXPRESS HRSC MAP PROJECTED REFDR EXTENSION3 V4.0"
DETECTOR_ID = MEX_HRSC_S1
EVENT_TYPE = "MARS-LOCAL-STEREO-Fl"
INSTRUMENT_HOST_ID = MEX
INSTRUMENT_HOST_NAME = "MARS EXPRESS"
INSTRUMENT_ID = HRSC
INSTRUMENT_NAME = "HIGH RESOLUTION STEREO CAMERA"
MISSION_NAME = "MARS EXPRESS"
MISSION_PHASE_NAME = ME_Phase_25
PROCESSING_LEVEL_ID = 4
PRODUCT_CREATION_TIME = 2023-02-05T03:55:10.000Z
PRODUCT_ID = "HA629_0000_S14.TIF"
RELEASE_ID = 0009
REVISION_ID = 0000
/* QUALITY DATA ELEMENTS */
DATA_QUALITY_ID = 1
DATA_QUALITY_DESC = "Data calculated based on original SPICE kernels"
/* TIME DATA ELEMENTS */
SPACECRAFT_CLOCK_START_COUNT = "1/0284329722.09066"
SPACECRAFT_CLOCK_STOP_COUNT = "1/0284329922.32484"
START_TIME = 2012-05-05T20:29:53.957Z
STOP_TIME = 2012-05-05T20:32:04.184Z
/* ORBITAL DATA ELEMENTS */
ASCENDING_NODE_LONGITUDE = 14.44
MAXIMUM_RESOLUTION = 0.0167
FOOTPRINT_POINT_LATITUDE = (-41.2094,-41.2049,-41.2011,-41.1959, -41.191,-41.1868,-41.1811,-41.1808, -41.2607,-41.0341,-40.883,-40.5827, -40.4325,-40.2823,-39.9842,-39.8337, -39.5344,-39.2356,-38.9387,-38.7159, -38.4196,-38.2682,-38.1176,-37.8185, -37.665,-37.5109,-37.3601,-37.2066, -37.0521,-36.8976,-36.743,-36.5894, -36.4347,-36.2024,-36.0457,-35.889, -35.7325,-35.5766,-35.4201,-35.2624, -35.1024,-34.9422,-34.7822,-34.5428, -34.3822,-34.2194,-33.9762,-33.8146, -33.6534,-33.5726,-33.5485,-33.5516, -33.5541,-33.5559,-33.557,-33.5589, -33.5588,-33.5581,-33.5584,-33.7202, -33.8826,-34.0454,-34.2079,-34.4516, -34.6114,-34.8509,-35.0109,-35.1706, -35.3333,-35.5748,-35.8807,-36.0387, -36.1957,-36.3529,-36.5074,-36.6626, -36.8936,-37.0472,-37.202,-37.3564, -37.5073,-37.6587,-37.8104,-38.0379, -38.1898,-38.3422,-38.4934,-38.8641, -39.088,-39.3869,-39.6854,-39.9108, -40.211,-40.3617,-40.5146,-40.8128, -40.9639,-41.1914,-41.2672,-41.2094)
FOOTPRINT_POINT_LONGITUDE = (90.5385,90.1719,89.9101,89.5785, 89.2996,89.0727,88.7933,88.7758,88.731, 88.7379,88.7425,88.7506,88.7547,88.7587 ,88.7656,88.7697,88.777,88.7839,88.79, 88.7945,88.8001,88.8027,88.8048,88.8083 ,88.8116,88.8152,88.8174,88.8196, 88.8218,88.8238,88.8259,88.8276,88.8297 ,88.8322,88.8335,88.8349,88.8362, 88.8372,88.8384,88.8395,88.8406,88.8418 ,88.8429,88.8443,88.8455,88.8461, 88.8468,88.847,88.8471,88.8472,88.8471, 89.1942,89.6759,89.9648,90.2153,90.4467 ,90.7741,90.7931,90.8026,90.7984, 90.7943,90.7902,90.7859,90.7796,90.7756 ,90.7693,90.765,90.7605,90.757,90.753, 90.7412,90.737,90.7324,90.7282,90.724, 90.7199,90.713,90.708,90.7035,90.6989, 90.6943,90.6897,90.6851,90.6781,90.6734 ,90.6687,90.6641,90.652,90.6449,90.6354 ,90.6252,90.6179,90.6077,90.6027, 90.5984,90.5866,90.5813,90.5735,90.5709 ,90.5385)
ORBIT_NUMBER = 10629
ORBITAL_ECCENTRICITY = 0.578
ORBITAL_INCLINATION = 86.88
ORBITAL_SEMIMAJOR_AXIS = 8789.3
PERIAPSIS_ALTITUDE = 329.27
PERIAPSIS_ARGUMENT_ANGLE = 303.47
PERIAPSIS_TIME = 2012-05-05T20:25:26.000Z
SPACECRAFT_ORIENTATION = (0.0,1.0,0.0)
^MEX_ORIENTATION_DESC = "MEX_ORIENTATION_DESC.TXT"
SPACECRAFT_POINTING_MODE = NADIR
^MEX_POINTING_DESC = "MEX_POINTING_DESC.TXT"
RIGHT_ASCENSION = -1e+32
DECLINATION = -1e+32
OFFSET_ANGLE = -1e+32
SPACECRAFT_SOLAR_DISTANCE = 2.4458e+08
TARGET_NAME = MARS
/* CAMERA DATA ELEMENTS */
DETECTOR_TEMPERATURE = 18.1666
FOCAL_PLANE_TEMPERATURE = 8.5833
INST_CMPRS_NAME = "DISCRETE COSINE TRANSFORMATION (DCT)"
INST_CMPRS_RATIO = 8.33436
INST_CMPRS_QUALITY = 0
INST_CMPRS_QUANTZ_TBL_ID = 0
INSTRUMENT_TEMPERATURE = 11.6418
LENS_TEMPERATURE = 9.3989
MACROPIXEL_SIZE = 1
MISSING_FRAMES = 0
PIXEL_SUBSAMPLING_FLAG = N
SIGNAL_CHAIN_ID = 2
/* RADIOMETRIC DATA ELEMENTS */
BANDWIDTH = 180.0
CENTER_FILTER_WAVELENGTH = 677.0
RADIANCE_OFFSET = 1.51418
RADIANCE_SCALING_FACTOR = 0.00829269
REFLECTANCE_SCALING_FACTOR = 0.000258809
MEX:REFLECTANCE_OFFSET = 0.0472567
/* IMAGE OBJECT DEFINITIONS */
OBJECT = IMAGE
  INTERCHANGE_FORMAT = BINARY
  LINES = 36641
  LINE_SAMPLES = 7279
  SAMPLE_TYPE = UNSIGNED_INTEGER
  SAMPLE_BITS = 8
  BANDS = 1
  BAND_STORAGE_TYPE = BAND_SEQUENTIAL
  MAXIMUM = 255
  MEAN = 135.927
  MINIMUM = 1
  STANDARD_DEVIATION = 18.0101
END_OBJECT = IMAGE
/* MAP OBJECT DEFINITIONS */
OBJECT = IMAGE_MAP_PROJECTION
  ^DATA_SET_MAP_PROJECTION_CATALOG= "DSMAP.CAT"
  A_AXIS_RADIUS = 3396.0
  B_AXIS_RADIUS = 3396.0
  C_AXIS_RADIUS = 3396.0
  CENTER_LATITUDE = 0.0
  CENTER_LONGITUDE = 90.0
  COORDINATE_SYSTEM_NAME = PLANETOGRAPHIC
  COORDINATE_SYSTEM_TYPE = "BODY-FIXED ROTATING"
  EASTERNMOST_LONGITUDE = 90.8026
  FIRST_STANDARD_PARALLEL = "N/A"
  LINE_FIRST_PIXEL = 1
  LINE_LAST_PIXEL = 36641
  LINE_PROJECTION_OFFSET = -159014.0
  MAP_PROJECTION_ROTATION = 0.0
  MAP_PROJECTION_TYPE = SINUSOIDAL
  MAP_RESOLUTION = 4741.71043093333
  MAP_SCALE = 0.0125
  MAXIMUM_LATITUDE = -33.5485
  MINIMUM_LATITUDE = -41.2672
  POSITIVE_LONGITUDE_DIRECTION = EAST
  REFERENCE_LATITUDE = "N/A"
  REFERENCE_LONGITUDE = "N/A"
  SAMPLE_FIRST_PIXEL = 1
  SAMPLE_LAST_PIXEL = 7279
  SAMPLE_PROJECTION_OFFSET = 4389.0
  SECOND_STANDARD_PARALLEL = "N/A"
  WESTERNMOST_LONGITUDE = 88.73099999999999
END_OBJECT = IMAGE_MAP_PROJECTION
END
