PDS_VERSION_ID = PDS3
/* FILE DATA ELEMENTS */
RECORD_TYPE = UNDEFINED
/* POINTERS TO DATA OBJECTS */
^IMAGE = ("HA628_0000_IR4.TIF")
/* IDENTIFICATION DATA ELEMENTS */
DATA_SET_ID = "MEX-M-HRSC-4-REFDR-MAPPROJECT-EXT3-V4.0"
DATA_SET_NAME = "MARS EXPRESS HRSC MAP PROJECTED REFDR EXTENSION3 V4.0"
DETECTOR_ID = MEX_HRSC_IR
EVENT_TYPE = "MARS-REGIONAL-MAPPING-Im-Fl-Lc"
INSTRUMENT_HOST_ID = MEX
INSTRUMENT_HOST_NAME = "MARS EXPRESS"
INSTRUMENT_ID = HRSC
INSTRUMENT_NAME = "HIGH RESOLUTION STEREO CAMERA"
MISSION_NAME = "MARS EXPRESS"
MISSION_PHASE_NAME = ME_Phase_25
PROCESSING_LEVEL_ID = 4
PRODUCT_CREATION_TIME = 2023-02-05T03:55:10.000Z
PRODUCT_ID = "HA628_0000_IR4.TIF"
RELEASE_ID = 0009
REVISION_ID = 0000
/* QUALITY DATA ELEMENTS */
DATA_QUALITY_ID = 1
DATA_QUALITY_DESC = "Data calculated based on original SPICE kernels"
/* TIME DATA ELEMENTS */
SPACECRAFT_CLOCK_START_COUNT = "1/0284304630.09045"
SPACECRAFT_CLOCK_STOP_COUNT = "1/0284304969.28451"
START_TIME = 2012-05-05T13:31:42.969Z
STOP_TIME = 2012-05-05T13:35:59.010Z
/* ORBITAL DATA ELEMENTS */
ASCENDING_NODE_LONGITUDE = 14.46
MAXIMUM_RESOLUTION = 0.0713
FOOTPRINT_POINT_LATITUDE = (-36.0319,-36.0314,-36.0294,-36.0234, -36.0233,-36.0538,-35.3006,-34.7986, -34.4161,-34.1592,-33.8998,-33.6435, -33.3836,-33.1237,-32.8628,-32.5994, -32.2036,-31.938,-31.668,-31.2659, -30.9945,-30.7218,-30.4495,-30.1684, -29.8926,-29.6195,-29.3362,-28.9127, -28.6277,-28.3427,-28.0543,-27.6225, -27.331,-27.0384,-26.7414,-26.447, -26.1481,-25.699,-25.2427,-24.937, -24.6295,-24.3181,-23.8536,-23.5397, -23.216,-22.735,-22.4136,-22.0883, -21.9257,-21.8181,-21.8117,-21.8002, -21.7929,-21.7879,-21.783,-21.7824, -21.7836,-22.1127,-22.4399,-22.7637, -23.2459,-23.7226,-24.0386,-24.3507, -24.8155,-25.1248,-25.429,-25.7344, -26.0358,-26.3373,-26.6335,-27.0778, -27.371,-27.6639,-27.953,-28.2421, -28.5284,-28.9569,-29.2341,-29.5156, -29.7967,-30.0736,-30.3502,-30.7604, -31.034,-31.4418,-31.7117,-31.981, -32.3806,-32.647,-32.9119,-33.1725, -33.4337,-33.8241,-34.3358,-34.844, -35.3539,-35.8561,-35.9797,-36.0319)
FOOTPRINT_POINT_LONGITUDE = (192.685,192.279,191.737,190.885, 190.868,190.844,190.856,190.861,190.864 ,190.866,190.87,190.871,190.871,190.872 ,190.873,190.873,190.873,190.872, 190.873,190.871,190.87,190.868,190.867, 190.867,190.865,190.86,190.858,190.855, 190.852,190.848,190.845,190.838,190.833 ,190.828,190.823,190.817,190.811, 190.801,190.792,190.784,190.777,190.77, 190.756,190.747,190.741,190.727,190.717 ,190.707,190.702,190.698,191.16,191.796 ,192.322,192.715,193.021,193.043,193.05 ,193.043,193.037,193.03,193.02,193.01, 193.003,192.996,192.985,192.979,192.972 ,192.965,192.958,192.951,192.944, 192.934,192.927,192.92,192.913,192.906, 192.899,192.889,192.881,192.874,192.867 ,192.86,192.852,192.842,192.835,192.824 ,192.818,192.81,192.8,192.793,192.786, 192.779,192.772,192.76,192.745,192.729, 192.716,192.701,192.697,192.685)
ORBIT_NUMBER = 10628
ORBITAL_ECCENTRICITY = 0.577
ORBITAL_INCLINATION = 86.88
ORBITAL_SEMIMAJOR_AXIS = 8785.86
PERIAPSIS_ALTITUDE = 330.23
PERIAPSIS_ARGUMENT_ANGLE = 303.66
PERIAPSIS_TIME = 2012-05-05T13:25:59.000Z
SPACECRAFT_ORIENTATION = (0.0,1.0,0.0)
^MEX_ORIENTATION_DESC = "MEX_ORIENTATION_DESC.TXT"
SPACECRAFT_POINTING_MODE = ACROSSTRACK
^MEX_POINTING_DESC = "MEX_POINTING_DESC.TXT"
RIGHT_ASCENSION = -1e+32
DECLINATION = -1e+32
OFFSET_ANGLE = 0.2
SPACECRAFT_SOLAR_DISTANCE = 2.44613e+08
TARGET_NAME = MARS
/* CAMERA DATA ELEMENTS */
DETECTOR_TEMPERATURE = 18.1666
FOCAL_PLANE_TEMPERATURE = 9.6028
INST_CMPRS_NAME = "DISCRETE COSINE TRANSFORMATION (DCT)"
INST_CMPRS_RATIO = 6.141
INST_CMPRS_QUALITY = 0
INST_CMPRS_QUANTZ_TBL_ID = 0
INSTRUMENT_TEMPERATURE = 11.8457
LENS_TEMPERATURE = 9.8067
MACROPIXEL_SIZE = 4
MISSING_FRAMES = 0
PIXEL_SUBSAMPLING_FLAG = N
SIGNAL_CHAIN_ID = 2
/* RADIOMETRIC DATA ELEMENTS */
BANDWIDTH = 81.0
CENTER_FILTER_WAVELENGTH = 955.5
RADIANCE_OFFSET = 0.0790795
RADIANCE_SCALING_FACTOR = 0.00616786
REFLECTANCE_SCALING_FACTOR = 0.000796199
MEX:REFLECTANCE_OFFSET = 0.0102083
/* IMAGE OBJECT DEFINITIONS */
OBJECT = IMAGE
  INTERCHANGE_FORMAT = BINARY
  LINES = 16915
  LINE_SAMPLES = 2380
  SAMPLE_TYPE = UNSIGNED_INTEGER
  SAMPLE_BITS = 8
  BANDS = 1
  BAND_STORAGE_TYPE = BAND_SEQUENTIAL
  MAXIMUM = 255
  MEAN = 88.5225
  MINIMUM = 1
  STANDARD_DEVIATION = 28.3679
END_OBJECT = IMAGE
/* MAP OBJECT DEFINITIONS */
OBJECT = IMAGE_MAP_PROJECTION
  ^DATA_SET_MAP_PROJECTION_CATALOG= "DSMAP.CAT"
  A_AXIS_RADIUS = 3396.0
  B_AXIS_RADIUS = 3396.0
  C_AXIS_RADIUS = 3396.0
  CENTER_LATITUDE = 0.0
  CENTER_LONGITUDE = 192.0
  COORDINATE_SYSTEM_NAME = PLANETOGRAPHIC
  COORDINATE_SYSTEM_TYPE = "BODY-FIXED ROTATING"
  EASTERNMOST_LONGITUDE = 193.05
  FIRST_STANDARD_PARALLEL = "N/A"
  LINE_FIRST_PIXEL = 1
  LINE_LAST_PIXEL = 16915
  LINE_PROJECTION_OFFSET = -25844.125
  MAP_PROJECTION_ROTATION = 0.0
  MAP_PROJECTION_TYPE = SINUSOIDAL
  MAP_RESOLUTION = 1185.42760773333
  MAP_SCALE = 0.05
  MAXIMUM_LATITUDE = -21.7824
  MINIMUM_LATITUDE = -36.0538
  POSITIVE_LONGITUDE_DIRECTION = EAST
  REFERENCE_LATITUDE = "N/A"
  REFERENCE_LONGITUDE = "N/A"
  SAMPLE_FIRST_PIXEL = 1
  SAMPLE_LAST_PIXEL = 2380
  SAMPLE_PROJECTION_OFFSET = 1337.875
  SECOND_STANDARD_PARALLEL = "N/A"
  WESTERNMOST_LONGITUDE = 190.698
END_OBJECT = IMAGE_MAP_PROJECTION
END
