PDS_VERSION_ID = PDS3
/* FILE DATA ELEMENTS */
RECORD_TYPE = UNDEFINED
/* POINTERS TO DATA OBJECTS */
^IMAGE = ("HA628_0000_BL4.TIF")
/* IDENTIFICATION DATA ELEMENTS */
DATA_SET_ID = "MEX-M-HRSC-4-REFDR-MAPPROJECT-EXT3-V4.0"
DATA_SET_NAME = "MARS EXPRESS HRSC MAP PROJECTED REFDR EXTENSION3 V4.0"
DETECTOR_ID = MEX_HRSC_BLUE
EVENT_TYPE = "MARS-REGIONAL-MAPPING-Im-Fl-Lc"
INSTRUMENT_HOST_ID = MEX
INSTRUMENT_HOST_NAME = "MARS EXPRESS"
INSTRUMENT_ID = HRSC
INSTRUMENT_NAME = "HIGH RESOLUTION STEREO CAMERA"
MISSION_NAME = "MARS EXPRESS"
MISSION_PHASE_NAME = ME_Phase_25
PROCESSING_LEVEL_ID = 4
PRODUCT_CREATION_TIME = 2023-02-05T03:55:10.000Z
PRODUCT_ID = "HA628_0000_BL4.TIF"
RELEASE_ID = 0009
REVISION_ID = 0000
/* QUALITY DATA ELEMENTS */
DATA_QUALITY_ID = 1
DATA_QUALITY_DESC = "Data calculated based on original SPICE kernels"
/* TIME DATA ELEMENTS */
SPACECRAFT_CLOCK_START_COUNT = "1/0284304630.09045"
SPACECRAFT_CLOCK_STOP_COUNT = "1/0284304969.28451"
START_TIME = 2012-05-05T13:31:03.657Z
STOP_TIME = 2012-05-05T13:34:56.324Z
/* ORBITAL DATA ELEMENTS */
ASCENDING_NODE_LONGITUDE = 14.46
MAXIMUM_RESOLUTION = 0.0647
FOOTPRINT_POINT_LATITUDE = (-36.074,-36.0698,-36.0623,-36.0457, -36.0453,-36.0367,-35.6658,-35.2915, -34.7839,-34.2775,-34.0194,-33.7611, -33.5018,-33.2431,-32.9806,-32.7161, -32.4517,-32.1874,-31.9191,-31.6494, -31.2454,-30.8351,-30.5601,-30.2865, -30.008,-29.7277,-29.3077,-29.0228, -28.7373,-28.4524,-28.1626,-27.8725, -27.4337,-27.1379,-26.8429,-26.3924, -26.0921,-25.635,-25.3296,-24.8644, -24.5543,-24.2389,-23.7637,-23.4432, -22.9617,-22.6366,-22.3088,-21.9791, -21.814,-21.8059,-21.8073,-21.808, -21.8069,-21.8055,-21.8011,-21.8009, -21.8022,-22.2982,-22.6269,-22.9525, -23.2764,-23.5974,-23.9176,-24.2336, -24.5501,-24.8611,-25.3274,-25.6333, -26.0918,-26.3928,-26.8444,-27.1404, -27.4369,-27.8763,-28.1674,-28.4582, -28.7438,-29.0304,-29.3165,-29.5969, -29.8777,-30.2978,-30.5728,-30.8488, -31.2596,-31.5294,-31.7995,-32.2037, -32.4678,-32.7325,-32.9976,-33.2609, -33.6496,-33.9091,-34.2983,-34.8068, -35.3136,-35.9372,-36.0614,-36.074)
FOOTPRINT_POINT_LONGITUDE = (192.631,192.249,191.738,190.936,190.92 ,190.898,190.906,190.912,190.918, 190.924,190.927,190.931,190.932,190.934 ,190.935,190.937,190.938,190.938, 190.939,190.94,190.94,190.94,190.939, 190.941,190.939,190.938,190.936,190.934 ,190.932,190.93,190.928,190.926,190.92, 190.916,190.913,190.906,190.901,190.895 ,190.889,190.88,190.875,190.869,190.857 ,190.85,190.842,190.834,190.826,190.818 ,190.814,190.813,191.209,191.704, 192.058,192.354,192.904,192.924,192.931 ,192.924,192.919,192.914,192.909, 192.904,192.899,192.894,192.889,192.884 ,192.876,192.871,192.863,192.858, 192.849,192.844,192.838,192.83,192.824, 192.819,192.813,192.807,192.801,192.795 ,192.789,192.78,192.774,192.768,192.759 ,192.753,192.747,192.738,192.732, 192.726,192.72,192.714,192.704,192.698, 192.687,192.673,192.661,192.644,192.641 ,192.631)
ORBIT_NUMBER = 10628
ORBITAL_ECCENTRICITY = 0.577
ORBITAL_INCLINATION = 86.88
ORBITAL_SEMIMAJOR_AXIS = 8785.86
PERIAPSIS_ALTITUDE = 330.23
PERIAPSIS_ARGUMENT_ANGLE = 303.66
PERIAPSIS_TIME = 2012-05-05T13:25:59.000Z
SPACECRAFT_ORIENTATION = (0.0,1.0,0.0)
^MEX_ORIENTATION_DESC = "MEX_ORIENTATION_DESC.TXT"
SPACECRAFT_POINTING_MODE = ACROSSTRACK
^MEX_POINTING_DESC = "MEX_POINTING_DESC.TXT"
RIGHT_ASCENSION = -1e+32
DECLINATION = -1e+32
OFFSET_ANGLE = 0.2
SPACECRAFT_SOLAR_DISTANCE = 2.44613e+08
TARGET_NAME = MARS
/* CAMERA DATA ELEMENTS */
DETECTOR_TEMPERATURE = 18.5744
FOCAL_PLANE_TEMPERATURE = 9.6028
INST_CMPRS_NAME = "DISCRETE COSINE TRANSFORMATION (DCT)"
INST_CMPRS_RATIO = 4.86322
INST_CMPRS_QUALITY = 0
INST_CMPRS_QUANTZ_TBL_ID = 0
INSTRUMENT_TEMPERATURE = 11.8457
LENS_TEMPERATURE = 9.8067
MACROPIXEL_SIZE = 4
MISSING_FRAMES = 0
PIXEL_SUBSAMPLING_FLAG = N
SIGNAL_CHAIN_ID = 2
/* RADIOMETRIC DATA ELEMENTS */
BANDWIDTH = 76.0
CENTER_FILTER_WAVELENGTH = 444.0
RADIANCE_OFFSET = 0.0981912
RADIANCE_SCALING_FACTOR = 0.0024204
REFLECTANCE_SCALING_FACTOR = 0.0001488
MEX:REFLECTANCE_OFFSET = 0.00603653
/* IMAGE OBJECT DEFINITIONS */
OBJECT = IMAGE
  INTERCHANGE_FORMAT = BINARY
  LINES = 16915
  LINE_SAMPLES = 2380
  SAMPLE_TYPE = UNSIGNED_INTEGER
  SAMPLE_BITS = 8
  BANDS = 1
  BAND_STORAGE_TYPE = BAND_SEQUENTIAL
  MAXIMUM = 255
  MEAN = 123.302
  MINIMUM = 1
  STANDARD_DEVIATION = 26.5944
END_OBJECT = IMAGE
/* MAP OBJECT DEFINITIONS */
OBJECT = IMAGE_MAP_PROJECTION
  ^DATA_SET_MAP_PROJECTION_CATALOG= "DSMAP.CAT"
  A_AXIS_RADIUS = 3396.0
  B_AXIS_RADIUS = 3396.0
  C_AXIS_RADIUS = 3396.0
  CENTER_LATITUDE = 0.0
  CENTER_LONGITUDE = 192.0
  COORDINATE_SYSTEM_NAME = PLANETOGRAPHIC
  COORDINATE_SYSTEM_TYPE = "BODY-FIXED ROTATING"
  EASTERNMOST_LONGITUDE = 192.931
  FIRST_STANDARD_PARALLEL = "N/A"
  LINE_FIRST_PIXEL = 1
  LINE_LAST_PIXEL = 16915
  LINE_PROJECTION_OFFSET = -25844.125
  MAP_PROJECTION_ROTATION = 0.0
  MAP_PROJECTION_TYPE = SINUSOIDAL
  MAP_RESOLUTION = 1185.42760773333
  MAP_SCALE = 0.05
  MAXIMUM_LATITUDE = -21.8009
  MINIMUM_LATITUDE = -36.074
  POSITIVE_LONGITUDE_DIRECTION = EAST
  REFERENCE_LATITUDE = "N/A"
  REFERENCE_LONGITUDE = "N/A"
  SAMPLE_FIRST_PIXEL = 1
  SAMPLE_LAST_PIXEL = 2380
  SAMPLE_PROJECTION_OFFSET = 1337.875
  SECOND_STANDARD_PARALLEL = "N/A"
  WESTERNMOST_LONGITUDE = 190.813
END_OBJECT = IMAGE_MAP_PROJECTION
END
