PDS_VERSION_ID = PDS3
/* FILE DATA ELEMENTS */
RECORD_TYPE = UNDEFINED
/* POINTERS TO DATA OBJECTS */
^IMAGE = ("HA616_0000_IR4.TIF")
/* IDENTIFICATION DATA ELEMENTS */
DATA_SET_ID = "MEX-M-HRSC-4-REFDR-MAPPROJECT-EXT3-V4.0"
DATA_SET_NAME = "MARS EXPRESS HRSC MAP PROJECTED REFDR EXTENSION3 V4.0"
DETECTOR_ID = MEX_HRSC_IR
EVENT_TYPE = "MARS-REGIONAL-MAPPING-Fl-La"
INSTRUMENT_HOST_ID = MEX
INSTRUMENT_HOST_NAME = "MARS EXPRESS"
INSTRUMENT_ID = HRSC
INSTRUMENT_NAME = "HIGH RESOLUTION STEREO CAMERA"
MISSION_NAME = "MARS EXPRESS"
MISSION_PHASE_NAME = ME_Phase_25
PROCESSING_LEVEL_ID = 4
PRODUCT_CREATION_TIME = 2023-02-05T03:55:10.000Z
PRODUCT_ID = "HA616_0000_IR4.TIF"
RELEASE_ID = 0009
REVISION_ID = 0000
/* QUALITY DATA ELEMENTS */
DATA_QUALITY_ID = 1
DATA_QUALITY_DESC = "Data calculated based on original SPICE kernels"
/* TIME DATA ELEMENTS */
SPACECRAFT_CLOCK_START_COUNT = "1/0284002726.09043"
SPACECRAFT_CLOCK_STOP_COUNT = "1/0284003096.04743"
START_TIME = 2012-05-02T01:40:12.838Z
STOP_TIME = 2012-05-02T01:44:41.600Z
/* ORBITAL DATA ELEMENTS */
ASCENDING_NODE_LONGITUDE = 14.69
MAXIMUM_RESOLUTION = 0.0845
FOOTPRINT_POINT_LATITUDE = (-27.3485,-27.3507,-27.3511,-27.3512, -27.3507,-27.3506,-27.3739,-26.8926, -26.2828,-25.7877,-25.2875,-24.6574, -24.4043,-24.1478,-23.8916,-23.6333, -23.3732,-23.1131,-22.8495,-22.4526, -22.1855,-21.9222,-21.6544,-21.3843, -21.1105,-20.7003,-20.4244,-20.1453, -19.7243,-19.4422,-19.1575,-18.7285, -18.2954,-18.0043,-17.7101,-17.4146, -17.1211,-16.8209,-16.521,-16.068, -15.7648,-15.3029,-14.8374,-14.5265, -14.0507,-13.735,-13.576,-13.4779, -13.4674,-13.4533,-13.4492,-13.4383, -13.4319,-13.4305,-13.4229,-13.422, -13.4234,-13.8997,-14.2192,-14.5374, -14.851,-15.1627,-15.4733,-15.782, -16.0869,-16.5417,-16.9933,-17.2905, -17.5865,-17.8811,-18.1698,-18.472, -18.7641,-19.0505,-19.4792,-19.8911, -20.1734,-20.4525,-20.7295,-21.0057, -21.279,-21.5527,-21.9589,-22.3593, -22.6259,-22.8895,-23.154,-23.415, -23.8054,-24.0629,-24.3212,-24.5752, -24.8276,-25.2073,-25.8306,-26.3283, -26.8148,-27.1775,-27.2977,-27.3485)
FOOTPRINT_POINT_LONGITUDE = (339.986,339.251,338.884,338.59,338.038 ,338.02,338.005,337.998,337.987,337.978 ,337.968,337.954,337.948,337.942, 337.936,337.929,337.922,337.915,337.908 ,337.897,337.89,337.88,337.871,337.863, 337.854,337.84,337.831,337.821,337.807, 337.797,337.786,337.77,337.753,337.742, 337.73,337.718,337.705,337.692,337.679, 337.658,337.644,337.622,337.599,337.583 ,337.56,337.543,337.534,337.528,337.935 ,338.521,338.878,339.183,339.539,339.82 ,340.228,340.253,340.262,340.25,340.245 ,340.239,340.233,340.227,340.221, 340.215,340.209,340.2,340.192,340.186, 340.181,340.175,340.168,340.167,340.163 ,340.158,340.15,340.138,340.134,340.128 ,340.123,340.119,340.113,340.109, 340.102,340.094,340.089,340.084,340.079 ,340.074,340.067,340.062,340.057, 340.052,340.046,340.04,340.027,340.018, 340.008,340.001,339.998,339.986)
ORBIT_NUMBER = 10616
ORBITAL_ECCENTRICITY = 0.577
ORBITAL_INCLINATION = 86.89
ORBITAL_SEMIMAJOR_AXIS = 8788.58
PERIAPSIS_ALTITUDE = 330.3
PERIAPSIS_ARGUMENT_ANGLE = 305.68
PERIAPSIS_TIME = 2012-05-02T01:32:33.000Z
SPACECRAFT_ORIENTATION = (0.0,1.0,0.0)
^MEX_ORIENTATION_DESC = "MEX_ORIENTATION_DESC.TXT"
SPACECRAFT_POINTING_MODE = NADIR
^MEX_POINTING_DESC = "MEX_POINTING_DESC.TXT"
RIGHT_ASCENSION = -1e+32
DECLINATION = -1e+32
OFFSET_ANGLE = -1e+32
SPACECRAFT_SOLAR_DISTANCE = 2.45e+08
TARGET_NAME = MARS
/* CAMERA DATA ELEMENTS */
DETECTOR_TEMPERATURE = 17.351
FOCAL_PLANE_TEMPERATURE = 8.5833
INST_CMPRS_NAME = "DISCRETE COSINE TRANSFORMATION (DCT)"
INST_CMPRS_RATIO = 9.59369
INST_CMPRS_QUALITY = 0
INST_CMPRS_QUANTZ_TBL_ID = 0
INSTRUMENT_TEMPERATURE = 11.4379
LENS_TEMPERATURE = 8.5833
MACROPIXEL_SIZE = 4
MISSING_FRAMES = 0
PIXEL_SUBSAMPLING_FLAG = N
SIGNAL_CHAIN_ID = 2
/* RADIOMETRIC DATA ELEMENTS */
BANDWIDTH = 81.0
CENTER_FILTER_WAVELENGTH = 955.5
RADIANCE_OFFSET = 0.142022
RADIANCE_SCALING_FACTOR = 0.00352733
REFLECTANCE_SCALING_FACTOR = 0.000456778
MEX:REFLECTANCE_OFFSET = 0.0183913
/* IMAGE OBJECT DEFINITIONS */
OBJECT = IMAGE
  INTERCHANGE_FORMAT = BINARY
  LINES = 8269
  LINE_SAMPLES = 1420
  SAMPLE_TYPE = UNSIGNED_INTEGER
  SAMPLE_BITS = 8
  BANDS = 1
  BAND_STORAGE_TYPE = BAND_SEQUENTIAL
  MAXIMUM = 255
  MEAN = 110.767
  MINIMUM = 1
  STANDARD_DEVIATION = 20.7553
END_OBJECT = IMAGE
/* MAP OBJECT DEFINITIONS */
OBJECT = IMAGE_MAP_PROJECTION
  ^DATA_SET_MAP_PROJECTION_CATALOG= "DSMAP.CAT"
  A_AXIS_RADIUS = 3396.0
  B_AXIS_RADIUS = 3396.0
  C_AXIS_RADIUS = 3396.0
  CENTER_LATITUDE = 0.0
  CENTER_LONGITUDE = 339.0
  COORDINATE_SYSTEM_NAME = PLANETOGRAPHIC
  COORDINATE_SYSTEM_TYPE = "BODY-FIXED ROTATING"
  EASTERNMOST_LONGITUDE = 340.262
  FIRST_STANDARD_PARALLEL = "N/A"
  LINE_FIRST_PIXEL = 1
  LINE_LAST_PIXEL = 8269
  LINE_PROJECTION_OFFSET = -7953.125
  MAP_PROJECTION_ROTATION = 0.0
  MAP_PROJECTION_TYPE = SINUSOIDAL
  MAP_RESOLUTION = 592.713803866667
  MAP_SCALE = 0.1
  MAXIMUM_LATITUDE = -13.422
  MINIMUM_LATITUDE = -27.3739
  POSITIVE_LONGITUDE_DIRECTION = EAST
  REFERENCE_LATITUDE = "N/A"
  REFERENCE_LONGITUDE = "N/A"
  SAMPLE_FIRST_PIXEL = 1
  SAMPLE_LAST_PIXEL = 1420
  SAMPLE_PROJECTION_OFFSET = 777.375
  SECOND_STANDARD_PARALLEL = "N/A"
  WESTERNMOST_LONGITUDE = 337.528
END_OBJECT = IMAGE_MAP_PROJECTION
END
