PDS_VERSION_ID = PDS3
/* FILE DATA ELEMENTS */
RECORD_TYPE = UNDEFINED
/* POINTERS TO DATA OBJECTS */
^IMAGE = ("HA613_0000_S24.TIF")
/* IDENTIFICATION DATA ELEMENTS */
DATA_SET_ID = "MEX-M-HRSC-4-REFDR-MAPPROJECT-EXT3-V4.0"
DATA_SET_NAME = "MARS EXPRESS HRSC MAP PROJECTED REFDR EXTENSION3 V4.0"
DETECTOR_ID = MEX_HRSC_S2
EVENT_TYPE = "MARS-REGIONAL-MAPPING-Vo-Te-Fl"
INSTRUMENT_HOST_ID = MEX
INSTRUMENT_HOST_NAME = "MARS EXPRESS"
INSTRUMENT_ID = HRSC
INSTRUMENT_NAME = "HIGH RESOLUTION STEREO CAMERA"
MISSION_NAME = "MARS EXPRESS"
MISSION_PHASE_NAME = ME_Phase_25
PROCESSING_LEVEL_ID = 4
PRODUCT_CREATION_TIME = 2023-02-05T03:55:10.000Z
PRODUCT_ID = "HA613_0000_S24.TIF"
RELEASE_ID = 0009
REVISION_ID = 0000
/* QUALITY DATA ELEMENTS */
DATA_QUALITY_ID = 1
DATA_QUALITY_DESC = "Data calculated based on original SPICE kernels"
/* TIME DATA ELEMENTS */
SPACECRAFT_CLOCK_START_COUNT = "1/0283927168.08260"
SPACECRAFT_CLOCK_STOP_COUNT = "1/0283927516.48018"
START_TIME = 2012-05-01T04:39:31.820Z
STOP_TIME = 2012-05-01T04:43:09.809Z
/* ORBITAL DATA ELEMENTS */
ASCENDING_NODE_LONGITUDE = 14.74
MAXIMUM_RESOLUTION = 0.0345
FOOTPRINT_POINT_LATITUDE = (-31.1419,-31.1399,-31.1352,-31.1258, -31.1254,-31.1269,-30.634,-30.1392, -29.512,-29.257,-28.8759,-28.3627, -27.9744,-27.7148,-27.4523,-27.1859, -26.9205,-26.6554,-26.3883,-26.1176, -25.8474,-25.5779,-25.3043,-24.8897, -24.6132,-24.3322,-24.0503,-23.6275, -23.3399,-23.052,-22.7646,-22.4717, -22.1792,-21.737,-21.4387,-21.1406, -20.8383,-20.5347,-20.2305,-19.921, -19.6116,-19.1414,-18.8271,-18.3486, -18.029,-17.704,-17.2154,-17.0499, -17.0284,-17.029,-17.0285,-17.0243, -17.0187,-17.0136,-17.0132,-17.0138, -17.3446,-17.6706,-17.997,-18.3179, -18.7982,-19.1135,-19.5854,-19.8942, -20.3576,-20.8142,-21.1187,-21.4171, -21.7165,-22.014,-22.4536,-22.7467, -23.0346,-23.323,-23.754,-24.178, -24.4609,-24.7394,-25.0164,-25.2934, -25.5685,-25.8394,-26.1105,-26.517, -26.7822,-27.047,-27.3136,-27.5784, -27.8385,-28.0986,-28.3591,-28.6185, -28.873,-29.1263,-29.5073,-30.0108, -30.5073,-31.0041,-31.1252,-31.1419)
FOOTPRINT_POINT_LONGITUDE = (286.48,285.853,285.403,284.84,284.824, 284.82,284.819,284.819,284.817,284.815, 284.813,284.81,284.808,284.806,284.803, 284.8,284.798,284.795,284.792,284.789, 284.786,284.783,284.78,284.774,284.77, 284.765,284.761,284.754,284.749,284.743 ,284.738,284.732,284.726,284.717, 284.711,284.704,284.697,284.69,284.683, 284.675,284.667,284.655,284.646,284.633 ,284.623,284.614,284.599,284.594, 284.593,285.07,285.408,285.965,286.323, 286.621,286.641,286.648,286.646,286.643 ,286.641,286.638,286.634,286.631, 286.627,286.625,286.621,286.617,286.613 ,286.611,286.608,286.605,286.6,286.598, 286.595,286.591,286.586,286.581,286.578 ,286.575,286.571,286.568,286.565, 286.561,286.558,286.552,286.549,286.546 ,286.542,286.538,286.534,286.53,286.526 ,286.522,286.518,286.515,286.509,286.5, 286.492,286.483,286.481,286.48)
ORBIT_NUMBER = 10613
ORBITAL_ECCENTRICITY = 0.578
ORBITAL_INCLINATION = 86.87
ORBITAL_SEMIMAJOR_AXIS = 8791.46
PERIAPSIS_ALTITUDE = 330.41
PERIAPSIS_ARGUMENT_ANGLE = 306.21
PERIAPSIS_TIME = 2012-05-01T04:34:20.000Z
SPACECRAFT_ORIENTATION = (0.0,1.0,0.0)
^MEX_ORIENTATION_DESC = "MEX_ORIENTATION_DESC.TXT"
SPACECRAFT_POINTING_MODE = NADIR
^MEX_POINTING_DESC = "MEX_POINTING_DESC.TXT"
RIGHT_ASCENSION = -1e+32
DECLINATION = -1e+32
OFFSET_ANGLE = -1e+32
SPACECRAFT_SOLAR_DISTANCE = 2.45094e+08
TARGET_NAME = MARS
/* CAMERA DATA ELEMENTS */
DETECTOR_TEMPERATURE = 19.1861
FOCAL_PLANE_TEMPERATURE = 8.7872
INST_CMPRS_NAME = "DISCRETE COSINE TRANSFORMATION (DCT)"
INST_CMPRS_RATIO = 11.3974
INST_CMPRS_QUALITY = 0
INST_CMPRS_QUANTZ_TBL_ID = 0
INSTRUMENT_TEMPERATURE = 12.0496
LENS_TEMPERATURE = 8.5833
MACROPIXEL_SIZE = 2
MISSING_FRAMES = 0
PIXEL_SUBSAMPLING_FLAG = N
SIGNAL_CHAIN_ID = 1
/* RADIOMETRIC DATA ELEMENTS */
BANDWIDTH = 178.0
CENTER_FILTER_WAVELENGTH = 679.0
RADIANCE_OFFSET = 0.58157
RADIANCE_SCALING_FACTOR = 0.0195869
REFLECTANCE_SCALING_FACTOR = 0.000623105
MEX:REFLECTANCE_OFFSET = 0.0185011
/* IMAGE OBJECT DEFINITIONS */
OBJECT = IMAGE
  INTERCHANGE_FORMAT = BINARY
  LINES = 33485
  LINE_SAMPLES = 5033
  SAMPLE_TYPE = UNSIGNED_INTEGER
  SAMPLE_BITS = 8
  BANDS = 1
  BAND_STORAGE_TYPE = BAND_SEQUENTIAL
  MAXIMUM = 255
  MEAN = 97.0335
  MINIMUM = 1
  STANDARD_DEVIATION = 29.8334
END_OBJECT = IMAGE
/* MAP OBJECT DEFINITIONS */
OBJECT = IMAGE_MAP_PROJECTION
  ^DATA_SET_MAP_PROJECTION_CATALOG= "DSMAP.CAT"
  A_AXIS_RADIUS = 3396.0
  B_AXIS_RADIUS = 3396.0
  C_AXIS_RADIUS = 3396.0
  CENTER_LATITUDE = 0.0
  CENTER_LONGITUDE = 286.0
  COORDINATE_SYSTEM_NAME = PLANETOGRAPHIC
  COORDINATE_SYSTEM_TYPE = "BODY-FIXED ROTATING"
  EASTERNMOST_LONGITUDE = 286.648
  FIRST_STANDARD_PARALLEL = "N/A"
  LINE_FIRST_PIXEL = 1
  LINE_LAST_PIXEL = 33485
  LINE_PROJECTION_OFFSET = -40291.25
  MAP_PROJECTION_ROTATION = 0.0
  MAP_PROJECTION_TYPE = SINUSOIDAL
  MAP_RESOLUTION = 2370.85521546667
  MAP_SCALE = 0.025
  MAXIMUM_LATITUDE = -17.0132
  MINIMUM_LATITUDE = -31.1419
  POSITIVE_LONGITUDE_DIRECTION = EAST
  REFERENCE_LATITUDE = "N/A"
  REFERENCE_LONGITUDE = "N/A"
  SAMPLE_FIRST_PIXEL = 1
  SAMPLE_LAST_PIXEL = 5033
  SAMPLE_PROJECTION_OFFSET = 3389.25
  SECOND_STANDARD_PARALLEL = "N/A"
  WESTERNMOST_LONGITUDE = 284.593
END_OBJECT = IMAGE_MAP_PROJECTION
END
