PDS_VERSION_ID = PDS3
/* FILE DATA ELEMENTS */
RECORD_TYPE = UNDEFINED
/* POINTERS TO DATA OBJECTS */
^IMAGE = ("HA613_0000_S14.TIF")
/* IDENTIFICATION DATA ELEMENTS */
DATA_SET_ID = "MEX-M-HRSC-4-REFDR-MAPPROJECT-EXT3-V4.0"
DATA_SET_NAME = "MARS EXPRESS HRSC MAP PROJECTED REFDR EXTENSION3 V4.0"
DETECTOR_ID = MEX_HRSC_S1
EVENT_TYPE = "MARS-REGIONAL-MAPPING-Vo-Te-Fl"
INSTRUMENT_HOST_ID = MEX
INSTRUMENT_HOST_NAME = "MARS EXPRESS"
INSTRUMENT_ID = HRSC
INSTRUMENT_NAME = "HIGH RESOLUTION STEREO CAMERA"
MISSION_NAME = "MARS EXPRESS"
MISSION_PHASE_NAME = ME_Phase_25
PROCESSING_LEVEL_ID = 4
PRODUCT_CREATION_TIME = 2023-02-05T03:55:10.000Z
PRODUCT_ID = "HA613_0000_S14.TIF"
RELEASE_ID = 0009
REVISION_ID = 0000
/* QUALITY DATA ELEMENTS */
DATA_QUALITY_ID = 1
DATA_QUALITY_DESC = "Data calculated based on original SPICE kernels"
/* TIME DATA ELEMENTS */
SPACECRAFT_CLOCK_START_COUNT = "1/0283927168.08260"
SPACECRAFT_CLOCK_STOP_COUNT = "1/0283927516.48018"
START_TIME = 2012-05-01T04:40:53.348Z
STOP_TIME = 2012-05-01T04:45:18.361Z
/* ORBITAL DATA ELEMENTS */
ASCENDING_NODE_LONGITUDE = 14.74
MAXIMUM_RESOLUTION = 0.0386
FOOTPRINT_POINT_LATITUDE = (-31.0759,-31.0748,-31.0733,-31.071, -31.0691,-31.0689,-31.0654,-30.4506, -29.9537,-29.4514,-28.9452,-28.6887, -28.4345,-28.1742,-27.9138,-27.5242, -27.2611,-26.8648,-26.5977,-26.331, -26.0595,-25.7882,-25.3772,-25.1026, -24.6871,-24.4098,-24.1282,-23.8469, -23.5623,-23.2781,-22.9907,-22.7024, -22.4109,-22.1194,-21.8243,-21.3794, -21.0808,-20.7792,-20.3245,-19.8658, -19.4026,-18.9344,-18.4615,-18.1444, -17.8239,-17.5011,-17.1774,-17.0142, -17.0101,-17.0031,-16.9959,-16.99, -16.9815,-16.9776,-16.9733,-16.973, -16.9735,-17.3007,-17.6255,-17.9467, -18.4265,-18.9007,-19.3704,-19.8361, -20.2963,-20.7525,-21.0544,-21.3528, -21.7997,-22.0967,-22.3891,-22.682, -22.9707,-23.2595,-23.6872,-24.1105, -24.3928,-24.6718,-25.089,-25.3642, -25.6402,-25.9117,-26.1835,-26.4527, -26.72,-26.9888,-27.2526,-27.5174, -27.7802,-28.1707,-28.4309,-28.6872, -28.9435,-29.2013,-29.7063,-29.9595, -30.4566,-30.9519,-31.0743,-31.0759)
FOOTPRINT_POINT_LONGITUDE = (286.582,285.934,285.521,285.054, 284.748,284.73,284.726,284.721,284.718, 284.712,284.706,284.703,284.699,284.696 ,284.693,284.686,284.682,284.675,284.67 ,284.665,284.66,284.655,284.647,284.641 ,284.632,284.625,284.618,284.612, 284.604,284.596,284.589,284.581,284.572 ,284.564,284.555,284.541,284.532, 284.522,284.506,284.49,284.473,284.456, 284.437,284.425,284.412,284.399,284.385 ,284.378,284.377,284.812,285.271, 285.633,286.188,286.551,286.841,286.866 ,286.874,286.868,286.861,286.855, 286.845,286.836,286.827,286.818,286.809 ,286.8,286.794,286.788,286.779,286.774, 286.768,286.762,286.756,286.751,286.742 ,286.733,286.727,286.722,286.713, 286.708,286.702,286.697,286.691,286.685 ,286.68,286.674,286.669,286.663,286.657 ,286.649,286.643,286.637,286.631, 286.626,286.615,286.609,286.597,286.585 ,286.582,286.582)
ORBIT_NUMBER = 10613
ORBITAL_ECCENTRICITY = 0.578
ORBITAL_INCLINATION = 86.87
ORBITAL_SEMIMAJOR_AXIS = 8791.46
PERIAPSIS_ALTITUDE = 330.41
PERIAPSIS_ARGUMENT_ANGLE = 306.21
PERIAPSIS_TIME = 2012-05-01T04:34:20.000Z
SPACECRAFT_ORIENTATION = (0.0,1.0,0.0)
^MEX_ORIENTATION_DESC = "MEX_ORIENTATION_DESC.TXT"
SPACECRAFT_POINTING_MODE = NADIR
^MEX_POINTING_DESC = "MEX_POINTING_DESC.TXT"
RIGHT_ASCENSION = -1e+32
DECLINATION = -1e+32
OFFSET_ANGLE = -1e+32
SPACECRAFT_SOLAR_DISTANCE = 2.45094e+08
TARGET_NAME = MARS
/* CAMERA DATA ELEMENTS */
DETECTOR_TEMPERATURE = 18.1666
FOCAL_PLANE_TEMPERATURE = 8.7872
INST_CMPRS_NAME = "DISCRETE COSINE TRANSFORMATION (DCT)"
INST_CMPRS_RATIO = 9.85384
INST_CMPRS_QUALITY = 0
INST_CMPRS_QUANTZ_TBL_ID = 0
INSTRUMENT_TEMPERATURE = 12.0496
LENS_TEMPERATURE = 8.5833
MACROPIXEL_SIZE = 2
MISSING_FRAMES = 0
PIXEL_SUBSAMPLING_FLAG = N
SIGNAL_CHAIN_ID = 1
/* RADIOMETRIC DATA ELEMENTS */
BANDWIDTH = 180.0
CENTER_FILTER_WAVELENGTH = 677.0
RADIANCE_OFFSET = 0.656572
RADIANCE_SCALING_FACTOR = 0.0205983
REFLECTANCE_SCALING_FACTOR = 0.000645559
MEX:REFLECTANCE_OFFSET = 0.0205772
/* IMAGE OBJECT DEFINITIONS */
OBJECT = IMAGE
  INTERCHANGE_FORMAT = BINARY
  LINES = 33485
  LINE_SAMPLES = 5033
  SAMPLE_TYPE = UNSIGNED_INTEGER
  SAMPLE_BITS = 8
  BANDS = 1
  BAND_STORAGE_TYPE = BAND_SEQUENTIAL
  MAXIMUM = 255
  MEAN = 101.401
  MINIMUM = 1
  STANDARD_DEVIATION = 31.0017
END_OBJECT = IMAGE
/* MAP OBJECT DEFINITIONS */
OBJECT = IMAGE_MAP_PROJECTION
  ^DATA_SET_MAP_PROJECTION_CATALOG= "DSMAP.CAT"
  A_AXIS_RADIUS = 3396.0
  B_AXIS_RADIUS = 3396.0
  C_AXIS_RADIUS = 3396.0
  CENTER_LATITUDE = 0.0
  CENTER_LONGITUDE = 286.0
  COORDINATE_SYSTEM_NAME = PLANETOGRAPHIC
  COORDINATE_SYSTEM_TYPE = "BODY-FIXED ROTATING"
  EASTERNMOST_LONGITUDE = 286.874
  FIRST_STANDARD_PARALLEL = "N/A"
  LINE_FIRST_PIXEL = 1
  LINE_LAST_PIXEL = 33485
  LINE_PROJECTION_OFFSET = -40291.25
  MAP_PROJECTION_ROTATION = 0.0
  MAP_PROJECTION_TYPE = SINUSOIDAL
  MAP_RESOLUTION = 2370.85521546667
  MAP_SCALE = 0.025
  MAXIMUM_LATITUDE = -16.973
  MINIMUM_LATITUDE = -31.0759
  POSITIVE_LONGITUDE_DIRECTION = EAST
  REFERENCE_LATITUDE = "N/A"
  REFERENCE_LONGITUDE = "N/A"
  SAMPLE_FIRST_PIXEL = 1
  SAMPLE_LAST_PIXEL = 5033
  SAMPLE_PROJECTION_OFFSET = 3389.25
  SECOND_STANDARD_PARALLEL = "N/A"
  WESTERNMOST_LONGITUDE = 284.377
END_OBJECT = IMAGE_MAP_PROJECTION
END
