PDS_VERSION_ID = PDS3
/* FILE DATA ELEMENTS */
RECORD_TYPE = UNDEFINED
/* POINTERS TO DATA OBJECTS */
^IMAGE = ("HA611_0000_S14.TIF")
/* IDENTIFICATION DATA ELEMENTS */
DATA_SET_ID = "MEX-M-HRSC-4-REFDR-MAPPROJECT-EXT3-V4.0"
DATA_SET_NAME = "MARS EXPRESS HRSC MAP PROJECTED REFDR EXTENSION3 V4.0"
DETECTOR_ID = MEX_HRSC_S1
EVENT_TYPE = "MARS-REGIONAL-STEREO-Te-Fl"
INSTRUMENT_HOST_ID = MEX
INSTRUMENT_HOST_NAME = "MARS EXPRESS"
INSTRUMENT_ID = HRSC
INSTRUMENT_NAME = "HIGH RESOLUTION STEREO CAMERA"
MISSION_NAME = "MARS EXPRESS"
MISSION_PHASE_NAME = ME_Phase_25
PROCESSING_LEVEL_ID = 4
PRODUCT_CREATION_TIME = 2023-02-05T03:55:10.000Z
PRODUCT_ID = "HA611_0000_S14.TIF"
RELEASE_ID = 0009
REVISION_ID = 0000
/* QUALITY DATA ELEMENTS */
DATA_QUALITY_ID = 1
DATA_QUALITY_DESC = "Data calculated based on original SPICE kernels"
/* TIME DATA ELEMENTS */
SPACECRAFT_CLOCK_START_COUNT = "1/0283876913.07277"
SPACECRAFT_CLOCK_STOP_COUNT = "1/0283877114.46159"
START_TIME = 2012-04-30T14:43:32.039Z
STOP_TIME = 2012-04-30T14:45:16.334Z
/* ORBITAL DATA ELEMENTS */
ASCENDING_NODE_LONGITUDE = 14.78
MAXIMUM_RESOLUTION = 0.0447
FOOTPRINT_POINT_LATITUDE = (-25.4163,-25.4172,-25.4179,-25.4188, -25.4194,-25.4201,-25.4209,-25.4215, -25.422,-25.4225,-25.4231,-25.4235, -25.4239,-25.4239,-25.4285,-25.1722, -25.0159,-24.756,-24.5478,-24.3371, -24.1272,-23.9707,-23.7584,-23.4407, -23.1748,-22.9598,-22.7432,-22.6342, -22.5254,-22.3622,-22.2535,-22.1428, -22.0327,-21.9227,-21.8127,-21.7027, -21.5909,-21.4793,-21.3122,-21.201, -21.0319,-20.919,-20.8064,-20.6939, -20.5802,-20.4662,-20.2952,-20.1813, -20.0082,-19.9504,-19.9479,-19.9446, -19.9427,-19.9383,-19.9409,-19.9392, -19.9368,-19.9338,-19.9312,-19.9239, -19.9221,-19.921,-19.9206,-19.9212, -20.0369,-20.2093,-20.3231,-20.4372, -20.6081,-20.7205,-20.8317,-20.9441, -21.0582,-21.2297,-21.3438,-21.456, -21.5673,-21.7824,-21.8919,-22.0581, -22.1695,-22.2815,-22.3911,-22.5557, -22.6649,-22.8289,-22.9907,-23.2609, -23.4232,-23.583,-23.7966,-24.0101, -24.1687,-24.4328,-24.6439,-24.8513, -25.1116,-25.3701,-25.4214,-25.4163)
FOOTPRINT_POINT_LONGITUDE = (131.186,131.028,130.89,130.712,130.554 ,130.397,130.18,130.022,129.864,129.707 ,129.509,129.351,129.173,129.154, 129.146,129.14,129.137,129.131,129.127, 129.122,129.117,129.113,129.107,129.099 ,129.09,129.085,129.079,129.076,129.073 ,129.068,129.065,129.062,129.058, 129.055,129.052,129.048,129.045,129.041 ,129.036,129.033,129.027,129.024,129.02 ,129.016,129.013,129.009,129.003, 128.999,128.993,128.991,128.991,129.192 ,129.393,129.683,129.839,130.017, 130.263,130.531,130.71,130.909,131.11, 131.267,131.289,131.297,131.295,131.292 ,131.289,131.287,131.283,131.281, 131.278,131.276,131.274,131.271,131.27, 131.268,131.266,131.259,131.256,131.253 ,131.251,131.25,131.248,131.245,131.242 ,131.239,131.236,131.231,131.228, 131.225,131.22,131.216,131.213,131.208, 131.204,131.2,131.195,131.19,131.188, 131.186)
ORBIT_NUMBER = 10611
ORBITAL_ECCENTRICITY = 0.578
ORBITAL_INCLINATION = 86.87
ORBITAL_SEMIMAJOR_AXIS = 8794.41
PERIAPSIS_ALTITUDE = 330.59
PERIAPSIS_ARGUMENT_ANGLE = 306.54
PERIAPSIS_TIME = 2012-04-30T14:35:23.000Z
SPACECRAFT_ORIENTATION = (0.0,1.0,0.0)
^MEX_ORIENTATION_DESC = "MEX_ORIENTATION_DESC.TXT"
SPACECRAFT_POINTING_MODE = NADIR
^MEX_POINTING_DESC = "MEX_POINTING_DESC.TXT"
RIGHT_ASCENSION = -1e+32
DECLINATION = -1e+32
OFFSET_ANGLE = -1e+32
SPACECRAFT_SOLAR_DISTANCE = 2.45156e+08
TARGET_NAME = MARS
/* CAMERA DATA ELEMENTS */
DETECTOR_TEMPERATURE = 18.1666
FOCAL_PLANE_TEMPERATURE = 9.195
INST_CMPRS_NAME = "DISCRETE COSINE TRANSFORMATION (DCT)"
INST_CMPRS_RATIO = 8.98629
INST_CMPRS_QUALITY = 0
INST_CMPRS_QUANTZ_TBL_ID = 0
INSTRUMENT_TEMPERATURE = 12.0496
LENS_TEMPERATURE = 9.6028
MACROPIXEL_SIZE = 2
MISSING_FRAMES = 0
PIXEL_SUBSAMPLING_FLAG = N
SIGNAL_CHAIN_ID = 1
/* RADIOMETRIC DATA ELEMENTS */
BANDWIDTH = 180.0
CENTER_FILTER_WAVELENGTH = 677.0
RADIANCE_OFFSET = 0.744541
RADIANCE_SCALING_FACTOR = 0.0180052
REFLECTANCE_SCALING_FACTOR = 0.000564581
MEX:REFLECTANCE_OFFSET = 0.0233462
/* IMAGE OBJECT DEFINITIONS */
OBJECT = IMAGE
  INTERCHANGE_FORMAT = BINARY
  LINES = 6539
  LINE_SAMPLES = 2316
  SAMPLE_TYPE = UNSIGNED_INTEGER
  SAMPLE_BITS = 8
  BANDS = 1
  BAND_STORAGE_TYPE = BAND_SEQUENTIAL
  MAXIMUM = 255
  MEAN = 113.936
  MINIMUM = 1
  STANDARD_DEVIATION = 16.9121
END_OBJECT = IMAGE
/* MAP OBJECT DEFINITIONS */
OBJECT = IMAGE_MAP_PROJECTION
  ^DATA_SET_MAP_PROJECTION_CATALOG= "DSMAP.CAT"
  A_AXIS_RADIUS = 3396.0
  B_AXIS_RADIUS = 3396.0
  C_AXIS_RADIUS = 3396.0
  CENTER_LATITUDE = 0.0
  CENTER_LONGITUDE = 130.0
  COORDINATE_SYSTEM_NAME = PLANETOGRAPHIC
  COORDINATE_SYSTEM_TYPE = "BODY-FIXED ROTATING"
  EASTERNMOST_LONGITUDE = 131.297
  FIRST_STANDARD_PARALLEL = "N/A"
  LINE_FIRST_PIXEL = 1
  LINE_LAST_PIXEL = 6539
  LINE_PROJECTION_OFFSET = -23613.75
  MAP_PROJECTION_ROTATION = 0.0
  MAP_PROJECTION_TYPE = SINUSOIDAL
  MAP_RESOLUTION = 1185.42760773333
  MAP_SCALE = 0.05
  MAXIMUM_LATITUDE = -19.9206
  MINIMUM_LATITUDE = -25.4285
  POSITIVE_LONGITUDE_DIRECTION = EAST
  REFERENCE_LATITUDE = "N/A"
  REFERENCE_LONGITUDE = "N/A"
  SAMPLE_FIRST_PIXEL = 1
  SAMPLE_LAST_PIXEL = 2316
  SAMPLE_PROJECTION_OFFSET = 1007.25
  SECOND_STANDARD_PARALLEL = "N/A"
  WESTERNMOST_LONGITUDE = 128.991
END_OBJECT = IMAGE_MAP_PROJECTION
END
