PDS_VERSION_ID = PDS3
/* FILE DATA ELEMENTS */
RECORD_TYPE = UNDEFINED
/* POINTERS TO DATA OBJECTS */
^IMAGE = ("HA610_0000_RE4.TIF")
/* IDENTIFICATION DATA ELEMENTS */
DATA_SET_ID = "MEX-M-HRSC-4-REFDR-MAPPROJECT-EXT3-V4.0"
DATA_SET_NAME = "MARS EXPRESS HRSC MAP PROJECTED REFDR EXTENSION3 V4.0"
DETECTOR_ID = MEX_HRSC_RED
EVENT_TYPE = "MARS-REGIONAL-MAPPING-Vo"
INSTRUMENT_HOST_ID = MEX
INSTRUMENT_HOST_NAME = "MARS EXPRESS"
INSTRUMENT_ID = HRSC
INSTRUMENT_NAME = "HIGH RESOLUTION STEREO CAMERA"
MISSION_NAME = "MARS EXPRESS"
MISSION_PHASE_NAME = ME_Phase_25
PROCESSING_LEVEL_ID = 4
PRODUCT_CREATION_TIME = 2023-02-05T03:55:10.000Z
PRODUCT_ID = "HA610_0000_RE4.TIF"
RELEASE_ID = 0009
REVISION_ID = 0000
/* QUALITY DATA ELEMENTS */
DATA_QUALITY_ID = 1
DATA_QUALITY_DESC = "Data calculated based on original SPICE kernels"
/* TIME DATA ELEMENTS */
SPACECRAFT_CLOCK_START_COUNT = "1/0283851610.09050"
SPACECRAFT_CLOCK_STOP_COUNT = "1/0283851956.64917"
START_TIME = 2012-04-30T07:40:19.664Z
STOP_TIME = 2012-04-30T07:44:10.142Z
/* ORBITAL DATA ELEMENTS */
ASCENDING_NODE_LONGITUDE = 14.8
MAXIMUM_RESOLUTION = 0.0642
FOOTPRINT_POINT_LATITUDE = (-34.0423,-34.0425,-34.0407,-34.0317, -34.0315,-34.0132,-33.6118,-33.3446, -32.8116,-32.5435,-32.01,-31.6099, -31.0773,-30.6734,-30.4005,-29.9916, -29.7192,-29.4416,-29.1623,-28.8834, -28.6045,-28.1776,-27.8923,-27.4646, -27.0273,-26.7358,-26.4447,-26.1467, -25.8491,-25.5517,-25.2498,-24.9457, -24.642,-24.3344,-24.0243,-23.7147, -23.4003,-23.0843,-22.7684,-22.4465, -22.1248,-21.6368,-21.3088,-20.8112, -20.4777,-19.971,-19.4603,-19.2876, -19.167,-19.1664,-19.1627,-19.1587, -19.1511,-19.1508,-19.1521,-19.6694, -20.0094,-20.3492,-20.6837,-21.184, -21.5122,-22.003,-22.3256,-22.8084, -23.125,-23.4417,-23.9109,-24.2213, -24.5318,-24.8358,-25.14,-25.4446, -25.7431,-26.0414,-26.4879,-26.7797, -27.0719,-27.5091,-27.7946,-28.0805, -28.3668,-28.7897,-29.0692,-29.3488, -29.6287,-29.9023,-30.1753,-30.4486, -30.7222,-30.9923,-31.5258,-31.926, -32.1931,-32.5941,-32.8613,-33.1289, -33.5305,-33.7983,-33.9324,-34.0423)
FOOTPRINT_POINT_LONGITUDE = (233.306,232.9,232.495,231.717,231.702, 231.693,231.696,231.698,231.701,231.702 ,231.704,231.705,231.705,231.705, 231.704,231.703,231.702,231.701,231.7, 231.699,231.697,231.694,231.692,231.688 ,231.684,231.681,231.677,231.674,231.67 ,231.666,231.662,231.657,231.653, 231.648,231.642,231.637,231.631,231.625 ,231.619,231.612,231.606,231.595, 231.587,231.576,231.567,231.555,231.541 ,231.537,231.533,232.061,232.627, 232.974,233.469,233.487,233.493,233.489 ,233.486,233.484,233.481,233.476, 233.474,233.469,233.466,233.462,233.459 ,233.456,233.451,233.448,233.445, 233.442,233.439,233.436,233.432,233.429 ,233.424,233.42,233.417,233.412,233.408 ,233.404,233.401,233.395,233.391, 233.388,233.384,233.38,233.376,233.372, 233.368,233.364,233.356,233.35,233.345, 233.339,233.334,233.33,233.323,233.318, 233.316,233.306)
ORBIT_NUMBER = 10610
ORBITAL_ECCENTRICITY = 0.578
ORBITAL_INCLINATION = 86.89
ORBITAL_SEMIMAJOR_AXIS = 8791.48
PERIAPSIS_ALTITUDE = 329.67
PERIAPSIS_ARGUMENT_ANGLE = 306.69
PERIAPSIS_TIME = 2012-04-30T07:35:53.000Z
SPACECRAFT_ORIENTATION = (0.0,1.0,0.0)
^MEX_ORIENTATION_DESC = "MEX_ORIENTATION_DESC.TXT"
SPACECRAFT_POINTING_MODE = ACROSSTRACK
^MEX_POINTING_DESC = "MEX_POINTING_DESC.TXT"
RIGHT_ASCENSION = -1e+32
DECLINATION = -1e+32
OFFSET_ANGLE = -0.11
SPACECRAFT_SOLAR_DISTANCE = 2.45187e+08
TARGET_NAME = MARS
/* CAMERA DATA ELEMENTS */
DETECTOR_TEMPERATURE = 18.7783
FOCAL_PLANE_TEMPERATURE = 7.156
INST_CMPRS_NAME = "DISCRETE COSINE TRANSFORMATION (DCT)"
INST_CMPRS_RATIO = 10.0476
INST_CMPRS_QUALITY = 0
INST_CMPRS_QUANTZ_TBL_ID = 0
INSTRUMENT_TEMPERATURE = 11.6418
LENS_TEMPERATURE = 9.195
MACROPIXEL_SIZE = 4
MISSING_FRAMES = 0
PIXEL_SUBSAMPLING_FLAG = N
SIGNAL_CHAIN_ID = 2
/* RADIOMETRIC DATA ELEMENTS */
BANDWIDTH = 48.0
CENTER_FILTER_WAVELENGTH = 748.0
RADIANCE_OFFSET = 0.191259
RADIANCE_SCALING_FACTOR = 0.00810036
REFLECTANCE_SCALING_FACTOR = 0.00111128
MEX:REFLECTANCE_OFFSET = 0.0262386
/* IMAGE OBJECT DEFINITIONS */
OBJECT = IMAGE
  INTERCHANGE_FORMAT = BINARY
  LINES = 17635
  LINE_SAMPLES = 2340
  SAMPLE_TYPE = UNSIGNED_INTEGER
  SAMPLE_BITS = 8
  BANDS = 1
  BAND_STORAGE_TYPE = BAND_SEQUENTIAL
  MAXIMUM = 255
  MEAN = 87.1143
  MINIMUM = 1
  STANDARD_DEVIATION = 27.2362
END_OBJECT = IMAGE
/* MAP OBJECT DEFINITIONS */
OBJECT = IMAGE_MAP_PROJECTION
  ^DATA_SET_MAP_PROJECTION_CATALOG= "DSMAP.CAT"
  A_AXIS_RADIUS = 3396.0
  B_AXIS_RADIUS = 3396.0
  C_AXIS_RADIUS = 3396.0
  CENTER_LATITUDE = 0.0
  CENTER_LONGITUDE = 233.0
  COORDINATE_SYSTEM_NAME = PLANETOGRAPHIC
  COORDINATE_SYSTEM_TYPE = "BODY-FIXED ROTATING"
  EASTERNMOST_LONGITUDE = 233.493
  FIRST_STANDARD_PARALLEL = "N/A"
  LINE_FIRST_PIXEL = 1
  LINE_LAST_PIXEL = 17635
  LINE_PROJECTION_OFFSET = -22684.625
  MAP_PROJECTION_ROTATION = 0.0
  MAP_PROJECTION_TYPE = SINUSOIDAL
  MAP_RESOLUTION = 1185.42760773333
  MAP_SCALE = 0.05
  MAXIMUM_LATITUDE = -19.1508
  MINIMUM_LATITUDE = -34.0425
  POSITIVE_LONGITUDE_DIRECTION = EAST
  REFERENCE_LATITUDE = "N/A"
  REFERENCE_LONGITUDE = "N/A"
  SAMPLE_FIRST_PIXEL = 1
  SAMPLE_LAST_PIXEL = 2340
  SAMPLE_PROJECTION_OFFSET = 1721.375
  SECOND_STANDARD_PARALLEL = "N/A"
  WESTERNMOST_LONGITUDE = 231.533
END_OBJECT = IMAGE_MAP_PROJECTION
END
