PDS_VERSION_ID = PDS3
/* FILE DATA ELEMENTS */
RECORD_TYPE = UNDEFINED
/* POINTERS TO DATA OBJECTS */
^IMAGE = ("HA608_0000_ND4.TIF")
/* IDENTIFICATION DATA ELEMENTS */
DATA_SET_ID = "MEX-M-HRSC-4-REFDR-MAPPROJECT-EXT3-V4.0"
DATA_SET_NAME = "MARS EXPRESS HRSC MAP PROJECTED REFDR EXTENSION3 V4.0"
DETECTOR_ID = MEX_HRSC_NADIR
EVENT_TYPE = "MARS-REGIONAL-MAPPING-Im-Fl-La"
INSTRUMENT_HOST_ID = MEX
INSTRUMENT_HOST_NAME = "MARS EXPRESS"
INSTRUMENT_ID = HRSC
INSTRUMENT_NAME = "HIGH RESOLUTION STEREO CAMERA"
MISSION_NAME = "MARS EXPRESS"
MISSION_PHASE_NAME = ME_Phase_25
PROCESSING_LEVEL_ID = 4
PRODUCT_CREATION_TIME = 2023-02-05T03:55:10.000Z
PRODUCT_ID = "HA608_0000_ND4.TIF"
RELEASE_ID = 0009
REVISION_ID = 0000
/* QUALITY DATA ELEMENTS */
DATA_QUALITY_ID = 1
DATA_QUALITY_DESC = "Data calculated based on original SPICE kernels"
/* TIME DATA ELEMENTS */
SPACECRAFT_CLOCK_START_COUNT = "1/0283801402.09052"
SPACECRAFT_CLOCK_STOP_COUNT = "1/0283801692.32014"
START_TIME = 2012-04-29T17:44:08.561Z
STOP_TIME = 2012-04-29T17:47:01.537Z
/* ORBITAL DATA ELEMENTS */
ASCENDING_NODE_LONGITUDE = 14.83
MAXIMUM_RESOLUTION = 0.0191
FOOTPRINT_POINT_LATITUDE = (-25.8447,-25.8472,-25.8475,-25.8472, -25.8459,-25.8447,-25.8446,-25.8438, -25.5719,-25.1113,-24.7424,-24.2736, -23.8985,-23.5163,-23.1349,-22.9408, -22.6497,-22.456,-22.161,-21.9639, -21.767,-21.4678,-21.2676,-21.0678, -20.764,-20.5608,-20.358,-20.1522, -19.946,-19.7401,-19.5322,-19.323, -19.1142,-18.9033,-18.6912,-18.4794, -18.2653,-18.0503,-17.8357,-17.5091, -17.2914,-17.0717,-16.851,-16.5186, -16.295,-16.0718,-15.8455,-15.7323, -15.7231,-15.7206,-15.718,-15.7141, -15.7088,-15.7054,-15.701,-15.6958, -15.6954,-15.6956,-15.9225,-16.2602, -16.4845,-16.7075,-16.9287,-17.2601, -17.5876,-17.8061,-18.0213,-18.237, -18.4518,-18.6642,-18.877,-19.0886, -19.298,-19.5079,-19.7165,-19.923, -20.1297,-20.3362,-20.5396,-20.7433, -21.048,-21.2484,-21.4491,-21.7492, -21.9466,-22.1443,-22.4402,-22.6345, -22.829,-23.0237,-23.3122,-23.5034, -23.695,-23.8867,-24.2627,-24.7328, -25.2877,-25.7459,-25.8368,-25.8447)
FOOTPRINT_POINT_LONGITUDE = (77.7854,77.1889,76.9178,76.5748, 76.1951,75.9779,75.9598,75.9408,75.937, 75.9303,75.9242,75.9165,75.9098,75.9021 ,75.8942,75.8901,75.8839,75.8816, 75.8754,75.8715,75.867,75.8596,75.8553, 75.8507,75.842,75.8365,75.8305,75.8249, 75.8176,75.8117,75.8065,75.8,75.7952, 75.7881,75.7814,75.7746,75.7676,75.7603 ,75.7533,75.7418,75.7339,75.7272, 75.7194,75.7077,75.6993,75.6912,75.6821 ,75.6779,75.6775,75.987,76.2742,76.6269 ,77.0455,77.2882,77.5746,77.8833, 77.9054,77.916,77.9166,77.9101,77.9079, 77.9054,77.9029,77.8994,77.8957,77.8932 ,77.8907,77.8883,77.8859,77.8836, 77.8812,77.8787,77.8762,77.8735,77.8708 ,77.8687,77.8666,77.8642,77.8617, 77.8591,77.8555,77.8533,77.8508,77.849, 77.8454,77.8418,77.839,77.8365,77.8336, 77.8307,77.8275,77.8249,77.8223,77.8195 ,77.8149,77.809,77.8015,77.7959,77.7947 ,77.7854)
ORBIT_NUMBER = 10608
ORBITAL_ECCENTRICITY = 0.578
ORBITAL_INCLINATION = 86.89
ORBITAL_SEMIMAJOR_AXIS = 8794.31
PERIAPSIS_ALTITUDE = 329.7
PERIAPSIS_ARGUMENT_ANGLE = 307.04
PERIAPSIS_TIME = 2012-04-29T17:37:06.000Z
SPACECRAFT_ORIENTATION = (0.0,1.0,0.0)
^MEX_ORIENTATION_DESC = "MEX_ORIENTATION_DESC.TXT"
SPACECRAFT_POINTING_MODE = NADIR
^MEX_POINTING_DESC = "MEX_POINTING_DESC.TXT"
RIGHT_ASCENSION = -1e+32
DECLINATION = -1e+32
OFFSET_ANGLE = -1e+32
SPACECRAFT_SOLAR_DISTANCE = 2.45249e+08
TARGET_NAME = MARS
/* CAMERA DATA ELEMENTS */
DETECTOR_TEMPERATURE = 18.3705
FOCAL_PLANE_TEMPERATURE = 8.9911
INST_CMPRS_NAME = "DISCRETE COSINE TRANSFORMATION (DCT)"
INST_CMPRS_RATIO = 5.62024
INST_CMPRS_QUALITY = 0
INST_CMPRS_QUANTZ_TBL_ID = 0
INSTRUMENT_TEMPERATURE = 11.8457
LENS_TEMPERATURE = 9.3989
MACROPIXEL_SIZE = 1
MISSING_FRAMES = 0
PIXEL_SUBSAMPLING_FLAG = N
SIGNAL_CHAIN_ID = 0
/* RADIOMETRIC DATA ELEMENTS */
BANDWIDTH = 177.0
CENTER_FILTER_WAVELENGTH = 677.5
RADIANCE_OFFSET = 0.703593
RADIANCE_SCALING_FACTOR = 0.0158353
REFLECTANCE_SCALING_FACTOR = 0.000505969
MEX:REFLECTANCE_OFFSET = 0.0224811
/* IMAGE OBJECT DEFINITIONS */
OBJECT = IMAGE
  INTERCHANGE_FORMAT = BINARY
  LINES = 24068
  LINE_SAMPLES = 5114
  SAMPLE_TYPE = UNSIGNED_INTEGER
  SAMPLE_BITS = 8
  BANDS = 1
  BAND_STORAGE_TYPE = BAND_SEQUENTIAL
  MAXIMUM = 255
  MEAN = 114.846
  MINIMUM = 1
  STANDARD_DEVIATION = 20.6997
END_OBJECT = IMAGE
/* MAP OBJECT DEFINITIONS */
OBJECT = IMAGE_MAP_PROJECTION
  ^DATA_SET_MAP_PROJECTION_CATALOG= "DSMAP.CAT"
  A_AXIS_RADIUS = 3396.0
  B_AXIS_RADIUS = 3396.0
  C_AXIS_RADIUS = 3396.0
  CENTER_LATITUDE = 0.0
  CENTER_LONGITUDE = 77.0
  COORDINATE_SYSTEM_NAME = PLANETOGRAPHIC
  COORDINATE_SYSTEM_TYPE = "BODY-FIXED ROTATING"
  EASTERNMOST_LONGITUDE = 77.9166
  FIRST_STANDARD_PARALLEL = "N/A"
  LINE_FIRST_PIXEL = 1
  LINE_LAST_PIXEL = 24068
  LINE_PROJECTION_OFFSET = -37213.0
  MAP_PROJECTION_ROTATION = 0.0
  MAP_PROJECTION_TYPE = SINUSOIDAL
  MAP_RESOLUTION = 2370.85521546667
  MAP_SCALE = 0.025
  MAXIMUM_LATITUDE = -15.6954
  MINIMUM_LATITUDE = -25.8475
  POSITIVE_LONGITUDE_DIRECTION = EAST
  REFERENCE_LATITUDE = "N/A"
  REFERENCE_LONGITUDE = "N/A"
  SAMPLE_FIRST_PIXEL = 1
  SAMPLE_LAST_PIXEL = 5114
  SAMPLE_PROJECTION_OFFSET = 3018.0
  SECOND_STANDARD_PARALLEL = "N/A"
  WESTERNMOST_LONGITUDE = 75.67749999999999
END_OBJECT = IMAGE_MAP_PROJECTION
END
