PDS_VERSION_ID = PDS3
/* FILE DATA ELEMENTS */
RECORD_TYPE = UNDEFINED
/* POINTERS TO DATA OBJECTS */
^IMAGE = ("HA605_0000_S14.TIF")
/* IDENTIFICATION DATA ELEMENTS */
DATA_SET_ID = "MEX-M-HRSC-4-REFDR-MAPPROJECT-EXT3-V4.0"
DATA_SET_NAME = "MARS EXPRESS HRSC MAP PROJECTED REFDR EXTENSION3 V4.0"
DETECTOR_ID = MEX_HRSC_S1
EVENT_TYPE = "MARS-REGIONAL-MAPPING-Te-Im-Fl"
INSTRUMENT_HOST_ID = MEX
INSTRUMENT_HOST_NAME = "MARS EXPRESS"
INSTRUMENT_ID = HRSC
INSTRUMENT_NAME = "HIGH RESOLUTION STEREO CAMERA"
MISSION_NAME = "MARS EXPRESS"
MISSION_PHASE_NAME = ME_Phase_25
PROCESSING_LEVEL_ID = 4
PRODUCT_CREATION_TIME = 2023-02-05T03:55:10.000Z
PRODUCT_ID = "HA605_0000_S14.TIF"
RELEASE_ID = 0009
REVISION_ID = 0000
/* QUALITY DATA ELEMENTS */
DATA_QUALITY_ID = 1
DATA_QUALITY_DESC = "Data calculated based on original SPICE kernels"
/* TIME DATA ELEMENTS */
SPACECRAFT_CLOCK_START_COUNT = "1/0283725886.09056"
SPACECRAFT_CLOCK_STOP_COUNT = "1/0283726309.21177"
START_TIME = 2012-04-28T20:46:20.069Z
STOP_TIME = 2012-04-28T20:51:50.941Z
/* ORBITAL DATA ELEMENTS */
ASCENDING_NODE_LONGITUDE = 14.9
MAXIMUM_RESOLUTION = 0.0424
FOOTPRINT_POINT_LATITUDE = (-26.4233,-26.4316,-26.4392,-26.4474, -26.4476,-26.4612,-26.0384,-25.3272, -24.8947,-24.3111,-23.725,-22.9766, -22.6773,-22.3728,-22.0688,-21.7618, -21.2988,-20.9877,-20.6731,-20.1983, -19.7188,-19.3969,-19.0718,-18.7442, -18.4146,-18.0821,-17.7488,-17.2441, -16.9054,-16.5634,-16.2181,-15.8706, -15.5223,-15.1711,-14.8173,-14.4601, -14.1007,-13.7378,-13.1965,-12.8224, -12.4503,-12.0775,-11.6976,-11.3172, -10.9337,-10.5471,-10.157,-9.96113, -9.93795,-9.92443,-9.91226,-9.89157, -9.87341,-9.85874,-9.86031,-9.85164, -9.84869,-9.8492,-10.4291,-10.8183, -11.2047,-11.777,-12.3439,-12.7183, -13.0906,-13.4586,-13.8245,-14.1876, -14.5479,-15.0836,-15.6124,-16.1352, -16.4883,-16.8242,-17.1659,-17.505, -17.8425,-18.1745,-18.6734,-19.0013, -19.327,-19.6476,-20.1288,-20.4506, -20.7656,-21.2367,-21.5481,-22.0118, -22.4699,-22.7753,-23.0758,-23.5255, -23.9707,-24.4131,-24.849,-25.4257, -25.8543,-26.2779,-26.4194,-26.4233)
FOOTPRINT_POINT_LONGITUDE = (24.2113,23.6116,23.0087,22.2875, 22.2684,22.2557,22.2499,22.2391,22.2322 ,22.2226,22.2101,22.1949,22.1874, 22.1801,22.1725,22.164,22.151,22.1422, 22.133,22.1187,22.1038,22.0933,22.0824, 22.0717,22.0604,22.0488,22.0364,22.0171 ,22.0036,21.9899,21.9758,21.9614, 21.9459,21.9301,21.9139,21.8973,21.88, 21.8625,21.8325,21.8154,21.7959,21.775, 21.7551,21.7337,21.7117,21.6892,21.6662 ,21.6543,21.6529,21.9943,22.3355, 22.9303,23.4107,23.8335,24.2302,24.5406 ,24.5683,24.5784,24.5614,24.5521,24.543 ,24.5293,24.5163,24.5078,24.4997, 24.4914,24.4833,24.4754,24.4675,24.456, 24.4443,24.433,24.4274,24.4183,24.4114, 24.4044,24.3975,24.3902,24.3805,24.3736 ,24.3665,24.3592,24.3491,24.3432, 24.3362,24.3266,24.32,24.3101,24.3005, 24.2945,24.2878,24.2785,24.2689,24.2595 ,24.25,24.2373,24.2275,24.2179,24.2147, 24.2113)
ORBIT_NUMBER = 10605
ORBITAL_ECCENTRICITY = 0.578
ORBITAL_INCLINATION = 86.87
ORBITAL_SEMIMAJOR_AXIS = 8794.99
PERIAPSIS_ALTITUDE = 330.87
PERIAPSIS_ARGUMENT_ANGLE = 307.56
PERIAPSIS_TIME = 2012-04-28T20:38:48.000Z
SPACECRAFT_ORIENTATION = (0.0,1.0,0.0)
^MEX_ORIENTATION_DESC = "MEX_ORIENTATION_DESC.TXT"
SPACECRAFT_POINTING_MODE = ACROSSTRACK
^MEX_POINTING_DESC = "MEX_POINTING_DESC.TXT"
RIGHT_ASCENSION = -1e+32
DECLINATION = -1e+32
OFFSET_ANGLE = 0.3
SPACECRAFT_SOLAR_DISTANCE = 2.4534e+08
TARGET_NAME = MARS
/* CAMERA DATA ELEMENTS */
DETECTOR_TEMPERATURE = 17.9627
FOCAL_PLANE_TEMPERATURE = 8.7872
INST_CMPRS_NAME = "DISCRETE COSINE TRANSFORMATION (DCT)"
INST_CMPRS_RATIO = 8.43399
INST_CMPRS_QUALITY = 0
INST_CMPRS_QUANTZ_TBL_ID = 0
INSTRUMENT_TEMPERATURE = 11.6418
LENS_TEMPERATURE = 8.5833
MACROPIXEL_SIZE = 2
MISSING_FRAMES = 0
PIXEL_SUBSAMPLING_FLAG = N
SIGNAL_CHAIN_ID = 1
/* RADIOMETRIC DATA ELEMENTS */
BANDWIDTH = 180.0
CENTER_FILTER_WAVELENGTH = 677.0
RADIANCE_OFFSET = 1.42186
RADIANCE_SCALING_FACTOR = 0.0199382
REFLECTANCE_SCALING_FACTOR = 0.000626126
MEX:REFLECTANCE_OFFSET = 0.0446513
/* IMAGE OBJECT DEFINITIONS */
OBJECT = IMAGE
  INTERCHANGE_FORMAT = BINARY
  LINES = 39335
  LINE_SAMPLES = 5922
  SAMPLE_TYPE = UNSIGNED_INTEGER
  SAMPLE_BITS = 8
  BANDS = 1
  BAND_STORAGE_TYPE = BAND_SEQUENTIAL
  MAXIMUM = 255
  MEAN = 133.462
  MINIMUM = 1
  STANDARD_DEVIATION = 22.5983
END_OBJECT = IMAGE
/* MAP OBJECT DEFINITIONS */
OBJECT = IMAGE_MAP_PROJECTION
  ^DATA_SET_MAP_PROJECTION_CATALOG= "DSMAP.CAT"
  A_AXIS_RADIUS = 3396.0
  B_AXIS_RADIUS = 3396.0
  C_AXIS_RADIUS = 3396.0
  CENTER_LATITUDE = 0.0
  CENTER_LONGITUDE = 23.0
  COORDINATE_SYSTEM_NAME = PLANETOGRAPHIC
  COORDINATE_SYSTEM_TYPE = "BODY-FIXED ROTATING"
  EASTERNMOST_LONGITUDE = 24.5784
  FIRST_STANDARD_PARALLEL = "N/A"
  LINE_FIRST_PIXEL = 1
  LINE_LAST_PIXEL = 39335
  LINE_PROJECTION_OFFSET = -23405.75
  MAP_PROJECTION_ROTATION = 0.0
  MAP_PROJECTION_TYPE = SINUSOIDAL
  MAP_RESOLUTION = 2370.85521546667
  MAP_SCALE = 0.025
  MAXIMUM_LATITUDE = -9.84869
  MINIMUM_LATITUDE = -26.4612
  POSITIVE_LONGITUDE_DIRECTION = EAST
  REFERENCE_LATITUDE = "N/A"
  REFERENCE_LONGITUDE = "N/A"
  SAMPLE_FIRST_PIXEL = 1
  SAMPLE_LAST_PIXEL = 5922
  SAMPLE_PROJECTION_OFFSET = 2711.75
  SECOND_STANDARD_PARALLEL = "N/A"
  WESTERNMOST_LONGITUDE = 21.6529
END_OBJECT = IMAGE_MAP_PROJECTION
END
