PDS_VERSION_ID = PDS3
/* FILE DATA ELEMENTS */
RECORD_TYPE = UNDEFINED
/* POINTERS TO DATA OBJECTS */
^IMAGE = ("HA605_0000_GR4.TIF")
/* IDENTIFICATION DATA ELEMENTS */
DATA_SET_ID = "MEX-M-HRSC-4-REFDR-MAPPROJECT-EXT3-V4.0"
DATA_SET_NAME = "MARS EXPRESS HRSC MAP PROJECTED REFDR EXTENSION3 V4.0"
DETECTOR_ID = MEX_HRSC_GREEN
EVENT_TYPE = "MARS-REGIONAL-MAPPING-Te-Im-Fl"
INSTRUMENT_HOST_ID = MEX
INSTRUMENT_HOST_NAME = "MARS EXPRESS"
INSTRUMENT_ID = HRSC
INSTRUMENT_NAME = "HIGH RESOLUTION STEREO CAMERA"
MISSION_NAME = "MARS EXPRESS"
MISSION_PHASE_NAME = ME_Phase_25
PROCESSING_LEVEL_ID = 4
PRODUCT_CREATION_TIME = 2023-02-05T03:55:10.000Z
PRODUCT_ID = "HA605_0000_GR4.TIF"
RELEASE_ID = 0009
REVISION_ID = 0000
/* QUALITY DATA ELEMENTS */
DATA_QUALITY_ID = 1
DATA_QUALITY_DESC = "Data calculated based on original SPICE kernels"
/* TIME DATA ELEMENTS */
SPACECRAFT_CLOCK_START_COUNT = "1/0283725886.09056"
SPACECRAFT_CLOCK_STOP_COUNT = "1/0283726309.21177"
START_TIME = 2012-04-28T20:45:39.372Z
STOP_TIME = 2012-04-28T20:50:33.159Z
/* ORBITAL DATA ELEMENTS */
ASCENDING_NODE_LONGITUDE = 14.9
MAXIMUM_RESOLUTION = 0.0749
FOOTPRINT_POINT_LATITUDE = (-26.4606,-26.4617,-26.4607,-26.4574, -26.4573,-26.4582,-26.0391,-25.4767, -24.7647,-24.1874,-23.4555,-22.9996, -22.702,-22.2491,-21.9468,-21.6398, -21.3329,-20.8667,-20.5553,-20.2388, -19.9228,-19.6016,-19.1185,-18.7934, -18.4652,-18.136,-17.8025,-17.2995, -16.9616,-16.6198,-16.2766,-15.9302, -15.5809,-15.2298,-14.875,-14.5176, -14.1581,-13.6122,-13.2468,-12.8759, -12.5006,-12.1239,-11.7443,-11.3617, -10.9754,-10.5857,-10.1922,-9.99429, -9.92043,-9.91081,-9.90405,-9.89433, -9.88643,-9.8726,-9.87208,-9.87352, -10.2687,-10.6628,-11.0528,-11.4403, -11.8242,-12.2042,-12.5812,-12.9553, -13.3265,-13.6947,-14.059,-14.4208, -14.7803,-15.1361,-15.4893,-15.8409, -16.188,-16.7048,-17.2158,-17.5544, -17.889,-18.3872,-18.7171,-19.0429, -19.3677,-19.6887,-20.0091,-20.3261, -20.6425,-20.9552,-21.2671,-21.5747, -22.035,-22.3384,-22.6418,-23.0994, -23.3979,-24.1331,-24.7116,-25.2838, -25.851,-26.2705,-26.4105,-26.4606)
FOOTPRINT_POINT_LONGITUDE = (24.1436,23.421,22.9479,22.3525,22.3354 ,22.3248,22.321,22.315,22.3063,22.2984, 22.2853,22.2789,22.273,22.2638,22.2577, 22.2506,22.2434,22.2326,22.225,22.2171, 22.209,22.2008,22.1875,22.1787,22.1695, 22.1598,22.1499,22.1336,22.1228,22.1111 ,22.0996,22.0875,22.0744,22.0614, 22.0483,22.0343,22.0197,21.9974,21.9788 ,21.9629,21.9501,21.933,21.9153,21.8974 ,21.879,21.8597,21.8407,21.8309,21.8273 ,22.3804,22.7408,23.2435,23.626,24.3676 ,24.3915,24.3995,24.3909,24.3859, 24.3801,24.3755,24.3697,24.3645,24.3594 ,24.3544,24.3494,24.3442,24.3393, 24.3342,24.3291,24.3243,24.3195,24.3146 ,24.3093,24.302,24.295,24.2904,24.2857, 24.2788,24.2739,24.2691,24.2641,24.2587 ,24.2538,24.249,24.2447,24.2404,24.2351 ,24.2301,24.2226,24.2178,24.2129, 24.2055,24.2006,24.1884,24.1783,24.1683 ,24.1579,24.15,24.1473,24.1436)
ORBIT_NUMBER = 10605
ORBITAL_ECCENTRICITY = 0.578
ORBITAL_INCLINATION = 86.87
ORBITAL_SEMIMAJOR_AXIS = 8794.99
PERIAPSIS_ALTITUDE = 330.87
PERIAPSIS_ARGUMENT_ANGLE = 307.56
PERIAPSIS_TIME = 2012-04-28T20:38:48.000Z
SPACECRAFT_ORIENTATION = (0.0,1.0,0.0)
^MEX_ORIENTATION_DESC = "MEX_ORIENTATION_DESC.TXT"
SPACECRAFT_POINTING_MODE = ACROSSTRACK
^MEX_POINTING_DESC = "MEX_POINTING_DESC.TXT"
RIGHT_ASCENSION = -1e+32
DECLINATION = -1e+32
OFFSET_ANGLE = 0.3
SPACECRAFT_SOLAR_DISTANCE = 2.4534e+08
TARGET_NAME = MARS
/* CAMERA DATA ELEMENTS */
DETECTOR_TEMPERATURE = 18.7783
FOCAL_PLANE_TEMPERATURE = 8.7872
INST_CMPRS_NAME = "DISCRETE COSINE TRANSFORMATION (DCT)"
INST_CMPRS_RATIO = 7.7713
INST_CMPRS_QUALITY = 0
INST_CMPRS_QUANTZ_TBL_ID = 0
INSTRUMENT_TEMPERATURE = 11.6418
LENS_TEMPERATURE = 8.5833
MACROPIXEL_SIZE = 4
MISSING_FRAMES = 1
PIXEL_SUBSAMPLING_FLAG = N
SIGNAL_CHAIN_ID = 2
/* RADIOMETRIC DATA ELEMENTS */
BANDWIDTH = 88.0
CENTER_FILTER_WAVELENGTH = 538.0
RADIANCE_OFFSET = 0.430096
RADIANCE_SCALING_FACTOR = 0.00548162
REFLECTANCE_SCALING_FACTOR = 0.000284075
MEX:REFLECTANCE_OFFSET = 0.022289
/* IMAGE OBJECT DEFINITIONS */
OBJECT = IMAGE
  INTERCHANGE_FORMAT = BINARY
  LINES = 19668
  LINE_SAMPLES = 2961
  SAMPLE_TYPE = UNSIGNED_INTEGER
  SAMPLE_BITS = 8
  BANDS = 1
  BAND_STORAGE_TYPE = BAND_SEQUENTIAL
  MAXIMUM = 255
  MEAN = 140.449
  MINIMUM = 1
  STANDARD_DEVIATION = 20.0646
END_OBJECT = IMAGE
/* MAP OBJECT DEFINITIONS */
OBJECT = IMAGE_MAP_PROJECTION
  ^DATA_SET_MAP_PROJECTION_CATALOG= "DSMAP.CAT"
  A_AXIS_RADIUS = 3396.0
  B_AXIS_RADIUS = 3396.0
  C_AXIS_RADIUS = 3396.0
  CENTER_LATITUDE = 0.0
  CENTER_LONGITUDE = 23.0
  COORDINATE_SYSTEM_NAME = PLANETOGRAPHIC
  COORDINATE_SYSTEM_TYPE = "BODY-FIXED ROTATING"
  EASTERNMOST_LONGITUDE = 24.3995
  FIRST_STANDARD_PARALLEL = "N/A"
  LINE_FIRST_PIXEL = 1
  LINE_LAST_PIXEL = 19668
  LINE_PROJECTION_OFFSET = -11703.125
  MAP_PROJECTION_ROTATION = 0.0
  MAP_PROJECTION_TYPE = SINUSOIDAL
  MAP_RESOLUTION = 1185.42760773333
  MAP_SCALE = 0.05
  MAXIMUM_LATITUDE = -9.87208
  MINIMUM_LATITUDE = -26.4617
  POSITIVE_LONGITUDE_DIRECTION = EAST
  REFERENCE_LATITUDE = "N/A"
  REFERENCE_LONGITUDE = "N/A"
  SAMPLE_FIRST_PIXEL = 1
  SAMPLE_LAST_PIXEL = 2961
  SAMPLE_PROJECTION_OFFSET = 1355.625
  SECOND_STANDARD_PARALLEL = "N/A"
  WESTERNMOST_LONGITUDE = 21.8273
END_OBJECT = IMAGE_MAP_PROJECTION
END
