PDS_VERSION_ID = PDS3
/* FILE DATA ELEMENTS */
RECORD_TYPE = UNDEFINED
/* POINTERS TO DATA OBJECTS */
^IMAGE = ("HA602_0001_GR4.TIF")
/* IDENTIFICATION DATA ELEMENTS */
DATA_SET_ID = "MEX-M-HRSC-4-REFDR-MAPPROJECT-EXT3-V4.0"
DATA_SET_NAME = "MARS EXPRESS HRSC MAP PROJECTED REFDR EXTENSION3 V4.0"
DETECTOR_ID = MEX_HRSC_GREEN
EVENT_TYPE = "MARS-REGIONAL-MAPPING-Im-Fl"
INSTRUMENT_HOST_ID = MEX
INSTRUMENT_HOST_NAME = "MARS EXPRESS"
INSTRUMENT_ID = HRSC
INSTRUMENT_NAME = "HIGH RESOLUTION STEREO CAMERA"
MISSION_NAME = "MARS EXPRESS"
MISSION_PHASE_NAME = ME_Phase_25
PROCESSING_LEVEL_ID = 4
PRODUCT_CREATION_TIME = 2023-02-05T03:55:10.000Z
PRODUCT_ID = "HA602_0001_GR4.TIF"
RELEASE_ID = 0009
REVISION_ID = 0000
/* QUALITY DATA ELEMENTS */
DATA_QUALITY_ID = 1
DATA_QUALITY_DESC = "Data calculated based on original SPICE kernels"
/* TIME DATA ELEMENTS */
SPACECRAFT_CLOCK_START_COUNT = "1/0283650392.08245"
SPACECRAFT_CLOCK_STOP_COUNT = "1/0283650786.13970"
START_TIME = 2012-04-27T23:47:25.818Z
STOP_TIME = 2012-04-27T23:51:53.897Z
/* ORBITAL DATA ELEMENTS */
ASCENDING_NODE_LONGITUDE = 14.95
MAXIMUM_RESOLUTION = 0.0757
FOOTPRINT_POINT_LATITUDE = (-25.7454,-25.7469,-25.7466,-25.7435, -25.7433,-25.7474,-25.1599,-24.8621, -24.5648,-24.2625,-23.8089,-23.3482, -23.0407,-22.5723,-22.26,-21.9431, -21.468,-21.1524,-20.8375,-20.5233, -20.2099,-19.8972,-19.5855,-19.2744, -18.964,-18.6543,-18.3452,-18.0371, -17.7297,-17.4232,-17.1171,-16.8118, -16.5084,-16.054,-15.7504,-15.449, -15.1484,-14.8483,-14.5491,-14.2515, -13.8059,-13.2148,-12.6271,-12.0425, -11.4618,-10.8841,-10.7403,-10.5987, -10.5923,-10.5869,-10.5749,-10.5657, -10.5595,-10.5522,-10.5517,-10.5526, -11.1281,-11.7108,-12.2962,-12.8848, -13.4767,-13.7738,-14.072,-14.3708, -14.6706,-14.9711,-15.2725,-15.5746, -15.8775,-16.1813,-16.4859,-16.7912, -17.0973,-17.4041,-17.7118,-18.02, -18.3291,-18.6401,-18.9499,-19.2615, -19.574,-19.8871,-20.201,-20.5155, -20.8307,-21.1469,-21.4633,-21.9392, -22.2566,-22.5691,-22.8829,-23.1927, -23.5015,-23.9609,-24.2638,-24.5667, -24.8647,-25.4592,-25.6055,-25.7454)
FOOTPRINT_POINT_LONGITUDE = (330.301,329.765,329.221,328.493, 328.476,328.448,328.443,328.441,328.438 ,328.436,328.431,328.428,328.426, 328.421,328.417,328.413,328.404,328.397 ,328.391,328.384,328.376,328.369, 328.361,328.352,328.345,328.337,328.33, 328.321,328.313,328.304,328.296,328.289 ,328.277,328.261,328.256,328.247, 328.237,328.228,328.218,328.206,328.19, 328.167,328.143,328.119,328.093,328.067 ,328.06,328.054,328.411,328.719,329.378 ,329.823,330.125,330.543,330.566, 330.574,330.563,330.555,330.546,330.537 ,330.528,330.523,330.519,330.514, 330.509,330.504,330.5,330.495,330.49, 330.485,330.48,330.475,330.47,330.465, 330.46,330.454,330.449,330.444,330.438, 330.433,330.427,330.421,330.416,330.41, 330.404,330.398,330.392,330.382,330.376 ,330.369,330.363,330.357,330.351, 330.341,330.335,330.328,330.321,330.308 ,330.305,330.301)
ORBIT_NUMBER = 10602
ORBITAL_ECCENTRICITY = 0.578
ORBITAL_INCLINATION = 86.89
ORBITAL_SEMIMAJOR_AXIS = 8791.8
PERIAPSIS_ALTITUDE = 330.67
PERIAPSIS_ARGUMENT_ANGLE = 308.07
PERIAPSIS_TIME = 2012-04-27T23:40:31.000Z
SPACECRAFT_ORIENTATION = (0.0,1.0,0.0)
^MEX_ORIENTATION_DESC = "MEX_ORIENTATION_DESC.TXT"
SPACECRAFT_POINTING_MODE = ACROSSTRACK
^MEX_POINTING_DESC = "MEX_POINTING_DESC.TXT"
RIGHT_ASCENSION = -1e+32
DECLINATION = -1e+32
OFFSET_ANGLE = 0.8
SPACECRAFT_SOLAR_DISTANCE = 2.45431e+08
TARGET_NAME = MARS
/* CAMERA DATA ELEMENTS */
DETECTOR_TEMPERATURE = 18.5744
FOCAL_PLANE_TEMPERATURE = 8.7872
INST_CMPRS_NAME = "DISCRETE COSINE TRANSFORMATION (DCT)"
INST_CMPRS_RATIO = 8.97379
INST_CMPRS_QUALITY = 0
INST_CMPRS_QUANTZ_TBL_ID = 0
INSTRUMENT_TEMPERATURE = 12.0496
LENS_TEMPERATURE = 8.9911
MACROPIXEL_SIZE = 4
MISSING_FRAMES = 0
PIXEL_SUBSAMPLING_FLAG = N
SIGNAL_CHAIN_ID = 2
/* RADIOMETRIC DATA ELEMENTS */
BANDWIDTH = 88.0
CENTER_FILTER_WAVELENGTH = 538.0
RADIANCE_OFFSET = 0.368654
RADIANCE_SCALING_FACTOR = 0.00459526
REFLECTANCE_SCALING_FACTOR = 0.000238318
MEX:REFLECTANCE_OFFSET = 0.019119
/* IMAGE OBJECT DEFINITIONS */
OBJECT = IMAGE
  INTERCHANGE_FORMAT = BINARY
  LINES = 18026
  LINE_SAMPLES = 2898
  SAMPLE_TYPE = UNSIGNED_INTEGER
  SAMPLE_BITS = 8
  BANDS = 1
  BAND_STORAGE_TYPE = BAND_SEQUENTIAL
  MAXIMUM = 255
  MEAN = 123.573
  MINIMUM = 1
  STANDARD_DEVIATION = 23.092
END_OBJECT = IMAGE
/* MAP OBJECT DEFINITIONS */
OBJECT = IMAGE_MAP_PROJECTION
  ^DATA_SET_MAP_PROJECTION_CATALOG= "DSMAP.CAT"
  A_AXIS_RADIUS = 3396.0
  B_AXIS_RADIUS = 3396.0
  C_AXIS_RADIUS = 3396.0
  CENTER_LATITUDE = 0.0
  CENTER_LONGITUDE = 329.0
  COORDINATE_SYSTEM_NAME = PLANETOGRAPHIC
  COORDINATE_SYSTEM_TYPE = "BODY-FIXED ROTATING"
  EASTERNMOST_LONGITUDE = 330.574
  FIRST_STANDARD_PARALLEL = "N/A"
  LINE_FIRST_PIXEL = 1
  LINE_LAST_PIXEL = 18026
  LINE_PROJECTION_OFFSET = -12508.875
  MAP_PROJECTION_ROTATION = 0.0
  MAP_PROJECTION_TYPE = SINUSOIDAL
  MAP_RESOLUTION = 1185.42760773333
  MAP_SCALE = 0.05
  MAXIMUM_LATITUDE = -10.5517
  MINIMUM_LATITUDE = -25.7474
  POSITIVE_LONGITUDE_DIRECTION = EAST
  REFERENCE_LATITUDE = "N/A"
  REFERENCE_LONGITUDE = "N/A"
  SAMPLE_FIRST_PIXEL = 1
  SAMPLE_LAST_PIXEL = 2898
  SAMPLE_PROJECTION_OFFSET = 1090.125
  SECOND_STANDARD_PARALLEL = "N/A"
  WESTERNMOST_LONGITUDE = 328.054
END_OBJECT = IMAGE_MAP_PROJECTION
END
