PDS_VERSION_ID = PDS3
/* FILE DATA ELEMENTS */
RECORD_TYPE = UNDEFINED
/* POINTERS TO DATA OBJECTS */
^IMAGE = ("HA599_0000_S14.TIF")
/* IDENTIFICATION DATA ELEMENTS */
DATA_SET_ID = "MEX-M-HRSC-4-REFDR-MAPPROJECT-EXT3-V4.0"
DATA_SET_NAME = "MARS EXPRESS HRSC MAP PROJECTED REFDR EXTENSION3 V4.0"
DETECTOR_ID = MEX_HRSC_S1
EVENT_TYPE = "MARS-REGIONAL-MAPPING-Vo-Te"
INSTRUMENT_HOST_ID = MEX
INSTRUMENT_HOST_NAME = "MARS EXPRESS"
INSTRUMENT_ID = HRSC
INSTRUMENT_NAME = "HIGH RESOLUTION STEREO CAMERA"
MISSION_NAME = "MARS EXPRESS"
MISSION_PHASE_NAME = ME_Phase_25
PROCESSING_LEVEL_ID = 4
PRODUCT_CREATION_TIME = 2023-02-05T03:55:10.000Z
PRODUCT_ID = "HA599_0000_S14.TIF"
RELEASE_ID = 0009
REVISION_ID = 0000
/* QUALITY DATA ELEMENTS */
DATA_QUALITY_ID = 1
DATA_QUALITY_DESC = "Data calculated based on original SPICE kernels"
/* TIME DATA ELEMENTS */
SPACECRAFT_CLOCK_START_COUNT = "1/0283574920.08271"
SPACECRAFT_CLOCK_STOP_COUNT = "1/0283575213.05014"
START_TIME = 2012-04-27T02:50:17.336Z
STOP_TIME = 2012-04-27T02:53:34.694Z
/* ORBITAL DATA ELEMENTS */
ASCENDING_NODE_LONGITUDE = 15.01
MAXIMUM_RESOLUTION = 0.0439
FOOTPRINT_POINT_LATITUDE = (-24.0492,-24.0518,-24.0533,-24.0557, -24.0571,-24.0583,-24.0583,-24.0568, -23.6886,-23.3201,-22.8521,-22.4748, -22.0957,-21.7119,-21.3269,-21.1328, -20.9391,-20.7435,-20.5467,-20.3505, -20.1522,-19.9533,-19.6543,-19.4531, -19.2523,-19.0488,-18.8443,-18.6416, -18.4367,-18.2315,-18.024,-17.8192, -17.6073,-17.398,-17.1888,-16.9768, -16.7652,-16.4446,-16.2307,-16.0144, -15.7987,-15.5804,-15.3624,-15.1421, -14.9223,-14.6998,-14.3658,-14.0295, -13.9163,-13.8954,-13.887,-13.8806, -13.8742,-13.867,-13.8618,-13.8582, -13.8537,-13.8533,-13.8539,-14.0803, -14.3048,-14.6404,-14.864,-15.085, -15.416,-15.6347,-15.8528,-16.0692, -16.286,-16.501,-16.7158,-16.9285, -17.1418,-17.4573,-17.6678,-17.876, -18.188,-18.3941,-18.703,-19.0088, -19.2127,-19.4142,-19.6158,-19.8168, -20.1156,-20.315,-20.5117,-20.7088, -20.9052,-21.0996,-21.2942,-21.4881, -21.8731,-22.4458,-22.7301,-23.1049, -23.6624,-23.9402,-24.0317,-24.0492)
FOOTPRINT_POINT_LONGITUDE = (277.945,277.485,277.178,276.661, 276.315,275.989,275.97,275.964,275.956, 275.948,275.937,275.928,275.918,275.908 ,275.897,275.892,275.886,275.88,275.875 ,275.869,275.862,275.856,275.847,275.84 ,275.833,275.827,275.82,275.813,275.805 ,275.798,275.791,275.782,275.775, 275.767,275.759,275.751,275.742,275.729 ,275.721,275.712,275.702,275.693, 275.684,275.674,275.664,275.654,275.639 ,275.623,275.618,275.617,276.054, 276.395,276.759,277.172,277.537,277.805 ,278.098,278.122,278.131,278.126, 278.122,278.115,278.111,278.107,278.101 ,278.097,278.093,278.088,278.085, 278.081,278.077,278.073,278.069,278.063 ,278.06,278.056,278.05,278.047,278.041, 278.036,278.032,278.028,278.025,278.021 ,278.016,278.012,278.009,278.005, 278.002,277.998,277.995,277.991,277.984 ,277.974,277.969,277.962,277.952, 277.947,277.945,277.945)
ORBIT_NUMBER = 10599
ORBITAL_ECCENTRICITY = 0.578
ORBITAL_INCLINATION = 86.87
ORBITAL_SEMIMAJOR_AXIS = 8796.05
PERIAPSIS_ALTITUDE = 330.65
PERIAPSIS_ARGUMENT_ANGLE = 308.59
PERIAPSIS_TIME = 2012-04-27T02:42:21.000Z
SPACECRAFT_ORIENTATION = (0.0,1.0,0.0)
^MEX_ORIENTATION_DESC = "MEX_ORIENTATION_DESC.TXT"
SPACECRAFT_POINTING_MODE = NADIR
^MEX_POINTING_DESC = "MEX_POINTING_DESC.TXT"
RIGHT_ASCENSION = -1e+32
DECLINATION = -1e+32
OFFSET_ANGLE = -1e+32
SPACECRAFT_SOLAR_DISTANCE = 2.45521e+08
TARGET_NAME = MARS
/* CAMERA DATA ELEMENTS */
DETECTOR_TEMPERATURE = 18.5744
FOCAL_PLANE_TEMPERATURE = 8.7872
INST_CMPRS_NAME = "DISCRETE COSINE TRANSFORMATION (DCT)"
INST_CMPRS_RATIO = 10.7798
INST_CMPRS_QUALITY = 0
INST_CMPRS_QUANTZ_TBL_ID = 0
INSTRUMENT_TEMPERATURE = 11.0301
LENS_TEMPERATURE = 8.9911
MACROPIXEL_SIZE = 2
MISSING_FRAMES = 0
PIXEL_SUBSAMPLING_FLAG = N
SIGNAL_CHAIN_ID = 1
/* RADIOMETRIC DATA ELEMENTS */
BANDWIDTH = 180.0
CENTER_FILTER_WAVELENGTH = 677.0
RADIANCE_OFFSET = 1.11681
RADIANCE_SCALING_FACTOR = 0.0244936
REFLECTANCE_SCALING_FACTOR = 0.000770313
MEX:REFLECTANCE_OFFSET = 0.0351232
/* IMAGE OBJECT DEFINITIONS */
OBJECT = IMAGE
  INTERCHANGE_FORMAT = BINARY
  LINES = 12080
  LINE_SAMPLES = 2563
  SAMPLE_TYPE = UNSIGNED_INTEGER
  SAMPLE_BITS = 8
  BANDS = 1
  BAND_STORAGE_TYPE = BAND_SEQUENTIAL
  MAXIMUM = 255
  MEAN = 107.238
  MINIMUM = 1
  STANDARD_DEVIATION = 29.5727
END_OBJECT = IMAGE
/* MAP OBJECT DEFINITIONS */
OBJECT = IMAGE_MAP_PROJECTION
  ^DATA_SET_MAP_PROJECTION_CATALOG= "DSMAP.CAT"
  A_AXIS_RADIUS = 3396.0
  B_AXIS_RADIUS = 3396.0
  C_AXIS_RADIUS = 3396.0
  CENTER_LATITUDE = 0.0
  CENTER_LONGITUDE = 277.0
  COORDINATE_SYSTEM_NAME = PLANETOGRAPHIC
  COORDINATE_SYSTEM_TYPE = "BODY-FIXED ROTATING"
  EASTERNMOST_LONGITUDE = 278.131
  FIRST_STANDARD_PARALLEL = "N/A"
  LINE_FIRST_PIXEL = 1
  LINE_LAST_PIXEL = 12080
  LINE_PROJECTION_OFFSET = -16455.25
  MAP_PROJECTION_ROTATION = 0.0
  MAP_PROJECTION_TYPE = SINUSOIDAL
  MAP_RESOLUTION = 1185.42760773333
  MAP_SCALE = 0.05
  MAXIMUM_LATITUDE = -13.8533
  MINIMUM_LATITUDE = -24.0583
  POSITIVE_LONGITUDE_DIRECTION = EAST
  REFERENCE_LATITUDE = "N/A"
  REFERENCE_LONGITUDE = "N/A"
  SAMPLE_FIRST_PIXEL = 1
  SAMPLE_LAST_PIXEL = 2563
  SAMPLE_PROJECTION_OFFSET = 1438.25
  SECOND_STANDARD_PARALLEL = "N/A"
  WESTERNMOST_LONGITUDE = 275.617
END_OBJECT = IMAGE_MAP_PROJECTION
END
