PDS_VERSION_ID = PDS3
/* FILE DATA ELEMENTS */
RECORD_TYPE = UNDEFINED
/* POINTERS TO DATA OBJECTS */
^IMAGE = ("HA595_0000_GR4.TIF")
/* IDENTIFICATION DATA ELEMENTS */
DATA_SET_ID = "MEX-M-HRSC-4-REFDR-MAPPROJECT-EXT3-V4.0"
DATA_SET_NAME = "MARS EXPRESS HRSC MAP PROJECTED REFDR EXTENSION3 V4.0"
DETECTOR_ID = MEX_HRSC_GREEN
EVENT_TYPE = "MARS-REGIONAL-MAPPING-Im-Fl"
INSTRUMENT_HOST_ID = MEX
INSTRUMENT_HOST_NAME = "MARS EXPRESS"
INSTRUMENT_ID = HRSC
INSTRUMENT_NAME = "HIGH RESOLUTION STEREO CAMERA"
MISSION_NAME = "MARS EXPRESS"
MISSION_PHASE_NAME = ME_Phase_25
PROCESSING_LEVEL_ID = 4
PRODUCT_CREATION_TIME = 2023-02-05T03:55:10.000Z
PRODUCT_ID = "HA595_0000_GR4.TIF"
RELEASE_ID = 0009
REVISION_ID = 0000
/* QUALITY DATA ELEMENTS */
DATA_QUALITY_ID = 1
DATA_QUALITY_DESC = "Data calculated based on original SPICE kernels"
/* TIME DATA ELEMENTS */
SPACECRAFT_CLOCK_START_COUNT = "1/0283474297.07304"
SPACECRAFT_CLOCK_STOP_COUNT = "1/0283474645.56314"
START_TIME = 2012-04-25T22:52:36.091Z
STOP_TIME = 2012-04-25T22:56:11.662Z
/* ORBITAL DATA ELEMENTS */
ASCENDING_NODE_LONGITUDE = 15.08
MAXIMUM_RESOLUTION = 0.0834
FOOTPRINT_POINT_LATITUDE = (-20.6365,-20.6411,-20.6432,-20.6446, -20.6458,-20.6466,-20.6466,-20.6471, -20.2856,-19.9338,-19.6965,-19.4593, -19.2196,-18.9783,-18.7376,-18.371, -18.1266,-17.7556,-17.4976,-17.2509, -16.8804,-16.6345,-16.389,-16.1441, -15.8997,-15.6558,-15.4125,-15.1697, -14.9274,-14.6856,-14.4444,-14.2036, -13.9632,-13.7235,-13.4842,-13.2455, -13.0074,-12.7698,-12.5325,-12.2963, -11.9458,-11.7105,-11.2417,-10.775, -10.1945,-9.73285,-9.27304,-8.81554, -8.70145,-8.68483,-8.67893,-8.67102, -8.66226,-8.65537,-8.6499,-8.64347, -8.63617,-8.63566,-8.63669,-9.09532, -9.55638,-10.1359,-10.5996,-11.067, -11.5371,-11.7728,-12.0086,-12.2453, -12.4828,-12.7207,-12.9591,-13.198, -13.4374,-13.6773,-14.0389,-14.2795, -14.6424,-14.8846,-15.2496,-15.4935, -15.738,-15.9829,-16.2282,-16.5975, -16.8436,-17.0909,-17.3393,-17.7222, -17.971,-18.2164,-18.462,-18.7073, -18.9486,-19.1902,-19.4304,-19.6676, -19.9057,-20.4951,-20.6224,-20.6365)
FOOTPRINT_POINT_LONGITUDE = (326.86,326.339,326.016,325.747,325.406 ,324.957,324.939,324.931,324.923, 324.912,324.905,324.898,324.891,324.884 ,324.878,324.867,324.86,324.848,324.84, 324.831,324.82,324.812,324.803,324.795, 324.786,324.777,324.768,324.759,324.75, 324.741,324.731,324.722,324.712,324.703 ,324.693,324.683,324.673,324.663, 324.653,324.642,324.62,324.61,324.588, 324.567,324.539,324.516,324.493,324.47, 324.464,324.463,324.795,325.247,325.699 ,326.08,326.341,326.65,326.983,327.007, 327.015,327.009,327.004,326.997,326.987 ,326.981,326.975,326.972,326.968, 326.965,326.963,326.96,326.957,326.954, 326.951,326.948,326.945,326.941,326.937 ,326.934,326.93,326.927,326.924,326.922 ,326.919,326.915,326.911,326.908, 326.907,326.903,326.9,326.896,326.894, 326.891,326.888,326.885,326.881,326.877 ,326.873,326.868,326.866,326.86)
ORBIT_NUMBER = 10595
ORBITAL_ECCENTRICITY = 0.578
ORBITAL_INCLINATION = 86.89
ORBITAL_SEMIMAJOR_AXIS = 8793.69
PERIAPSIS_ALTITUDE = 330.92
PERIAPSIS_ARGUMENT_ANGLE = 309.27
PERIAPSIS_TIME = 2012-04-25T22:44:36.000Z
SPACECRAFT_ORIENTATION = (0.0,1.0,0.0)
^MEX_ORIENTATION_DESC = "MEX_ORIENTATION_DESC.TXT"
SPACECRAFT_POINTING_MODE = NADIR
^MEX_POINTING_DESC = "MEX_POINTING_DESC.TXT"
RIGHT_ASCENSION = -1e+32
DECLINATION = -1e+32
OFFSET_ANGLE = -1e+32
SPACECRAFT_SOLAR_DISTANCE = 2.45638e+08
TARGET_NAME = MARS
/* CAMERA DATA ELEMENTS */
DETECTOR_TEMPERATURE = 18.5744
FOCAL_PLANE_TEMPERATURE = 8.9911
INST_CMPRS_NAME = "DISCRETE COSINE TRANSFORMATION (DCT)"
INST_CMPRS_RATIO = 8.42547
INST_CMPRS_QUALITY = 0
INST_CMPRS_QUANTZ_TBL_ID = 0
INSTRUMENT_TEMPERATURE = 12.2535
LENS_TEMPERATURE = 9.6028
MACROPIXEL_SIZE = 4
PIXEL_SUBSAMPLING_FLAG = N
SIGNAL_CHAIN_ID = 2
/* RADIOMETRIC DATA ELEMENTS */
BANDWIDTH = 88.0
CENTER_FILTER_WAVELENGTH = 538.0
RADIANCE_OFFSET = 0.462559
RADIANCE_SCALING_FACTOR = 0.00434395
REFLECTANCE_SCALING_FACTOR = 0.000225665
MEX:REFLECTANCE_OFFSET = 0.0240296
/* IMAGE OBJECT DEFINITIONS */
OBJECT = IMAGE
  INTERCHANGE_FORMAT = BINARY
  LINES = 7122
  LINE_SAMPLES = 1475
  SAMPLE_TYPE = UNSIGNED_INTEGER
  SAMPLE_BITS = 8
  BANDS = 1
  BAND_STORAGE_TYPE = BAND_SEQUENTIAL
  MAXIMUM = 255
  MEAN = 121.029
  MINIMUM = 1
  STANDARD_DEVIATION = 23.5549
END_OBJECT = IMAGE
/* MAP OBJECT DEFINITIONS */
OBJECT = IMAGE_MAP_PROJECTION
  ^DATA_SET_MAP_PROJECTION_CATALOG= "DSMAP.CAT"
  A_AXIS_RADIUS = 3396.0
  B_AXIS_RADIUS = 3396.0
  C_AXIS_RADIUS = 3396.0
  CENTER_LATITUDE = 0.0
  CENTER_LONGITUDE = 326.0
  COORDINATE_SYSTEM_NAME = PLANETOGRAPHIC
  COORDINATE_SYSTEM_TYPE = "BODY-FIXED ROTATING"
  EASTERNMOST_LONGITUDE = 327.015
  FIRST_STANDARD_PARALLEL = "N/A"
  LINE_FIRST_PIXEL = 1
  LINE_LAST_PIXEL = 7122
  LINE_PROJECTION_OFFSET = -5114.375
  MAP_PROJECTION_ROTATION = 0.0
  MAP_PROJECTION_TYPE = SINUSOIDAL
  MAP_RESOLUTION = 592.713803866667
  MAP_SCALE = 0.1
  MAXIMUM_LATITUDE = -8.63566
  MINIMUM_LATITUDE = -20.6471
  POSITIVE_LONGITUDE_DIRECTION = EAST
  REFERENCE_LATITUDE = "N/A"
  REFERENCE_LONGITUDE = "N/A"
  SAMPLE_FIRST_PIXEL = 1
  SAMPLE_LAST_PIXEL = 1475
  SAMPLE_PROJECTION_OFFSET = 893.875
  SECOND_STANDARD_PARALLEL = "N/A"
  WESTERNMOST_LONGITUDE = 324.463
END_OBJECT = IMAGE_MAP_PROJECTION
END
