PDS_VERSION_ID = PDS3
/* FILE DATA ELEMENTS */
RECORD_TYPE = UNDEFINED
/* POINTERS TO DATA OBJECTS */
^IMAGE = ("HA581_0000_GR4.TIF")
/* IDENTIFICATION DATA ELEMENTS */
DATA_SET_ID = "MEX-M-HRSC-4-REFDR-MAPPROJECT-EXT3-V4.0"
DATA_SET_NAME = "MARS EXPRESS HRSC MAP PROJECTED REFDR EXTENSION3 V4.0"
DETECTOR_ID = MEX_HRSC_GREEN
EVENT_TYPE = "MARS-REGIONAL-MAPPING-Im-Fl"
INSTRUMENT_HOST_ID = MEX
INSTRUMENT_HOST_NAME = "MARS EXPRESS"
INSTRUMENT_ID = HRSC
INSTRUMENT_NAME = "HIGH RESOLUTION STEREO CAMERA"
MISSION_NAME = "MARS EXPRESS"
MISSION_PHASE_NAME = ME_Phase_25
PROCESSING_LEVEL_ID = 4
PRODUCT_CREATION_TIME = 2023-02-05T03:55:10.000Z
PRODUCT_ID = "HA581_0000_GR4.TIF"
RELEASE_ID = 0009
REVISION_ID = 0000
/* QUALITY DATA ELEMENTS */
DATA_QUALITY_ID = 1
DATA_QUALITY_DESC = "Data calculated based on original SPICE kernels"
/* TIME DATA ELEMENTS */
SPACECRAFT_CLOCK_START_COUNT = "1/0283121880.08249"
SPACECRAFT_CLOCK_STOP_COUNT = "1/0283122077.21779"
START_TIME = 2012-04-21T20:58:49.825Z
STOP_TIME = 2012-04-21T21:00:33.298Z
/* ORBITAL DATA ELEMENTS */
ASCENDING_NODE_LONGITUDE = 15.35
MAXIMUM_RESOLUTION = 0.0704
FOOTPRINT_POINT_LATITUDE = (-25.2317,-25.2324,-25.2329,-25.2331, -25.2328,-25.232,-25.2313,-25.2302, -25.2301,-25.2316,-24.9378,-24.7031, -24.4689,-24.232,-23.933,-23.6941, -23.4556,-23.2735,-23.1517,-23.0299, -22.7868,-22.544,-22.42,-22.2341, -22.1102,-21.9864,-21.8627,-21.7392, -21.614,-21.4878,-21.2987,-21.1728, -21.0471,-20.9214,-20.7938,-20.6655, -20.5374,-20.4093,-20.2815,-20.1536, -20.0242,-19.8939,-19.7636,-19.6335, -19.5035,-19.3737,-19.2418,-19.1093, -19.0432,-19.0312,-19.0304,-19.0295, -19.0282,-19.0269,-19.0259,-19.0237, -19.0221,-19.0198,-19.0196,-19.0207, -19.1534,-19.3522,-19.4824,-19.6127, -19.7431,-19.8737,-20.0044,-20.1344, -20.3265,-20.4546,-20.583,-20.7115, -20.9038,-21.0297,-21.1557,-21.2818, -21.4082,-21.5346,-21.7235,-21.8473, -21.9713,-22.0953,-22.2816,-22.4058, -22.5911,-22.8345,-22.9564,-23.0784, -23.2004,-23.3225,-23.4442,-23.6833, -23.9226,-24.1623,-24.4596,-24.6944, -24.9296,-25.1651,-25.224,-25.2317)
FOOTPRINT_POINT_LONGITUDE = (317.987,317.799,317.565,317.252, 317.017,316.72,316.532,316.328,316.313, 316.303,316.3,316.297,316.294,316.291, 316.287,316.283,316.28,316.277,316.275, 316.273,316.268,316.264,316.262,316.258 ,316.256,316.254,316.251,316.249, 316.247,316.244,316.24,316.238,316.235, 316.232,316.23,316.227,316.224,316.221, 316.218,316.216,316.212,316.209,316.207 ,316.203,316.2,316.197,316.193,316.19, 316.189,316.188,316.468,316.713,317.01, 317.221,317.361,317.624,317.816,318.044 ,318.062,318.068,318.066,318.064, 318.062,318.061,318.06,318.058,318.057, 318.056,318.053,318.052,318.05,318.049, 318.046,318.045,318.043,318.042,318.04, 318.039,318.037,318.035,318.034,318.032 ,318.03,318.029,318.026,318.023,318.022 ,318.021,318.019,318.018,318.016, 318.013,318.01,318.007,318.003,318.0, 317.997,317.995,317.994,317.987)
ORBIT_NUMBER = 10581
ORBITAL_ECCENTRICITY = 0.578
ORBITAL_INCLINATION = 86.89
ORBITAL_SEMIMAJOR_AXIS = 8798.04
PERIAPSIS_ALTITUDE = 331.42
PERIAPSIS_ARGUMENT_ANGLE = 311.67
PERIAPSIS_TIME = 2012-04-21T20:52:45.000Z
SPACECRAFT_ORIENTATION = (0.0,1.0,0.0)
^MEX_ORIENTATION_DESC = "MEX_ORIENTATION_DESC.TXT"
SPACECRAFT_POINTING_MODE = NADIR
^MEX_POINTING_DESC = "MEX_POINTING_DESC.TXT"
RIGHT_ASCENSION = -1e+32
DECLINATION = -1e+32
OFFSET_ANGLE = -1e+32
SPACECRAFT_SOLAR_DISTANCE = 2.46037e+08
TARGET_NAME = MARS
/* CAMERA DATA ELEMENTS */
DETECTOR_TEMPERATURE = 18.3705
FOCAL_PLANE_TEMPERATURE = 8.5833
INST_CMPRS_NAME = "DISCRETE COSINE TRANSFORMATION (DCT)"
INST_CMPRS_RATIO = 7.71049
INST_CMPRS_QUALITY = 0
INST_CMPRS_QUANTZ_TBL_ID = 0
INSTRUMENT_TEMPERATURE = 11.8457
LENS_TEMPERATURE = 8.9911
MACROPIXEL_SIZE = 4
MISSING_FRAMES = 0
PIXEL_SUBSAMPLING_FLAG = N
SIGNAL_CHAIN_ID = 2
/* RADIOMETRIC DATA ELEMENTS */
BANDWIDTH = 88.0
CENTER_FILTER_WAVELENGTH = 538.0
RADIANCE_OFFSET = 0.311745
RADIANCE_SCALING_FACTOR = 0.00358872
REFLECTANCE_SCALING_FACTOR = 0.000187037
MEX:REFLECTANCE_OFFSET = 0.0162476
/* IMAGE OBJECT DEFINITIONS */
OBJECT = IMAGE
  INTERCHANGE_FORMAT = BINARY
  LINES = 7369
  LINE_SAMPLES = 2091
  SAMPLE_TYPE = UNSIGNED_INTEGER
  SAMPLE_BITS = 8
  BANDS = 1
  BAND_STORAGE_TYPE = BAND_SEQUENTIAL
  MAXIMUM = 255
  MEAN = 122.729
  MINIMUM = 1
  STANDARD_DEVIATION = 19.2554
END_OBJECT = IMAGE
/* MAP OBJECT DEFINITIONS */
OBJECT = IMAGE_MAP_PROJECTION
  ^DATA_SET_MAP_PROJECTION_CATALOG= "DSMAP.CAT"
  A_AXIS_RADIUS = 3396.0
  B_AXIS_RADIUS = 3396.0
  C_AXIS_RADIUS = 3396.0
  CENTER_LATITUDE = 0.0
  CENTER_LONGITUDE = 317.0
  COORDINATE_SYSTEM_NAME = PLANETOGRAPHIC
  COORDINATE_SYSTEM_TYPE = "BODY-FIXED ROTATING"
  EASTERNMOST_LONGITUDE = 318.068
  FIRST_STANDARD_PARALLEL = "N/A"
  LINE_FIRST_PIXEL = 1
  LINE_LAST_PIXEL = 7369
  LINE_PROJECTION_OFFSET = -22551.125
  MAP_PROJECTION_ROTATION = 0.0
  MAP_PROJECTION_TYPE = SINUSOIDAL
  MAP_RESOLUTION = 1185.42760773333
  MAP_SCALE = 0.05
  MAXIMUM_LATITUDE = -19.0196
  MINIMUM_LATITUDE = -25.2331
  POSITIVE_LONGITUDE_DIRECTION = EAST
  REFERENCE_LATITUDE = "N/A"
  REFERENCE_LONGITUDE = "N/A"
  SAMPLE_FIRST_PIXEL = 1
  SAMPLE_LAST_PIXEL = 2091
  SAMPLE_PROJECTION_OFFSET = 906.875
  SECOND_STANDARD_PARALLEL = "N/A"
  WESTERNMOST_LONGITUDE = 316.188
END_OBJECT = IMAGE_MAP_PROJECTION
END
