PDS_VERSION_ID = PDS3
/* FILE DATA ELEMENTS */
RECORD_TYPE = UNDEFINED
/* POINTERS TO DATA OBJECTS */
^IMAGE = ("HA575_0000_GR4.TIF")
/* IDENTIFICATION DATA ELEMENTS */
DATA_SET_ID = "MEX-M-HRSC-4-REFDR-MAPPROJECT-EXT3-V4.0"
DATA_SET_NAME = "MARS EXPRESS HRSC MAP PROJECTED REFDR EXTENSION3 V4.0"
DETECTOR_ID = MEX_HRSC_GREEN
EVENT_TYPE = "MARS-REGIONAL-MAPPING-Te-Im-Lc"
INSTRUMENT_HOST_ID = MEX
INSTRUMENT_HOST_NAME = "MARS EXPRESS"
INSTRUMENT_ID = HRSC
INSTRUMENT_NAME = "HIGH RESOLUTION STEREO CAMERA"
MISSION_NAME = "MARS EXPRESS"
MISSION_PHASE_NAME = ME_Phase_25
PROCESSING_LEVEL_ID = 4
PRODUCT_CREATION_TIME = 2023-02-05T03:55:10.000Z
PRODUCT_ID = "HA575_0000_GR4.TIF"
RELEASE_ID = 0009
REVISION_ID = 0000
/* QUALITY DATA ELEMENTS */
DATA_QUALITY_ID = 1
DATA_QUALITY_DESC = "Data calculated based on original SPICE kernels"
/* TIME DATA ELEMENTS */
SPACECRAFT_CLOCK_START_COUNT = "1/0282970670.09055"
SPACECRAFT_CLOCK_STOP_COUNT = "1/0282971073.07778"
START_TIME = 2012-04-20T02:58:29.541Z
STOP_TIME = 2012-04-20T03:03:49.589Z
/* ORBITAL DATA ELEMENTS */
ASCENDING_NODE_LONGITUDE = 15.46
MAXIMUM_RESOLUTION = 0.0551
FOOTPRINT_POINT_LATITUDE = (-38.3283,-38.3223,-38.3146,-38.3019, -38.3015,-38.306,-37.9643,-37.4521, -37.111,-36.7703,-36.4298,-36.0896, -35.4103,-34.7324,-34.0556,-33.3802, -32.9822,-32.5808,-32.1799,-31.5792, -31.1798,-30.7812,-30.3829,-29.9855, -29.5891,-29.1932,-28.7981,-28.4036, -28.0099,-27.4154,-27.0129,-26.6112, -26.2041,-25.7936,-25.1748,-24.7562, -24.3385,-23.9116,-23.4856,-23.053, -22.6187,-21.9578,-21.2907,-20.8408, -20.385,-19.9278,-19.4628,-18.7593, -18.523,-18.4215,-18.4201,-18.4164, -18.4124,-18.409,-18.4089,-18.41, -18.8827,-19.586,-20.2789,-20.7377, -21.1883,-21.6381,-22.081,-22.5228, -22.9578,-23.6068,-24.0335,-24.4588, -24.8775,-25.504,-25.9145,-26.5304, -26.9327,-27.3359,-27.7367,-28.1308, -28.5255,-28.921,-29.3169,-29.7139, -30.1116,-30.5099,-30.9088,-31.3084, -31.7086,-32.1095,-32.5108,-32.9127, -33.4954,-34.172,-35.02,-35.6998, -36.0403,-36.381,-36.7221,-37.2345, -37.5761,-38.0896,-38.2608,-38.3283)
FOOTPRINT_POINT_LONGITUDE = (210.51,210.066,209.616,209.016,209.002 ,208.971,208.983,209.002,209.014, 209.025,209.036,209.046,209.066,209.083 ,209.1,209.117,209.118,209.125,209.131, 209.143,209.148,209.153,209.158,209.163 ,209.164,209.167,209.169,209.17,209.172 ,209.173,209.173,209.173,209.172, 209.171,209.168,209.165,209.162,209.159 ,209.155,209.151,209.146,209.14,209.128 ,209.121,209.114,209.105,209.096, 209.082,209.077,209.075,209.443,210.07, 210.553,210.914,210.931,210.937,210.929 ,210.919,210.909,210.903,210.896, 210.889,210.882,210.875,210.868,210.858 ,210.85,210.843,210.836,210.825,210.817 ,210.806,210.799,210.791,210.783, 210.775,210.767,210.759,210.751,210.743 ,210.734,210.725,210.716,210.707, 210.698,210.688,210.678,210.668,210.653 ,210.636,210.613,210.594,210.584, 210.574,210.563,210.548,210.537,210.52, 210.515,210.51)
ORBIT_NUMBER = 10575
ORBITAL_ECCENTRICITY = 0.578
ORBITAL_INCLINATION = 86.89
ORBITAL_SEMIMAJOR_AXIS = 8800.22
PERIAPSIS_ALTITUDE = 331.09
PERIAPSIS_ARGUMENT_ANGLE = 312.68
PERIAPSIS_TIME = 2012-04-20T02:56:08.000Z
SPACECRAFT_ORIENTATION = (0.0,1.0,0.0)
^MEX_ORIENTATION_DESC = "MEX_ORIENTATION_DESC.TXT"
SPACECRAFT_POINTING_MODE = ACROSSTRACK
^MEX_POINTING_DESC = "MEX_POINTING_DESC.TXT"
RIGHT_ASCENSION = -1e+32
DECLINATION = -1e+32
OFFSET_ANGLE = 0.5
SPACECRAFT_SOLAR_DISTANCE = 2.46201e+08
TARGET_NAME = MARS
/* CAMERA DATA ELEMENTS */
DETECTOR_TEMPERATURE = 18.5744
FOCAL_PLANE_TEMPERATURE = 8.7872
INST_CMPRS_NAME = "DISCRETE COSINE TRANSFORMATION (DCT)"
INST_CMPRS_RATIO = 7.52473
INST_CMPRS_QUALITY = 0
INST_CMPRS_QUANTZ_TBL_ID = 0
INSTRUMENT_TEMPERATURE = 11.4379
LENS_TEMPERATURE = 8.5833
MACROPIXEL_SIZE = 4
MISSING_FRAMES = 0
PIXEL_SUBSAMPLING_FLAG = N
SIGNAL_CHAIN_ID = 2
/* RADIOMETRIC DATA ELEMENTS */
BANDWIDTH = 88.0
CENTER_FILTER_WAVELENGTH = 538.0
RADIANCE_OFFSET = 0.146765
RADIANCE_SCALING_FACTOR = 0.00714639
REFLECTANCE_SCALING_FACTOR = 0.000372954
MEX:REFLECTANCE_OFFSET = 0.00765932
/* IMAGE OBJECT DEFINITIONS */
OBJECT = IMAGE
  INTERCHANGE_FORMAT = BINARY
  LINES = 23626
  LINE_SAMPLES = 2079
  SAMPLE_TYPE = UNSIGNED_INTEGER
  SAMPLE_BITS = 8
  BANDS = 1
  BAND_STORAGE_TYPE = BAND_SEQUENTIAL
  MAXIMUM = 255
  MEAN = 97.9556
  MINIMUM = 1
  STANDARD_DEVIATION = 40.2531
END_OBJECT = IMAGE
/* MAP OBJECT DEFINITIONS */
OBJECT = IMAGE_MAP_PROJECTION
  ^DATA_SET_MAP_PROJECTION_CATALOG= "DSMAP.CAT"
  A_AXIS_RADIUS = 3396.0
  B_AXIS_RADIUS = 3396.0
  C_AXIS_RADIUS = 3396.0
  CENTER_LATITUDE = 0.0
  CENTER_LONGITUDE = 210.0
  COORDINATE_SYSTEM_NAME = PLANETOGRAPHIC
  COORDINATE_SYSTEM_TYPE = "BODY-FIXED ROTATING"
  EASTERNMOST_LONGITUDE = 210.937
  FIRST_STANDARD_PARALLEL = "N/A"
  LINE_FIRST_PIXEL = 1
  LINE_LAST_PIXEL = 23626
  LINE_PROJECTION_OFFSET = -21831.625
  MAP_PROJECTION_ROTATION = 0.0
  MAP_PROJECTION_TYPE = SINUSOIDAL
  MAP_RESOLUTION = 1185.42760773333
  MAP_SCALE = 0.05
  MAXIMUM_LATITUDE = -18.4089
  MINIMUM_LATITUDE = -38.3283
  POSITIVE_LONGITUDE_DIRECTION = EAST
  REFERENCE_LATITUDE = "N/A"
  REFERENCE_LONGITUDE = "N/A"
  SAMPLE_FIRST_PIXEL = 1
  SAMPLE_LAST_PIXEL = 2079
  SAMPLE_PROJECTION_OFFSET = 1038.375
  SECOND_STANDARD_PARALLEL = "N/A"
  WESTERNMOST_LONGITUDE = 208.971
END_OBJECT = IMAGE_MAP_PROJECTION
END
