PDS_VERSION_ID = PDS3
/* FILE DATA ELEMENTS */
RECORD_TYPE = UNDEFINED
/* POINTERS TO DATA OBJECTS */
^IMAGE = ("HA574_0000_IR4.TIF")
/* IDENTIFICATION DATA ELEMENTS */
DATA_SET_ID = "MEX-M-HRSC-4-REFDR-MAPPROJECT-EXT3-V4.0"
DATA_SET_NAME = "MARS EXPRESS HRSC MAP PROJECTED REFDR EXTENSION3 V4.0"
DETECTOR_ID = MEX_HRSC_IR
EVENT_TYPE = "MARS-REGIONAL-MAPPING-Te-Im-Fl"
INSTRUMENT_HOST_ID = MEX
INSTRUMENT_HOST_NAME = "MARS EXPRESS"
INSTRUMENT_ID = HRSC
INSTRUMENT_NAME = "HIGH RESOLUTION STEREO CAMERA"
MISSION_NAME = "MARS EXPRESS"
MISSION_PHASE_NAME = ME_Phase_25
PROCESSING_LEVEL_ID = 4
PRODUCT_CREATION_TIME = 2023-02-05T03:55:10.000Z
PRODUCT_ID = "HA574_0000_IR4.TIF"
RELEASE_ID = 0009
REVISION_ID = 0000
/* QUALITY DATA ELEMENTS */
DATA_QUALITY_ID = 1
DATA_QUALITY_DESC = "Data calculated based on original SPICE kernels"
/* TIME DATA ELEMENTS */
SPACECRAFT_CLOCK_START_COUNT = "1/0282945461.07317"
SPACECRAFT_CLOCK_STOP_COUNT = "1/0282945648.13963"
START_TIME = 2012-04-19T19:58:39.752Z
STOP_TIME = 2012-04-19T20:00:44.066Z
/* ORBITAL DATA ELEMENTS */
ASCENDING_NODE_LONGITUDE = 15.48
MAXIMUM_RESOLUTION = 0.0568
FOOTPRINT_POINT_LATITUDE = (-41.2998,-41.293,-41.2874,-41.2815, -41.2754,-41.269,-41.2601,-41.2597, -41.3005,-41.1422,-40.991,-40.838, -40.6865,-40.5329,-40.3788,-40.2244, -39.993,-39.8321,-39.6014,-39.4467, -39.2904,-39.055,-38.8242,-38.5223, -38.2927,-38.1408,-37.9117,-37.759, -37.6079,-37.3815,-37.2294,-37.0776, -36.925,-36.7733,-36.6226,-36.4713, -36.3205,-36.1692,-36.0179,-35.8659, -35.6358,-35.4828,-35.1871,-34.8087, -34.656,-34.5051,-34.2412,-34.0639, -33.8856,-33.6191,-33.5301,-33.4419, -33.4483,-33.4547,-33.4587,-33.4625, -33.4686,-33.4688,-33.4699,-33.737, -33.9157,-34.0937,-34.2788,-34.5457, -34.846,-35.1387,-35.2895,-35.4416, -35.5928,-35.7433,-35.8943,-36.1949, -36.3519,-36.6526,-36.8076,-36.9645, -37.1974,-37.4975,-37.7201,-37.8708, -38.0292,-38.1872,-38.3404,-38.4937, -38.6464,-38.8019,-39.035,-39.1865, -39.3408,-39.7175,-39.9511,-40.1822, -40.337,-40.4882,-40.6388,-40.7993, -41.0311,-41.1904,-41.2669,-41.2998)
FOOTPRINT_POINT_LONGITUDE = (313.666,313.36,313.128,312.896,312.666 ,312.436,312.136,312.121,312.105, 312.112,312.116,312.12,312.124,312.129, 312.133,312.138,312.145,312.151,312.158 ,312.162,312.167,312.174,312.18,312.186 ,312.191,312.195,312.199,312.203, 312.205,312.209,312.212,312.215,312.218 ,312.22,312.222,312.225,312.227,312.229 ,312.232,312.234,312.238,312.241, 312.243,312.247,312.25,312.251,312.254, 312.255,312.256,312.258,312.258,312.259 ,312.58,312.946,313.182,313.418,313.819 ,313.834,313.839,313.834,313.832, 313.828,313.829,313.826,313.821,313.81, 313.808,313.806,313.804,313.801,313.798 ,313.791,313.792,313.785,313.784, 313.784,313.783,313.775,313.766,313.762 ,313.763,313.763,313.76,313.757,313.754 ,313.752,313.75,313.745,313.742,313.729 ,313.726,313.721,313.718,313.712, 313.706,313.707,313.701,313.701,313.699 ,313.666)
ORBIT_NUMBER = 10574
ORBITAL_ECCENTRICITY = 0.578
ORBITAL_INCLINATION = 86.88
ORBITAL_SEMIMAJOR_AXIS = 8800.45
PERIAPSIS_ALTITUDE = 331.62
PERIAPSIS_ARGUMENT_ANGLE = 312.87
PERIAPSIS_TIME = 2012-04-19T19:56:47.000Z
SPACECRAFT_ORIENTATION = (0.0,1.0,0.0)
^MEX_ORIENTATION_DESC = "MEX_ORIENTATION_DESC.TXT"
SPACECRAFT_POINTING_MODE = ACROSSTRACK
^MEX_POINTING_DESC = "MEX_POINTING_DESC.TXT"
RIGHT_ASCENSION = -1e+32
DECLINATION = -1e+32
OFFSET_ANGLE = -0.269
SPACECRAFT_SOLAR_DISTANCE = 2.46228e+08
TARGET_NAME = MARS
/* CAMERA DATA ELEMENTS */
DETECTOR_TEMPERATURE = 17.7588
FOCAL_PLANE_TEMPERATURE = 8.7872
INST_CMPRS_NAME = "DISCRETE COSINE TRANSFORMATION (DCT)"
INST_CMPRS_RATIO = 5.50339
INST_CMPRS_QUALITY = 0
INST_CMPRS_QUANTZ_TBL_ID = 0
INSTRUMENT_TEMPERATURE = 12.0496
LENS_TEMPERATURE = 9.195
MACROPIXEL_SIZE = 4
MISSING_FRAMES = 0
PIXEL_SUBSAMPLING_FLAG = N
SIGNAL_CHAIN_ID = 2
/* RADIOMETRIC DATA ELEMENTS */
BANDWIDTH = 81.0
CENTER_FILTER_WAVELENGTH = 955.5
RADIANCE_OFFSET = 0.0
RADIANCE_SCALING_FACTOR = 0.00231289
REFLECTANCE_SCALING_FACTOR = 0.000302522
MEX:REFLECTANCE_OFFSET = 0.0
/* IMAGE OBJECT DEFINITIONS */
OBJECT = IMAGE
  INTERCHANGE_FORMAT = BINARY
  LINES = 9332
  LINE_SAMPLES = 1594
  SAMPLE_TYPE = UNSIGNED_INTEGER
  SAMPLE_BITS = 8
  BANDS = 1
  BAND_STORAGE_TYPE = BAND_SEQUENTIAL
  MAXIMUM = 255
  MEAN = 88.2239
  MINIMUM = 1
  STANDARD_DEVIATION = 31.5181
END_OBJECT = IMAGE
/* MAP OBJECT DEFINITIONS */
OBJECT = IMAGE_MAP_PROJECTION
  ^DATA_SET_MAP_PROJECTION_CATALOG= "DSMAP.CAT"
  A_AXIS_RADIUS = 3396.0
  B_AXIS_RADIUS = 3396.0
  C_AXIS_RADIUS = 3396.0
  CENTER_LATITUDE = 0.0
  CENTER_LONGITUDE = 313.0
  COORDINATE_SYSTEM_NAME = PLANETOGRAPHIC
  COORDINATE_SYSTEM_TYPE = "BODY-FIXED ROTATING"
  EASTERNMOST_LONGITUDE = 313.839
  FIRST_STANDARD_PARALLEL = "N/A"
  LINE_FIRST_PIXEL = 1
  LINE_LAST_PIXEL = 9332
  LINE_PROJECTION_OFFSET = -39667.375
  MAP_PROJECTION_ROTATION = 0.0
  MAP_PROJECTION_TYPE = SINUSOIDAL
  MAP_RESOLUTION = 1185.42760773333
  MAP_SCALE = 0.05
  MAXIMUM_LATITUDE = -33.4419
  MINIMUM_LATITUDE = -41.3005
  POSITIVE_LONGITUDE_DIRECTION = EAST
  REFERENCE_LATITUDE = "N/A"
  REFERENCE_LONGITUDE = "N/A"
  SAMPLE_FIRST_PIXEL = 1
  SAMPLE_LAST_PIXEL = 1594
  SAMPLE_PROJECTION_OFFSET = 794.125
  SECOND_STANDARD_PARALLEL = "N/A"
  WESTERNMOST_LONGITUDE = 312.105
END_OBJECT = IMAGE_MAP_PROJECTION
END
