PDS_VERSION_ID = PDS3
/* FILE DATA ELEMENTS */
RECORD_TYPE = UNDEFINED
/* POINTERS TO DATA OBJECTS */
^IMAGE = ("HA572_0000_S14.TIF")
/* IDENTIFICATION DATA ELEMENTS */
DATA_SET_ID = "MEX-M-HRSC-4-REFDR-MAPPROJECT-EXT3-V4.0"
DATA_SET_NAME = "MARS EXPRESS HRSC MAP PROJECTED REFDR EXTENSION3 V4.0"
DETECTOR_ID = MEX_HRSC_S1
EVENT_TYPE = "MARS-REGIONAL-MAPPING-Im-Fl"
INSTRUMENT_HOST_ID = MEX
INSTRUMENT_HOST_NAME = "MARS EXPRESS"
INSTRUMENT_ID = HRSC
INSTRUMENT_NAME = "HIGH RESOLUTION STEREO CAMERA"
MISSION_NAME = "MARS EXPRESS"
MISSION_PHASE_NAME = ME_Phase_25
PROCESSING_LEVEL_ID = 4
PRODUCT_CREATION_TIME = 2023-02-05T03:55:10.000Z
PRODUCT_ID = "HA572_0000_S14.TIF"
RELEASE_ID = 0009
REVISION_ID = 0000
/* QUALITY DATA ELEMENTS */
DATA_QUALITY_ID = 1
DATA_QUALITY_DESC = "Data calculated based on original SPICE kernels"
/* TIME DATA ELEMENTS */
SPACECRAFT_CLOCK_START_COUNT = "1/0282895278.09037"
SPACECRAFT_CLOCK_STOP_COUNT = "1/0282895584.29972"
START_TIME = 2012-04-19T06:02:31.289Z
STOP_TIME = 2012-04-19T06:06:26.151Z
/* ORBITAL DATA ELEMENTS */
ASCENDING_NODE_LONGITUDE = 15.51
MAXIMUM_RESOLUTION = 0.0334
FOOTPRINT_POINT_LATITUDE = (-31.1479,-31.1511,-31.1534,-31.1552, -31.1552,-31.1837,-30.8127,-30.566, -30.0738,-29.7057,-29.213,-28.964, -28.7139,-28.3383,-27.9603,-27.7055, -27.4566,-27.0707,-26.8118,-26.4238, -26.1666,-25.906,-25.5142,-25.2508, -24.9848,-24.7165,-24.4529,-24.0563, -23.7849,-23.5143,-23.0991,-22.6824, -22.4049,-22.1261,-21.703,-21.4186, -21.1356,-20.7035,-20.4155,-20.1233, -19.6854,-19.243,-18.9465,-18.6482, -18.197,-17.8937,-17.743,-17.7418, -17.7367,-17.7284,-17.7232,-17.7181, -17.7135,-17.7076,-17.7072,-17.7077, -18.1641,-18.6155,-18.9146,-19.3604, -19.6561,-19.9515,-20.2449,-20.5293, -20.8182,-21.2488,-21.5335,-21.8193, -22.0992,-22.3789,-22.7954,-23.0696, -23.3501,-23.6188,-23.8905,-24.2985, -24.5632,-24.8307,-25.0997,-25.3631, -25.6269,-26.0236,-26.4113,-26.6699, -26.9296,-27.1875,-27.4373,-27.6916, -27.9467,-28.3236,-28.5734,-28.8235, -29.1985,-29.6923,-30.0609,-30.5542, -30.802,-31.0505,-31.175,-31.1479)
FOOTPRINT_POINT_LONGITUDE = (157.698,157.207,156.713,156.122, 156.107,156.087,156.09,156.091,156.094, 156.095,156.096,156.096,156.096,156.097 ,156.097,156.097,156.093,156.095, 156.094,156.092,156.089,156.087,156.083 ,156.081,156.079,156.077,156.072, 156.064,156.061,156.057,156.052,156.048 ,156.043,156.037,156.031,156.025,156.02 ,156.011,156.005,155.999,155.989, 155.978,155.97,155.962,155.949,155.941, 155.936,155.936,156.269,156.738,157.011 ,157.283,157.575,157.925,157.944, 157.951,157.943,157.936,157.93,157.923, 157.918,157.914,157.909,157.903,157.898 ,157.891,157.886,157.881,157.877, 157.872,157.865,157.859,157.855,157.85, 157.845,157.838,157.833,157.828,157.824 ,157.819,157.814,157.807,157.8,157.795, 157.79,157.786,157.78,157.775,157.77, 157.763,157.758,157.753,157.745,157.735 ,157.728,157.717,157.712,157.707, 157.704,157.698)
ORBIT_NUMBER = 10572
ORBITAL_ECCENTRICITY = 0.578
ORBITAL_INCLINATION = 86.87
ORBITAL_SEMIMAJOR_AXIS = 8803.04
PERIAPSIS_ALTITUDE = 332.22
PERIAPSIS_ARGUMENT_ANGLE = 313.22
PERIAPSIS_TIME = 2012-04-19T05:57:57.000Z
SPACECRAFT_ORIENTATION = (0.0,1.0,0.0)
^MEX_ORIENTATION_DESC = "MEX_ORIENTATION_DESC.TXT"
SPACECRAFT_POINTING_MODE = ACROSSTRACK
^MEX_POINTING_DESC = "MEX_POINTING_DESC.TXT"
RIGHT_ASCENSION = -1e+32
DECLINATION = -1e+32
OFFSET_ANGLE = 0.25
SPACECRAFT_SOLAR_DISTANCE = 2.46281e+08
TARGET_NAME = MARS
/* CAMERA DATA ELEMENTS */
DETECTOR_TEMPERATURE = 17.5549
FOCAL_PLANE_TEMPERATURE = 8.1755
INST_CMPRS_NAME = "DISCRETE COSINE TRANSFORMATION (DCT)"
INST_CMPRS_RATIO = 6.98155
INST_CMPRS_QUALITY = 0
INST_CMPRS_QUANTZ_TBL_ID = 0
INSTRUMENT_TEMPERATURE = 9.8067
LENS_TEMPERATURE = 8.7872
MACROPIXEL_SIZE = 2
MISSING_FRAMES = 1
PIXEL_SUBSAMPLING_FLAG = N
SIGNAL_CHAIN_ID = 1
/* RADIOMETRIC DATA ELEMENTS */
BANDWIDTH = 180.0
CENTER_FILTER_WAVELENGTH = 677.0
RADIANCE_OFFSET = 0.394829
RADIANCE_SCALING_FACTOR = 0.0224511
REFLECTANCE_SCALING_FACTOR = 0.00071046
MEX:REFLECTANCE_OFFSET = 0.0124943
/* IMAGE OBJECT DEFINITIONS */
OBJECT = IMAGE
  INTERCHANGE_FORMAT = BINARY
  LINES = 31920
  LINE_SAMPLES = 4162
  SAMPLE_TYPE = UNSIGNED_INTEGER
  SAMPLE_BITS = 8
  BANDS = 1
  BAND_STORAGE_TYPE = BAND_SEQUENTIAL
  MAXIMUM = 255
  MEAN = 83.2981
  MINIMUM = 1
  STANDARD_DEVIATION = 31.1764
END_OBJECT = IMAGE
/* MAP OBJECT DEFINITIONS */
OBJECT = IMAGE_MAP_PROJECTION
  ^DATA_SET_MAP_PROJECTION_CATALOG= "DSMAP.CAT"
  A_AXIS_RADIUS = 3396.0
  B_AXIS_RADIUS = 3396.0
  C_AXIS_RADIUS = 3396.0
  CENTER_LATITUDE = 0.0
  CENTER_LONGITUDE = 157.0
  COORDINATE_SYSTEM_NAME = PLANETOGRAPHIC
  COORDINATE_SYSTEM_TYPE = "BODY-FIXED ROTATING"
  EASTERNMOST_LONGITUDE = 157.951
  FIRST_STANDARD_PARALLEL = "N/A"
  LINE_FIRST_PIXEL = 1
  LINE_LAST_PIXEL = 31920
  LINE_PROJECTION_OFFSET = -42033.25
  MAP_PROJECTION_ROTATION = 0.0
  MAP_PROJECTION_TYPE = SINUSOIDAL
  MAP_RESOLUTION = 2370.85521546667
  MAP_SCALE = 0.025
  MAXIMUM_LATITUDE = -17.7072
  MINIMUM_LATITUDE = -31.1837
  POSITIVE_LONGITUDE_DIRECTION = EAST
  REFERENCE_LATITUDE = "N/A"
  REFERENCE_LONGITUDE = "N/A"
  SAMPLE_FIRST_PIXEL = 1
  SAMPLE_LAST_PIXEL = 4162
  SAMPLE_PROJECTION_OFFSET = 2217.25
  SECOND_STANDARD_PARALLEL = "N/A"
  WESTERNMOST_LONGITUDE = 155.936
END_OBJECT = IMAGE_MAP_PROJECTION
END
