PDS_VERSION_ID = PDS3
/* FILE DATA ELEMENTS */
RECORD_TYPE = UNDEFINED
/* POINTERS TO DATA OBJECTS */
^IMAGE = ("HA565_0000_S24.TIF")
/* IDENTIFICATION DATA ELEMENTS */
DATA_SET_ID = "MEX-M-HRSC-4-REFDR-MAPPROJECT-EXT3-V4.0"
DATA_SET_NAME = "MARS EXPRESS HRSC MAP PROJECTED REFDR EXTENSION3 V4.0"
DETECTOR_ID = MEX_HRSC_S2
EVENT_TYPE = "MARS-REGIONAL-MAPPING-Im-Fl"
INSTRUMENT_HOST_ID = MEX
INSTRUMENT_HOST_NAME = "MARS EXPRESS"
INSTRUMENT_ID = HRSC
INSTRUMENT_NAME = "HIGH RESOLUTION STEREO CAMERA"
MISSION_NAME = "MARS EXPRESS"
MISSION_PHASE_NAME = ME_Phase_25
PROCESSING_LEVEL_ID = 4
PRODUCT_CREATION_TIME = 2023-02-05T03:55:10.000Z
PRODUCT_ID = "HA565_0000_S24.TIF"
RELEASE_ID = 0009
REVISION_ID = 0000
/* QUALITY DATA ELEMENTS */
DATA_QUALITY_ID = 1
DATA_QUALITY_DESC = "Data calculated based on original SPICE kernels"
/* TIME DATA ELEMENTS */
SPACECRAFT_CLOCK_START_COUNT = "1/0282719122.09048"
SPACECRAFT_CLOCK_STOP_COUNT = "1/0282719387.22418"
START_TIME = 2012-04-17T05:05:25.804Z
STOP_TIME = 2012-04-17T05:08:14.945Z
/* ORBITAL DATA ELEMENTS */
ASCENDING_NODE_LONGITUDE = 15.64
MAXIMUM_RESOLUTION = 0.0313
FOOTPRINT_POINT_LATITUDE = (-29.4822,-29.4763,-29.4678,-29.4541, -29.4537,-29.4313,-29.1558,-28.8309, -28.6121,-28.3935,-28.1756,-27.9518, -27.6205,-27.1923,-26.9733,-26.7545, -26.5362,-26.3181,-25.9904,-25.6646, -25.4472,-25.2297,-24.9043,-24.4697, -24.252,-23.9251,-23.6006,-23.1682, -22.9441,-22.7243,-22.4964,-22.1675, -21.8287,-21.4897,-21.2622,-21.0341, -20.8065,-20.5754,-20.3413,-19.9916, -19.7594,-19.5223,-19.2852,-19.047, -18.8096,-18.4497,-18.3278,-18.3082, -18.315,-18.3177,-18.3188,-18.3186, -18.3186,-18.3192,-18.5627,-18.8017, -19.1596,-19.3983,-19.7547,-19.9886, -20.2168,-20.4501,-20.7992,-21.0277, -21.2505,-21.4837,-21.7117,-21.939, -22.162,-22.5023,-22.8345,-23.0574, -23.2766,-23.4938,-23.7108,-24.1421, -24.3619,-24.5808,-24.9069,-25.1249, -25.4521,-25.67,-25.8884,-26.1066, -26.325,-26.5434,-26.8707,-27.089, -27.3075,-27.526,-27.7448,-27.9637, -28.1822,-28.4008,-28.621,-28.84, -29.0581,-29.3509,-29.4426,-29.4822)
FOOTPRINT_POINT_LONGITUDE = (153.413,152.96,152.506,151.964,151.95, 151.936,151.938,151.94,151.941,151.941, 151.943,151.941,151.94,151.944,151.944, 151.944,151.944,151.943,151.943,151.942 ,151.942,151.941,151.94,151.938,151.937 ,151.934,151.932,151.93,151.926,151.926 ,151.921,151.92,151.914,151.912,151.909 ,151.906,151.903,151.9,151.896,151.891, 151.887,151.883,151.88,151.876,151.872, 151.865,151.863,151.863,152.399,152.755 ,153.208,153.515,153.531,153.537, 153.535,153.533,153.53,153.528,153.525, 153.523,153.522,153.52,153.517,153.515, 153.514,153.511,153.509,153.507,153.505 ,153.5,153.497,153.495,153.493,153.491, 153.489,153.485,153.482,153.48,153.476, 153.474,153.47,153.468,153.465,153.462, 153.46,153.457,153.453,153.451,153.448, 153.445,153.442,153.44,153.437,153.434, 153.431,153.427,153.425,153.421,153.419 ,153.413)
ORBIT_NUMBER = 10565
ORBITAL_ECCENTRICITY = 0.578
ORBITAL_INCLINATION = 86.87
ORBITAL_SEMIMAJOR_AXIS = 8805.61
PERIAPSIS_ALTITUDE = 332.33
PERIAPSIS_ARGUMENT_ANGLE = 314.41
PERIAPSIS_TIME = 2012-04-17T05:01:52.000Z
SPACECRAFT_ORIENTATION = (0.0,1.0,0.0)
^MEX_ORIENTATION_DESC = "MEX_ORIENTATION_DESC.TXT"
SPACECRAFT_POINTING_MODE = ACROSSTRACK
^MEX_POINTING_DESC = "MEX_POINTING_DESC.TXT"
RIGHT_ASCENSION = -1e+32
DECLINATION = -1e+32
OFFSET_ANGLE = 0.16
SPACECRAFT_SOLAR_DISTANCE = 2.46465e+08
TARGET_NAME = MARS
/* CAMERA DATA ELEMENTS */
DETECTOR_TEMPERATURE = 18.9822
FOCAL_PLANE_TEMPERATURE = 8.3794
INST_CMPRS_NAME = "DISCRETE COSINE TRANSFORMATION (DCT)"
INST_CMPRS_RATIO = 6.74419
INST_CMPRS_QUALITY = 0
INST_CMPRS_QUANTZ_TBL_ID = 0
INSTRUMENT_TEMPERATURE = 11.4379
LENS_TEMPERATURE = 8.5833
MACROPIXEL_SIZE = 2
MISSING_FRAMES = 0
PIXEL_SUBSAMPLING_FLAG = N
SIGNAL_CHAIN_ID = 1
/* RADIOMETRIC DATA ELEMENTS */
BANDWIDTH = 178.0
CENTER_FILTER_WAVELENGTH = 679.0
RADIANCE_OFFSET = 0.543776
RADIANCE_SCALING_FACTOR = 0.0187432
REFLECTANCE_SCALING_FACTOR = 0.000602951
MEX:REFLECTANCE_OFFSET = 0.0174928
/* IMAGE OBJECT DEFINITIONS */
OBJECT = IMAGE
  INTERCHANGE_FORMAT = BINARY
  LINES = 26424
  LINE_SAMPLES = 3981
  SAMPLE_TYPE = UNSIGNED_INTEGER
  SAMPLE_BITS = 8
  BANDS = 1
  BAND_STORAGE_TYPE = BAND_SEQUENTIAL
  MAXIMUM = 255
  MEAN = 82.6233
  MINIMUM = 1
  STANDARD_DEVIATION = 28.3394
END_OBJECT = IMAGE
/* MAP OBJECT DEFINITIONS */
OBJECT = IMAGE_MAP_PROJECTION
  ^DATA_SET_MAP_PROJECTION_CATALOG= "DSMAP.CAT"
  A_AXIS_RADIUS = 3396.0
  B_AXIS_RADIUS = 3396.0
  C_AXIS_RADIUS = 3396.0
  CENTER_LATITUDE = 0.0
  CENTER_LONGITUDE = 153.0
  COORDINATE_SYSTEM_NAME = PLANETOGRAPHIC
  COORDINATE_SYSTEM_TYPE = "BODY-FIXED ROTATING"
  EASTERNMOST_LONGITUDE = 153.537
  FIRST_STANDARD_PARALLEL = "N/A"
  LINE_FIRST_PIXEL = 1
  LINE_LAST_PIXEL = 26424
  LINE_PROJECTION_OFFSET = -43383.75
  MAP_PROJECTION_ROTATION = 0.0
  MAP_PROJECTION_TYPE = SINUSOIDAL
  MAP_RESOLUTION = 2370.85521546667
  MAP_SCALE = 0.025
  MAXIMUM_LATITUDE = -18.3082
  MINIMUM_LATITUDE = -29.4822
  POSITIVE_LONGITUDE_DIRECTION = EAST
  REFERENCE_LATITUDE = "N/A"
  REFERENCE_LONGITUDE = "N/A"
  SAMPLE_FIRST_PIXEL = 1
  SAMPLE_LAST_PIXEL = 3981
  SAMPLE_PROJECTION_OFFSET = 2669.25
  SECOND_STANDARD_PARALLEL = "N/A"
  WESTERNMOST_LONGITUDE = 151.863
END_OBJECT = IMAGE_MAP_PROJECTION
END
