PDS_VERSION_ID = PDS3
/* FILE DATA ELEMENTS */
RECORD_TYPE = UNDEFINED
/* POINTERS TO DATA OBJECTS */
^IMAGE = ("HA565_0000_IR4.TIF")
/* IDENTIFICATION DATA ELEMENTS */
DATA_SET_ID = "MEX-M-HRSC-4-REFDR-MAPPROJECT-EXT3-V4.0"
DATA_SET_NAME = "MARS EXPRESS HRSC MAP PROJECTED REFDR EXTENSION3 V4.0"
DETECTOR_ID = MEX_HRSC_IR
EVENT_TYPE = "MARS-REGIONAL-MAPPING-Im-Fl"
INSTRUMENT_HOST_ID = MEX
INSTRUMENT_HOST_NAME = "MARS EXPRESS"
INSTRUMENT_ID = HRSC
INSTRUMENT_NAME = "HIGH RESOLUTION STEREO CAMERA"
MISSION_NAME = "MARS EXPRESS"
MISSION_PHASE_NAME = ME_Phase_25
PROCESSING_LEVEL_ID = 4
PRODUCT_CREATION_TIME = 2023-02-05T03:55:10.000Z
PRODUCT_ID = "HA565_0000_IR4.TIF"
RELEASE_ID = 0009
REVISION_ID = 0000
/* QUALITY DATA ELEMENTS */
DATA_QUALITY_ID = 1
DATA_QUALITY_DESC = "Data calculated based on original SPICE kernels"
/* TIME DATA ELEMENTS */
SPACECRAFT_CLOCK_START_COUNT = "1/0282719122.09048"
SPACECRAFT_CLOCK_STOP_COUNT = "1/0282719387.22418"
START_TIME = 2012-04-17T05:06:29.625Z
STOP_TIME = 2012-04-17T05:09:39.632Z
/* ORBITAL DATA ELEMENTS */
ASCENDING_NODE_LONGITUDE = 15.64
MAXIMUM_RESOLUTION = 0.0659
FOOTPRINT_POINT_LATITUDE = (-29.4041,-29.4052,-29.4059,-29.4058, -29.4054,-29.4054,-29.4216,-29.1121, -28.6963,-28.2834,-27.6736,-27.3526, -27.0394,-26.6209,-26.4118,-26.1984, -25.9849,-25.7703,-25.5568,-25.3434, -25.1254,-24.798,-24.5802,-24.3637, -24.1423,-23.8112,-23.5885,-23.3673, -23.1399,-22.8041,-22.5795,-22.3505, -22.1222,-21.7807,-21.5502,-21.3177, -21.0852,-20.854,-20.6165,-20.3809, -20.1457,-19.9068,-19.6664,-19.4274, -19.1861,-18.942,-18.6993,-18.4539, -18.3303,-18.3144,-18.3119,-18.3064, -18.3023,-18.2981,-18.2947,-18.2906, -18.2923,-18.2933,-18.539,-18.9044, -19.1483,-19.3907,-19.63,-19.8695, -20.1108,-20.468,-20.7048,-21.0555, -21.292,-21.5216,-21.7532,-22.0966, -22.3256,-22.6628,-22.8891,-23.2283, -23.4526,-23.6738,-23.8958,-24.1208, -24.3425,-24.5581,-24.778,-25.1035, -25.3218,-25.6424,-25.8562,-26.0707, -26.3919,-26.6016,-26.8119,-27.0224, -27.2332,-27.4439,-27.7559,-28.2697, -28.6824,-29.3064,-29.4105,-29.4041)
FOOTPRINT_POINT_LONGITUDE = (153.466,153.118,152.651,152.183, 151.918,151.903,151.891,151.89,151.892, 151.891,151.887,151.891,151.889,151.886 ,151.885,151.884,151.882,151.881,151.88 ,151.878,151.877,151.874,151.872,151.87 ,151.867,151.863,151.861,151.858, 151.856,151.851,151.847,151.844,151.84, 151.834,151.83,151.826,151.822,151.817, 151.813,151.808,151.803,151.798,151.793 ,151.788,151.783,151.777,151.771, 151.766,151.763,151.762,151.99,152.413, 152.729,153.063,153.308,153.623,153.641 ,153.647,153.643,153.637,153.634, 153.631,153.627,153.623,153.62,153.616, 153.613,153.607,153.605,153.601,153.597 ,153.592,153.589,153.582,153.579, 153.574,153.571,153.568,153.564,153.562 ,153.558,153.554,153.552,153.546, 153.542,153.537,153.534,153.53,153.525, 153.521,153.518,153.515,153.511,153.508 ,153.503,153.494,153.486,153.475, 153.473,153.466)
ORBIT_NUMBER = 10565
ORBITAL_ECCENTRICITY = 0.578
ORBITAL_INCLINATION = 86.87
ORBITAL_SEMIMAJOR_AXIS = 8805.61
PERIAPSIS_ALTITUDE = 332.33
PERIAPSIS_ARGUMENT_ANGLE = 314.41
PERIAPSIS_TIME = 2012-04-17T05:01:52.000Z
SPACECRAFT_ORIENTATION = (0.0,1.0,0.0)
^MEX_ORIENTATION_DESC = "MEX_ORIENTATION_DESC.TXT"
SPACECRAFT_POINTING_MODE = ACROSSTRACK
^MEX_POINTING_DESC = "MEX_POINTING_DESC.TXT"
RIGHT_ASCENSION = -1e+32
DECLINATION = -1e+32
OFFSET_ANGLE = 0.16
SPACECRAFT_SOLAR_DISTANCE = 2.46465e+08
TARGET_NAME = MARS
/* CAMERA DATA ELEMENTS */
DETECTOR_TEMPERATURE = 17.9627
FOCAL_PLANE_TEMPERATURE = 8.3794
INST_CMPRS_NAME = "DISCRETE COSINE TRANSFORMATION (DCT)"
INST_CMPRS_RATIO = 7.09058
INST_CMPRS_QUALITY = 0
INST_CMPRS_QUANTZ_TBL_ID = 0
INSTRUMENT_TEMPERATURE = 11.4379
LENS_TEMPERATURE = 8.5833
MACROPIXEL_SIZE = 4
MISSING_FRAMES = 0
PIXEL_SUBSAMPLING_FLAG = N
SIGNAL_CHAIN_ID = 2
/* RADIOMETRIC DATA ELEMENTS */
BANDWIDTH = 81.0
CENTER_FILTER_WAVELENGTH = 955.5
RADIANCE_OFFSET = 0.0515501
RADIANCE_SCALING_FACTOR = 0.00490953
REFLECTANCE_SCALING_FACTOR = 0.000643395
MEX:REFLECTANCE_OFFSET = 0.00675565
/* IMAGE OBJECT DEFINITIONS */
OBJECT = IMAGE
  INTERCHANGE_FORMAT = BINARY
  LINES = 13212
  LINE_SAMPLES = 1991
  SAMPLE_TYPE = UNSIGNED_INTEGER
  SAMPLE_BITS = 8
  BANDS = 1
  BAND_STORAGE_TYPE = BAND_SEQUENTIAL
  MAXIMUM = 255
  MEAN = 78.423
  MINIMUM = 1
  STANDARD_DEVIATION = 31.8097
END_OBJECT = IMAGE
/* MAP OBJECT DEFINITIONS */
OBJECT = IMAGE_MAP_PROJECTION
  ^DATA_SET_MAP_PROJECTION_CATALOG= "DSMAP.CAT"
  A_AXIS_RADIUS = 3396.0
  B_AXIS_RADIUS = 3396.0
  C_AXIS_RADIUS = 3396.0
  CENTER_LATITUDE = 0.0
  CENTER_LONGITUDE = 153.0
  COORDINATE_SYSTEM_NAME = PLANETOGRAPHIC
  COORDINATE_SYSTEM_TYPE = "BODY-FIXED ROTATING"
  EASTERNMOST_LONGITUDE = 153.647
  FIRST_STANDARD_PARALLEL = "N/A"
  LINE_FIRST_PIXEL = 1
  LINE_LAST_PIXEL = 13212
  LINE_PROJECTION_OFFSET = -21692.125
  MAP_PROJECTION_ROTATION = 0.0
  MAP_PROJECTION_TYPE = SINUSOIDAL
  MAP_RESOLUTION = 1185.42760773333
  MAP_SCALE = 0.05
  MAXIMUM_LATITUDE = -18.2906
  MINIMUM_LATITUDE = -29.4216
  POSITIVE_LONGITUDE_DIRECTION = EAST
  REFERENCE_LATITUDE = "N/A"
  REFERENCE_LONGITUDE = "N/A"
  SAMPLE_FIRST_PIXEL = 1
  SAMPLE_LAST_PIXEL = 1991
  SAMPLE_PROJECTION_OFFSET = 1334.375
  SECOND_STANDARD_PARALLEL = "N/A"
  WESTERNMOST_LONGITUDE = 151.762
END_OBJECT = IMAGE_MAP_PROJECTION
END
