PDS_VERSION_ID = PDS3
/* FILE DATA ELEMENTS */
RECORD_TYPE = UNDEFINED
/* POINTERS TO DATA OBJECTS */
^IMAGE = ("HA553_0000_IR4.TIF")
/* IDENTIFICATION DATA ELEMENTS */
DATA_SET_ID = "MEX-M-HRSC-4-REFDR-MAPPROJECT-EXT3-V4.0"
DATA_SET_NAME = "MARS EXPRESS HRSC MAP PROJECTED REFDR EXTENSION3 V4.0"
DETECTOR_ID = MEX_HRSC_IR
EVENT_TYPE = "MARS-CLOUD-VARIABLE-At"
INSTRUMENT_HOST_ID = MEX
INSTRUMENT_HOST_NAME = "MARS EXPRESS"
INSTRUMENT_ID = HRSC
INSTRUMENT_NAME = "HIGH RESOLUTION STEREO CAMERA"
MISSION_NAME = "MARS EXPRESS"
MISSION_PHASE_NAME = ME_Phase_25
PROCESSING_LEVEL_ID = 4
PRODUCT_CREATION_TIME = 2023-02-05T03:55:10.000Z
PRODUCT_ID = "HA553_0000_IR4.TIF"
RELEASE_ID = 0009
REVISION_ID = 0000
/* QUALITY DATA ELEMENTS */
DATA_QUALITY_ID = 1
DATA_QUALITY_DESC = "Data calculated based on original SPICE kernels"
/* TIME DATA ELEMENTS */
SPACECRAFT_CLOCK_START_COUNT = "1/0282417126.09056"
SPACECRAFT_CLOCK_STOP_COUNT = "1/0282418165.04555"
START_TIME = 2012-04-13T17:13:07.629Z
STOP_TIME = 2012-04-13T17:29:26.764Z
/* ORBITAL DATA ELEMENTS */
ASCENDING_NODE_LONGITUDE = 15.87
MAXIMUM_RESOLUTION = 0.0654
FOOTPRINT_POINT_LATITUDE = (-27.2151,-27.2109,-27.2108,-27.2142, -26.0268,-24.8458,-23.6745,-22.5147, -21.3654,-20.225,-19.0994,-17.9821, -16.8775,-15.7846,-14.7049,-13.1502, -12.0476,-11.0085,-9.98401,-8.9712, -7.97835,-6.49335,-5.52355,-4.12374, -3.17485,-2.24603,-1.3194,-0.419307, 0.46737,1.34172,2.20402,3.05478,3.89082 ,4.71544,5.52785,6.3275,7.1161,7.89338, 8.65876,9.41239,10.1477,10.8884,11.6077 ,12.3156,13.6988,15.0384,16.3363, 17.5931,17.9015,17.9073,17.9752,18.0257 ,18.0479,18.0675,18.0726,18.0725, 18.0721,16.8176,15.5225,14.1857,12.8053 ,11.3803,10.6471,9.90671,9.15458, 8.39159,7.22507,6.43447,5.62999,4.81223 ,3.98376,3.14722,1.86129,0.991126, 0.10168,-0.797772,-1.69659,-3.09156, -4.03281,-4.98784,-5.95372,-6.93321, -7.92469,-8.92865,-9.94522,-10.974, -12.0163,-13.1078,-14.6744,-16.303, -17.9477,-19.0752,-20.208,-21.3492, -22.4997,-23.6605,-25.4273,-26.6095, -27.2052,-27.2151)
FOOTPRINT_POINT_LONGITUDE = (300.529,299.011,298.996,298.991, 298.985,298.977,298.966,298.951,298.934 ,298.914,298.89,298.865,298.836,298.805 ,298.772,298.702,298.683,298.643,298.6, 298.556,298.507,298.438,298.388,298.299 ,298.249,298.195,298.143,298.085, 298.026,297.965,297.903,297.84,297.775, 297.709,297.642,297.573,297.504,297.433 ,297.362,297.289,297.214,297.14,297.065 ,296.988,296.831,296.671,296.507, 296.339,296.296,296.295,297.55,298.804, 299.608,300.765,301.623,301.673,301.69, 301.608,301.529,301.454,301.383,301.316 ,301.284,301.253,301.222,301.193,301.15 ,301.121,301.095,301.069,301.044, 301.018,300.984,300.961,300.942,300.922 ,300.897,300.871,300.853,300.835, 300.818,300.801,300.785,300.769,300.753 ,300.738,300.724,300.725,300.688, 300.667,300.642,300.632,300.619,300.605 ,300.591,300.576,300.556,300.538,300.53 ,300.529)
ORBIT_NUMBER = 10553
ORBITAL_ECCENTRICITY = 0.578
ORBITAL_INCLINATION = 86.87
ORBITAL_SEMIMAJOR_AXIS = 8808.43
PERIAPSIS_ALTITUDE = 331.99
PERIAPSIS_ARGUMENT_ANGLE = 316.45
PERIAPSIS_TIME = 2012-04-13T17:08:28.000Z
SPACECRAFT_ORIENTATION = (0.0,1.0,0.0)
^MEX_ORIENTATION_DESC = "MEX_ORIENTATION_DESC.TXT"
SPACECRAFT_POINTING_MODE = NADIR
^MEX_POINTING_DESC = "MEX_POINTING_DESC.TXT"
RIGHT_ASCENSION = -1e+32
DECLINATION = -1e+32
OFFSET_ANGLE = -1e+32
SPACECRAFT_SOLAR_DISTANCE = 2.46767e+08
TARGET_NAME = MARS
/* CAMERA DATA ELEMENTS */
DETECTOR_TEMPERATURE = 17.5549
FOCAL_PLANE_TEMPERATURE = 8.3794
INST_CMPRS_NAME = "DISCRETE COSINE TRANSFORMATION (DCT)"
INST_CMPRS_RATIO = 17.2711
INST_CMPRS_QUALITY = 0
INST_CMPRS_QUANTZ_TBL_ID = 0
INSTRUMENT_TEMPERATURE = 11.234
LENS_TEMPERATURE = 8.5833
MACROPIXEL_SIZE = 4
MISSING_FRAMES = 1
PIXEL_SUBSAMPLING_FLAG = N
SIGNAL_CHAIN_ID = 2
/* RADIOMETRIC DATA ELEMENTS */
BANDWIDTH = 81.0
CENTER_FILTER_WAVELENGTH = 955.5
RADIANCE_OFFSET = 0.0532077
RADIANCE_SCALING_FACTOR = 0.00758123
REFLECTANCE_SCALING_FACTOR = 0.000995956
MEX:REFLECTANCE_OFFSET = 0.00698997
/* IMAGE OBJECT DEFINITIONS */
OBJECT = IMAGE
  INTERCHANGE_FORMAT = BINARY
  LINES = 53789
  LINE_SAMPLES = 4827
  SAMPLE_TYPE = UNSIGNED_INTEGER
  SAMPLE_BITS = 8
  BANDS = 1
  BAND_STORAGE_TYPE = BAND_SEQUENTIAL
  MAXIMUM = 255
  MEAN = 130.755
  MINIMUM = 1
  STANDARD_DEVIATION = 56.7774
END_OBJECT = IMAGE
/* MAP OBJECT DEFINITIONS */
OBJECT = IMAGE_MAP_PROJECTION
  ^DATA_SET_MAP_PROJECTION_CATALOG= "DSMAP.CAT"
  A_AXIS_RADIUS = 3396.0
  B_AXIS_RADIUS = 3396.0
  C_AXIS_RADIUS = 3396.0
  CENTER_LATITUDE = 0.0
  CENTER_LONGITUDE = 300.0
  COORDINATE_SYSTEM_NAME = PLANETOGRAPHIC
  COORDINATE_SYSTEM_TYPE = "BODY-FIXED ROTATING"
  EASTERNMOST_LONGITUDE = 301.69
  FIRST_STANDARD_PARALLEL = "N/A"
  LINE_FIRST_PIXEL = 1
  LINE_LAST_PIXEL = 53789
  LINE_PROJECTION_OFFSET = 21498.0
  MAP_PROJECTION_ROTATION = 0.0
  MAP_PROJECTION_TYPE = SINUSOIDAL
  MAP_RESOLUTION = 1185.42760773333
  MAP_SCALE = 0.05
  MAXIMUM_LATITUDE = 18.0726
  MINIMUM_LATITUDE = -27.2151
  POSITIVE_LONGITUDE_DIRECTION = EAST
  REFERENCE_LATITUDE = "N/A"
  REFERENCE_LONGITUDE = "N/A"
  SAMPLE_FIRST_PIXEL = 1
  SAMPLE_LAST_PIXEL = 4827
  SAMPLE_PROJECTION_OFFSET = 3549.0
  SECOND_STANDARD_PARALLEL = "N/A"
  WESTERNMOST_LONGITUDE = 296.295
END_OBJECT = IMAGE_MAP_PROJECTION
END
