PDS_VERSION_ID = PDS3
/* FILE DATA ELEMENTS */
RECORD_TYPE = UNDEFINED
/* POINTERS TO DATA OBJECTS */
^IMAGE = ("HA549_0000_S14.TIF")
/* IDENTIFICATION DATA ELEMENTS */
DATA_SET_ID = "MEX-M-HRSC-4-REFDR-MAPPROJECT-EXT3-V4.0"
DATA_SET_NAME = "MARS EXPRESS HRSC MAP PROJECTED REFDR EXTENSION3 V4.0"
DETECTOR_ID = MEX_HRSC_S1
EVENT_TYPE = "MARS-REGIONAL-MAPPING-Im-Fl-La"
INSTRUMENT_HOST_ID = MEX
INSTRUMENT_HOST_NAME = "MARS EXPRESS"
INSTRUMENT_ID = HRSC
INSTRUMENT_NAME = "HIGH RESOLUTION STEREO CAMERA"
MISSION_NAME = "MARS EXPRESS"
MISSION_PHASE_NAME = ME_Phase_25
PROCESSING_LEVEL_ID = 4
PRODUCT_CREATION_TIME = 2023-02-05T03:55:10.000Z
PRODUCT_ID = "HA549_0000_S14.TIF"
RELEASE_ID = 0009
REVISION_ID = 0000
/* QUALITY DATA ELEMENTS */
DATA_QUALITY_ID = 1
DATA_QUALITY_DESC = "Data calculated based on original SPICE kernels"
/* TIME DATA ELEMENTS */
SPACECRAFT_CLOCK_START_COUNT = "1/0282316457.07289"
SPACECRAFT_CLOCK_STOP_COUNT = "1/0282316762.63000"
START_TIME = 2012-04-12T13:15:31.985Z
STOP_TIME = 2012-04-12T13:19:24.618Z
/* ORBITAL DATA ELEMENTS */
ASCENDING_NODE_LONGITUDE = 15.95
MAXIMUM_RESOLUTION = 0.0345
FOOTPRINT_POINT_LATITUDE = (-25.7363,-25.7364,-25.7358,-25.7349, -25.7348,-25.7572,-25.4795,-25.0652, -24.7881,-24.5125,-24.2373,-23.8261, -23.4188,-23.1469,-22.8758,-22.6046, -22.1987,-21.7935,-21.3904,-21.122, -20.8539,-20.4533,-20.0513,-19.6537, -19.3912,-18.9984,-18.7441,-18.3524, -18.0908,-17.8214,-17.5626,-17.3039, -17.0462,-16.7886,-16.5322,-16.1485, -15.8924,-15.6384,-15.2577,-15.0048, -14.7526,-14.5016,-14.2512,-14.0015, -13.7519,-13.2562,-12.7629,-12.6439, -12.6147,-12.6018,-12.5984,-12.5945, -12.5899,-12.5836,-12.5834,-12.5837, -13.0775,-13.5742,-14.0732,-14.4504, -14.702,-14.9544,-15.208,-15.5896, -15.9723,-16.2275,-16.6131,-16.8707, -17.1286,-17.3873,-17.6472,-17.9082, -18.169,-18.4308,-18.6928,-18.9554, -19.3491,-19.7413,-20.1407,-20.407, -20.6742,-20.9429,-21.212,-21.4811, -21.7509,-22.022,-22.2927,-22.5638, -22.9714,-23.2435,-23.5164,-23.7902, -24.0645,-24.3389,-24.6225,-25.0377, -25.3089,-25.5838,-25.7235,-25.7363)
FOOTPRINT_POINT_LONGITUDE = (349.543,348.998,348.439,348.0,347.984, 347.971,347.97,347.966,347.964,347.961, 347.958,347.954,347.948,347.944,347.94, 347.937,347.931,347.924,347.918,347.913 ,347.909,347.901,347.895,347.887, 347.881,347.871,347.863,347.854,347.848 ,347.844,347.838,347.831,347.824, 347.817,347.81,347.799,347.792,347.785, 347.774,347.766,347.758,347.75,347.742, 347.734,347.726,347.708,347.691,347.685 ,347.684,348.219,348.534,348.81,349.186 ,349.699,349.719,349.726,349.719, 349.712,349.705,349.7,349.697,349.693, 349.69,349.685,349.68,349.677,349.672, 349.668,349.665,349.661,349.658,349.655 ,349.652,349.648,349.645,349.641, 349.636,349.629,349.624,349.621,349.617 ,349.614,349.611,349.608,349.604, 349.601,349.598,349.594,349.589,349.585 ,349.581,349.577,349.574,349.57,349.569 ,349.563,349.557,349.552,349.551, 349.543)
ORBIT_NUMBER = 10549
ORBITAL_ECCENTRICITY = 0.578
ORBITAL_INCLINATION = 86.88
ORBITAL_SEMIMAJOR_AXIS = 8808.69
PERIAPSIS_ALTITUDE = 332.01
PERIAPSIS_ARGUMENT_ANGLE = 317.1
PERIAPSIS_TIME = 2012-04-12T13:10:32.000Z
SPACECRAFT_ORIENTATION = (0.0,1.0,0.0)
^MEX_ORIENTATION_DESC = "MEX_ORIENTATION_DESC.TXT"
SPACECRAFT_POINTING_MODE = NADIR
^MEX_POINTING_DESC = "MEX_POINTING_DESC.TXT"
RIGHT_ASCENSION = -1e+32
DECLINATION = -1e+32
OFFSET_ANGLE = -1e+32
SPACECRAFT_SOLAR_DISTANCE = 2.46864e+08
TARGET_NAME = MARS
/* CAMERA DATA ELEMENTS */
DETECTOR_TEMPERATURE = 17.5549
FOCAL_PLANE_TEMPERATURE = 8.3794
INST_CMPRS_NAME = "DISCRETE COSINE TRANSFORMATION (DCT)"
INST_CMPRS_RATIO = 8.2084
INST_CMPRS_QUALITY = 0
INST_CMPRS_QUANTZ_TBL_ID = 0
INSTRUMENT_TEMPERATURE = 11.0301
LENS_TEMPERATURE = 8.5833
MACROPIXEL_SIZE = 2
MISSING_FRAMES = 0
PIXEL_SUBSAMPLING_FLAG = N
SIGNAL_CHAIN_ID = 1
/* RADIOMETRIC DATA ELEMENTS */
BANDWIDTH = 180.0
CENTER_FILTER_WAVELENGTH = 677.0
RADIANCE_OFFSET = 0.789658
RADIANCE_SCALING_FACTOR = 0.0171867
REFLECTANCE_SCALING_FACTOR = 0.000546447
MEX:REFLECTANCE_OFFSET = 0.025107
/* IMAGE OBJECT DEFINITIONS */
OBJECT = IMAGE
  INTERCHANGE_FORMAT = BINARY
  LINES = 31285
  LINE_SAMPLES = 4315
  SAMPLE_TYPE = UNSIGNED_INTEGER
  SAMPLE_BITS = 8
  BANDS = 1
  BAND_STORAGE_TYPE = BAND_SEQUENTIAL
  MAXIMUM = 255
  MEAN = 95.057
  MINIMUM = 1
  STANDARD_DEVIATION = 25.7717
END_OBJECT = IMAGE
/* MAP OBJECT DEFINITIONS */
OBJECT = IMAGE_MAP_PROJECTION
  ^DATA_SET_MAP_PROJECTION_CATALOG= "DSMAP.CAT"
  A_AXIS_RADIUS = 3396.0
  B_AXIS_RADIUS = 3396.0
  C_AXIS_RADIUS = 3396.0
  CENTER_LATITUDE = 0.0
  CENTER_LONGITUDE = 349.0
  COORDINATE_SYSTEM_NAME = PLANETOGRAPHIC
  COORDINATE_SYSTEM_TYPE = "BODY-FIXED ROTATING"
  EASTERNMOST_LONGITUDE = 349.726
  FIRST_STANDARD_PARALLEL = "N/A"
  LINE_FIRST_PIXEL = 1
  LINE_LAST_PIXEL = 31285
  LINE_PROJECTION_OFFSET = -29764.25
  MAP_PROJECTION_ROTATION = 0.0
  MAP_PROJECTION_TYPE = SINUSOIDAL
  MAP_RESOLUTION = 2370.85521546667
  MAP_SCALE = 0.025
  MAXIMUM_LATITUDE = -12.5834
  MINIMUM_LATITUDE = -25.7572
  POSITIVE_LONGITUDE_DIRECTION = EAST
  REFERENCE_LATITUDE = "N/A"
  REFERENCE_LONGITUDE = "N/A"
  SAMPLE_FIRST_PIXEL = 1
  SAMPLE_LAST_PIXEL = 4315
  SAMPLE_PROJECTION_OFFSET = 2852.25
  SECOND_STANDARD_PARALLEL = "N/A"
  WESTERNMOST_LONGITUDE = 347.684
END_OBJECT = IMAGE_MAP_PROJECTION
END
