PDS_VERSION_ID = PDS3
/* FILE DATA ELEMENTS */
RECORD_TYPE = UNDEFINED
/* POINTERS TO DATA OBJECTS */
^IMAGE = ("HA544_0000_GR4.TIF")
/* IDENTIFICATION DATA ELEMENTS */
DATA_SET_ID = "MEX-M-HRSC-4-REFDR-MAPPROJECT-EXT3-V4.0"
DATA_SET_NAME = "MARS EXPRESS HRSC MAP PROJECTED REFDR EXTENSION3 V4.0"
DETECTOR_ID = MEX_HRSC_GREEN
EVENT_TYPE = "MARS-REGIONAL-MAPPING-Im-Fl"
INSTRUMENT_HOST_ID = MEX
INSTRUMENT_HOST_NAME = "MARS EXPRESS"
INSTRUMENT_ID = HRSC
INSTRUMENT_NAME = "HIGH RESOLUTION STEREO CAMERA"
MISSION_NAME = "MARS EXPRESS"
MISSION_PHASE_NAME = ME_Phase_25
PROCESSING_LEVEL_ID = 4
PRODUCT_CREATION_TIME = 2023-02-05T03:55:10.000Z
PRODUCT_ID = "HA544_0000_GR4.TIF"
RELEASE_ID = 0009
REVISION_ID = 0000
/* QUALITY DATA ELEMENTS */
DATA_QUALITY_ID = 1
DATA_QUALITY_DESC = "Data calculated based on original SPICE kernels"
/* TIME DATA ELEMENTS */
SPACECRAFT_CLOCK_START_COUNT = "1/0282190577.07291"
SPACECRAFT_CLOCK_STOP_COUNT = "1/0282190782.05238"
START_TIME = 2012-04-11T02:16:58.900Z
STOP_TIME = 2012-04-11T02:19:08.034Z
/* ORBITAL DATA ELEMENTS */
ASCENDING_NODE_LONGITUDE = 16.04
MAXIMUM_RESOLUTION = 0.059
FOOTPRINT_POINT_LATITUDE = (-27.9148,-27.9141,-27.9127,-27.9109, -27.9092,-27.9064,-27.9062,-27.9073, -27.5328,-27.3701,-27.2076,-27.0451, -26.8827,-26.7205,-26.5583,-26.3964, -26.2342,-26.0722,-25.9104,-25.7407, -25.5792,-25.4175,-25.2561,-25.0148, -24.8537,-24.6123,-24.3705,-24.1299, -23.9695,-23.8093,-23.6491,-23.3291, -23.0095,-22.6904,-22.3719,-22.0538, -21.8922,-21.7292,-21.5664,-21.4038, -21.2412,-20.9977,-20.835,-20.6686, -20.5024,-20.3362,-20.0876,-19.9215, -19.8387,-19.8204,-19.8206,-19.8205, -19.8201,-19.8193,-19.8177,-19.8165, -19.8164,-19.8174,-19.9832,-20.1494, -20.3158,-20.4822,-20.6487,-20.8973, -21.0602,-21.3043,-21.5482,-21.7113, -21.875,-22.0374,-22.3554,-22.5946, -22.9141,-23.2337,-23.475,-23.6359, -23.7961,-23.9567,-24.1974,-24.5183, -24.7602,-24.9214,-25.0828,-25.2442, -25.4058,-25.6481,-25.8986,-26.0606, -26.2227,-26.3851,-26.5479,-26.7099, -26.8723,-27.035,-27.1978,-27.3607, -27.5237,-27.8333,-27.9016,-27.9148)
FOOTPRINT_POINT_LONGITUDE = (140.768,140.444,140.134,139.852, 139.637,139.342,139.328,139.321,139.321 ,139.321,139.321,139.321,139.32,139.32, 139.32,139.319,139.319,139.319,139.319, 139.318,139.317,139.317,139.316,139.314 ,139.313,139.312,139.312,139.309, 139.308,139.306,139.305,139.302,139.299 ,139.296,139.292,139.288,139.286, 139.284,139.282,139.279,139.277,139.273 ,139.271,139.269,139.266,139.264, 139.259,139.257,139.256,139.255,139.521 ,139.832,140.055,140.308,140.604, 140.828,140.843,140.848,140.846,140.845 ,140.844,140.843,140.841,140.839, 140.838,140.836,140.833,140.831,140.831 ,140.83,140.825,140.823,140.82,140.817, 140.817,140.817,140.815,140.814,140.811 ,140.806,140.804,140.803,140.801,140.8, 140.798,140.795,140.792,140.79,140.789, 140.788,140.788,140.785,140.783,140.782 ,140.78,140.779,140.777,140.774,140.774 ,140.768)
ORBIT_NUMBER = 10544
ORBITAL_ECCENTRICITY = 0.578
ORBITAL_INCLINATION = 86.86
ORBITAL_SEMIMAJOR_AXIS = 8813.29
PERIAPSIS_ALTITUDE = 332.5
PERIAPSIS_ARGUMENT_ANGLE = 317.97
PERIAPSIS_TIME = 2012-04-11T02:13:18.000Z
SPACECRAFT_ORIENTATION = (0.0,1.0,0.0)
^MEX_ORIENTATION_DESC = "MEX_ORIENTATION_DESC.TXT"
SPACECRAFT_POINTING_MODE = ACROSSTRACK
^MEX_POINTING_DESC = "MEX_POINTING_DESC.TXT"
RIGHT_ASCENSION = -1e+32
DECLINATION = -1e+32
OFFSET_ANGLE = -0.1
SPACECRAFT_SOLAR_DISTANCE = 2.46982e+08
TARGET_NAME = MARS
/* CAMERA DATA ELEMENTS */
DETECTOR_TEMPERATURE = 18.7783
FOCAL_PLANE_TEMPERATURE = 7.9716
INST_CMPRS_NAME = "DISCRETE COSINE TRANSFORMATION (DCT)"
INST_CMPRS_RATIO = 5.14912
INST_CMPRS_QUALITY = 0
INST_CMPRS_QUANTZ_TBL_ID = 0
INSTRUMENT_TEMPERATURE = 10.4184
LENS_TEMPERATURE = 8.5833
MACROPIXEL_SIZE = 4
MISSING_FRAMES = 1
PIXEL_SUBSAMPLING_FLAG = N
SIGNAL_CHAIN_ID = 2
/* RADIOMETRIC DATA ELEMENTS */
BANDWIDTH = 88.0
CENTER_FILTER_WAVELENGTH = 538.0
RADIANCE_OFFSET = 0.171758
RADIANCE_SCALING_FACTOR = 0.00414241
REFLECTANCE_SCALING_FACTOR = 0.000217557
MEX:REFLECTANCE_OFFSET = 0.00902066
/* IMAGE OBJECT DEFINITIONS */
OBJECT = IMAGE
  INTERCHANGE_FORMAT = BINARY
  LINES = 9604
  LINE_SAMPLES = 1769
  SAMPLE_TYPE = UNSIGNED_INTEGER
  SAMPLE_BITS = 8
  BANDS = 1
  BAND_STORAGE_TYPE = BAND_SEQUENTIAL
  MAXIMUM = 255
  MEAN = 108.295
  MINIMUM = 1
  STANDARD_DEVIATION = 25.4648
END_OBJECT = IMAGE
/* MAP OBJECT DEFINITIONS */
OBJECT = IMAGE_MAP_PROJECTION
  ^DATA_SET_MAP_PROJECTION_CATALOG= "DSMAP.CAT"
  A_AXIS_RADIUS = 3396.0
  B_AXIS_RADIUS = 3396.0
  C_AXIS_RADIUS = 3396.0
  CENTER_LATITUDE = 0.0
  CENTER_LONGITUDE = 140.0
  COORDINATE_SYSTEM_NAME = PLANETOGRAPHIC
  COORDINATE_SYSTEM_TYPE = "BODY-FIXED ROTATING"
  EASTERNMOST_LONGITUDE = 140.848
  FIRST_STANDARD_PARALLEL = "N/A"
  LINE_FIRST_PIXEL = 1
  LINE_LAST_PIXEL = 9604
  LINE_PROJECTION_OFFSET = -23497.625
  MAP_PROJECTION_ROTATION = 0.0
  MAP_PROJECTION_TYPE = SINUSOIDAL
  MAP_RESOLUTION = 1185.42760773333
  MAP_SCALE = 0.05
  MAXIMUM_LATITUDE = -19.8164
  MINIMUM_LATITUDE = -27.9148
  POSITIVE_LONGITUDE_DIRECTION = EAST
  REFERENCE_LATITUDE = "N/A"
  REFERENCE_LONGITUDE = "N/A"
  SAMPLE_FIRST_PIXEL = 1
  SAMPLE_LAST_PIXEL = 1769
  SAMPLE_PROJECTION_OFFSET = 831.125
  SECOND_STANDARD_PARALLEL = "N/A"
  WESTERNMOST_LONGITUDE = 139.255
END_OBJECT = IMAGE_MAP_PROJECTION
END
