PDS_VERSION_ID = PDS3
/* FILE DATA ELEMENTS */
RECORD_TYPE = UNDEFINED
/* POINTERS TO DATA OBJECTS */
^IMAGE = ("HA541_0000_BL4.TIF")
/* IDENTIFICATION DATA ELEMENTS */
DATA_SET_ID = "MEX-M-HRSC-4-REFDR-MAPPROJECT-EXT3-V4.0"
DATA_SET_NAME = "MARS EXPRESS HRSC MAP PROJECTED REFDR EXTENSION3 V4.0"
DETECTOR_ID = MEX_HRSC_BLUE
EVENT_TYPE = "MARS-REGIONAL-MAPPING-Vo-Im-Fl"
INSTRUMENT_HOST_ID = MEX
INSTRUMENT_HOST_NAME = "MARS EXPRESS"
INSTRUMENT_ID = HRSC
INSTRUMENT_NAME = "HIGH RESOLUTION STEREO CAMERA"
MISSION_NAME = "MARS EXPRESS"
MISSION_PHASE_NAME = ME_Phase_25
PROCESSING_LEVEL_ID = 4
PRODUCT_CREATION_TIME = 2023-02-05T03:55:10.000Z
PRODUCT_ID = "HA541_0000_BL4.TIF"
RELEASE_ID = 0009
REVISION_ID = 0000
/* QUALITY DATA ELEMENTS */
DATA_QUALITY_ID = 1
DATA_QUALITY_DESC = "Data calculated based on original SPICE kernels"
/* TIME DATA ELEMENTS */
SPACECRAFT_CLOCK_START_COUNT = "1/0282115178.09051"
SPACECRAFT_CLOCK_STOP_COUNT = "1/0282115547.23849"
START_TIME = 2012-04-10T05:20:12.471Z
STOP_TIME = 2012-04-10T05:24:27.592Z
/* ORBITAL DATA ELEMENTS */
ASCENDING_NODE_LONGITUDE = 16.1
MAXIMUM_RESOLUTION = 0.066
FOOTPRINT_POINT_LATITUDE = (-20.5075,-20.5041,-20.4992,-20.4906, -20.4903,-20.4875,-20.0904,-19.2814, -18.7392,-18.324,-18.0471,-17.7705, -17.4902,-17.2071,-16.9253,-16.4986, -16.0661,-15.7775,-15.4846,-15.1925, -14.8991,-14.6021,-14.303,-14.0043, -13.7014,-13.3967,-13.0926,-12.7826, -12.3182,-11.8463,-11.5318,-11.2123, -10.7324,-10.4063,-10.0812,-9.75209, -9.42161,-8.91954,-8.58395,-8.24242, -7.72875,-7.38307,-7.03367,-6.68322, -6.32843,-5.79164,-5.24781,-5.06519, -5.03436,-5.03164,-5.0277,-5.02438, -5.0212,-5.01775,-5.01754,-5.01887, -5.38544,-5.74574,-6.10738,-6.46369, -6.99337,-7.34397,-7.69002,-8.03513, -8.37642,-8.88428,-9.38766,-9.71861, -10.0491,-10.3751,-10.863,-11.184, -11.5053,-11.8207,-12.294,-12.6022, -12.9127,-13.3741,-13.8332,-14.1342, -14.5825,-14.8816,-15.1751,-15.4696, -15.7627,-16.0509,-16.3395,-16.771, -17.1957,-17.479,-17.7602,-18.0377, -18.3141,-18.593,-18.8673,-19.4086, -19.9524,-20.3511,-20.4841,-20.5075)
FOOTPRINT_POINT_LONGITUDE = (86.5826,86.1292,85.6682,85.0508,85.036 ,85.0265,85.028,85.0206,85.0154,85.0115 ,85.0085,85.0054,85.0018,84.9971, 84.9954,84.9894,84.9821,84.9748,84.9666 ,84.9665,84.9604,84.9544,84.9486, 84.9424,84.9361,84.9287,84.9214,84.9133 ,84.9013,84.8886,84.8808,84.8723,84.859 ,84.8484,84.8389,84.8293,84.8188, 84.8016,84.79,84.777,84.7594,84.7467, 84.734,84.7209,84.7085,84.6867,84.6626, 84.6553,84.6542,85.0513,85.6436,86.0147 ,86.3639,86.7296,86.7488,86.7552, 86.7515,86.7482,86.7441,86.7405,86.7351 ,86.7316,86.7282,86.7247,86.7213, 86.7161,86.711,86.7076,86.7043,86.7009, 86.6958,86.6924,86.689,86.6857,86.6807, 86.6776,86.6742,86.6692,86.6641,86.6608 ,86.6559,86.6525,86.6492,86.6458, 86.6424,86.6391,86.6357,86.6306,86.6255 ,86.622,86.6185,86.6151,86.6115,86.608, 86.6045,86.597,86.5901,86.5846,86.5828, 86.5826)
ORBIT_NUMBER = 10541
ORBITAL_ECCENTRICITY = 0.578
ORBITAL_INCLINATION = 86.88
ORBITAL_SEMIMAJOR_AXIS = 8814.9
PERIAPSIS_ALTITUDE = 331.24
PERIAPSIS_ARGUMENT_ANGLE = 318.46
PERIAPSIS_TIME = 2012-04-10T05:14:55.000Z
SPACECRAFT_ORIENTATION = (0.0,1.0,0.0)
^MEX_ORIENTATION_DESC = "MEX_ORIENTATION_DESC.TXT"
SPACECRAFT_POINTING_MODE = ACROSSTRACK
^MEX_POINTING_DESC = "MEX_POINTING_DESC.TXT"
RIGHT_ASCENSION = -1e+32
DECLINATION = -1e+32
OFFSET_ANGLE = 0.8
SPACECRAFT_SOLAR_DISTANCE = 2.47052e+08
TARGET_NAME = MARS
/* CAMERA DATA ELEMENTS */
DETECTOR_TEMPERATURE = 18.3705
FOCAL_PLANE_TEMPERATURE = 8.5833
INST_CMPRS_NAME = "DISCRETE COSINE TRANSFORMATION (DCT)"
INST_CMPRS_RATIO = 5.65445
INST_CMPRS_QUALITY = 0
INST_CMPRS_QUANTZ_TBL_ID = 0
INSTRUMENT_TEMPERATURE = 11.6418
LENS_TEMPERATURE = 8.9911
MACROPIXEL_SIZE = 4
MISSING_FRAMES = 0
PIXEL_SUBSAMPLING_FLAG = N
SIGNAL_CHAIN_ID = 2
/* RADIOMETRIC DATA ELEMENTS */
BANDWIDTH = 76.0
CENTER_FILTER_WAVELENGTH = 444.0
RADIANCE_OFFSET = 0.149625
RADIANCE_SCALING_FACTOR = 0.00223703
REFLECTANCE_SCALING_FACTOR = 0.000140283
MEX:REFLECTANCE_OFFSET = 0.00938285
/* IMAGE OBJECT DEFINITIONS */
OBJECT = IMAGE
  INTERCHANGE_FORMAT = BINARY
  LINES = 18365
  LINE_SAMPLES = 2536
  SAMPLE_TYPE = UNSIGNED_INTEGER
  SAMPLE_BITS = 8
  BANDS = 1
  BAND_STORAGE_TYPE = BAND_SEQUENTIAL
  MAXIMUM = 255
  MEAN = 131.583
  MINIMUM = 1
  STANDARD_DEVIATION = 33.1644
END_OBJECT = IMAGE
/* MAP OBJECT DEFINITIONS */
OBJECT = IMAGE_MAP_PROJECTION
  ^DATA_SET_MAP_PROJECTION_CATALOG= "DSMAP.CAT"
  A_AXIS_RADIUS = 3396.0
  B_AXIS_RADIUS = 3396.0
  C_AXIS_RADIUS = 3396.0
  CENTER_LATITUDE = 0.0
  CENTER_LONGITUDE = 86.0
  COORDINATE_SYSTEM_NAME = PLANETOGRAPHIC
  COORDINATE_SYSTEM_TYPE = "BODY-FIXED ROTATING"
  EASTERNMOST_LONGITUDE = 86.7552
  FIRST_STANDARD_PARALLEL = "N/A"
  LINE_FIRST_PIXEL = 1
  LINE_LAST_PIXEL = 18365
  LINE_PROJECTION_OFFSET = -5940.375
  MAP_PROJECTION_ROTATION = 0.0
  MAP_PROJECTION_TYPE = SINUSOIDAL
  MAP_RESOLUTION = 1185.42760773333
  MAP_SCALE = 0.05
  MAXIMUM_LATITUDE = -5.01754
  MINIMUM_LATITUDE = -20.5075
  POSITIVE_LONGITUDE_DIRECTION = EAST
  REFERENCE_LATITUDE = "N/A"
  REFERENCE_LONGITUDE = "N/A"
  SAMPLE_FIRST_PIXEL = 1
  SAMPLE_LAST_PIXEL = 2536
  SAMPLE_PROJECTION_OFFSET = 1623.875
  SECOND_STANDARD_PARALLEL = "N/A"
  WESTERNMOST_LONGITUDE = 84.6542
END_OBJECT = IMAGE_MAP_PROJECTION
END
