PDS_VERSION_ID = PDS3
/* FILE DATA ELEMENTS */
RECORD_TYPE = UNDEFINED
/* POINTERS TO DATA OBJECTS */
^IMAGE = ("HA538_0000_ND4.TIF")
/* IDENTIFICATION DATA ELEMENTS */
DATA_SET_ID = "MEX-M-HRSC-4-REFDR-MAPPROJECT-EXT3-V4.0"
DATA_SET_NAME = "MARS EXPRESS HRSC MAP PROJECTED REFDR EXTENSION3 V4.0"
DETECTOR_ID = MEX_HRSC_NADIR
EVENT_TYPE = "MARS-REGIONAL-MAPPING-Im-Fl"
INSTRUMENT_HOST_ID = MEX
INSTRUMENT_HOST_NAME = "MARS EXPRESS"
INSTRUMENT_ID = HRSC
INSTRUMENT_NAME = "HIGH RESOLUTION STEREO CAMERA"
MISSION_NAME = "MARS EXPRESS"
MISSION_PHASE_NAME = ME_Phase_25
PROCESSING_LEVEL_ID = 4
PRODUCT_CREATION_TIME = 2023-02-05T03:55:10.000Z
PRODUCT_ID = "HA538_0000_ND4.TIF"
RELEASE_ID = 0009
REVISION_ID = 0000
/* QUALITY DATA ELEMENTS */
DATA_QUALITY_ID = 1
DATA_QUALITY_DESC = "Data calculated based on original SPICE kernels"
/* TIME DATA ELEMENTS */
SPACECRAFT_CLOCK_START_COUNT = "1/0282039646.09027"
SPACECRAFT_CLOCK_STOP_COUNT = "1/0282039941.28782"
START_TIME = 2012-04-09T08:21:25.243Z
STOP_TIME = 2012-04-09T08:24:45.235Z
/* ORBITAL DATA ELEMENTS */
ASCENDING_NODE_LONGITUDE = 16.16
MAXIMUM_RESOLUTION = 0.0159
FOOTPRINT_POINT_LATITUDE = (-22.0252,-22.0279,-22.0293,-22.0294, -22.0291,-22.0291,-22.0289,-21.5875, -21.2566,-20.8166,-20.142,-19.6924, -19.2345,-19.0046,-18.7749,-18.5455, -18.1947,-17.9601,-17.7258,-17.4918, -17.2532,-17.014,-16.775,-16.5364, -16.2938,-16.05,-15.8065,-15.5633, -15.3152,-14.9429,-14.6951,-14.3167, -14.0641,-13.8119,-13.5549,-13.2978, -13.0411,-12.7809,-12.5194,-12.2582, -11.9938,-11.7279,-11.4625,-11.1932, -10.923,-10.5158,-10.2413,-9.96729, -9.82808,-9.8086,-9.80515,-9.80233, -9.79933,-9.79491,-9.79069,-9.78412, -9.78382,-9.78399,-10.1984,-10.4734, -10.7467,-11.0171,-11.4227,-11.6886, -11.955,-12.2203,-12.4819,-12.7439, -13.0049,-13.2621,-13.5196,-13.7775, -14.0301,-14.2831,-14.6626,-14.9107, -15.1592,-15.4081,-15.7761,-16.02, -16.2642,-16.5077,-16.7465,-16.9857, -17.2256,-17.465,-17.6993,-17.9339, -18.1688,-18.5207,-18.7504,-18.9803, -19.2105,-19.6696,-20.3454,-20.796, -21.2367,-21.8992,-22.0098,-22.0252)
FOOTPRINT_POINT_LONGITUDE = (34.4461,33.9827,33.5074,33.2414, 32.9612,32.9464,32.94,32.9347,32.9284, 32.9223,32.9131,32.9059,32.8983,32.8944 ,32.8892,32.8849,32.8778,32.8731, 32.8684,32.8635,32.8585,32.8534,32.8481 ,32.8429,32.8373,32.8319,32.8262, 32.8201,32.8139,32.8044,32.7981,32.788, 32.7813,32.7744,32.7673,32.7599,32.7527 ,32.7452,32.7377,32.7297,32.7217, 32.7135,32.7051,32.6965,32.6879,32.6749 ,32.6656,32.6561,32.6515,32.6508, 32.9626,33.2017,33.4414,33.7744,34.0714 ,34.4994,34.5181,34.5273,34.5241, 34.5218,34.5193,34.5178,34.5143,34.5124 ,34.5104,34.5082,34.5061,34.5044, 34.5028,34.5012,34.4997,34.498,34.4961, 34.4945,34.4921,34.4906,34.4889,34.4872 ,34.485,34.4833,34.4814,34.4788,34.4807 ,34.4804,34.4757,34.4739,34.4734, 34.4721,34.4707,34.4669,34.4653,34.4638 ,34.4624,34.4596,34.4553,34.4529, 34.4496,34.4459,34.4452,34.4461)
ORBIT_NUMBER = 10538
ORBITAL_ECCENTRICITY = 0.578
ORBITAL_INCLINATION = 86.87
ORBITAL_SEMIMAJOR_AXIS = 8815.52
PERIAPSIS_ALTITUDE = 332.38
PERIAPSIS_ARGUMENT_ANGLE = 318.99
PERIAPSIS_TIME = 2012-04-09T08:16:34.000Z
SPACECRAFT_ORIENTATION = (0.0,1.0,0.0)
^MEX_ORIENTATION_DESC = "MEX_ORIENTATION_DESC.TXT"
SPACECRAFT_POINTING_MODE = ACROSSTRACK
^MEX_POINTING_DESC = "MEX_POINTING_DESC.TXT"
RIGHT_ASCENSION = -1e+32
DECLINATION = -1e+32
OFFSET_ANGLE = -0.27
SPACECRAFT_SOLAR_DISTANCE = 2.47121e+08
TARGET_NAME = MARS
/* CAMERA DATA ELEMENTS */
DETECTOR_TEMPERATURE = 18.7783
FOCAL_PLANE_TEMPERATURE = 8.5833
INST_CMPRS_NAME = "DISCRETE COSINE TRANSFORMATION (DCT)"
INST_CMPRS_RATIO = 5.96558
INST_CMPRS_QUALITY = 0
INST_CMPRS_QUANTZ_TBL_ID = 0
INSTRUMENT_TEMPERATURE = 11.6418
LENS_TEMPERATURE = 8.5833
MACROPIXEL_SIZE = 1
MISSING_FRAMES = 0
PIXEL_SUBSAMPLING_FLAG = N
SIGNAL_CHAIN_ID = 0
/* RADIOMETRIC DATA ELEMENTS */
BANDWIDTH = 177.0
CENTER_FILTER_WAVELENGTH = 677.5
RADIANCE_OFFSET = 0.783539
RADIANCE_SCALING_FACTOR = 0.0146955
REFLECTANCE_SCALING_FACTOR = 0.000476744
MEX:REFLECTANCE_OFFSET = 0.0254191
/* IMAGE OBJECT DEFINITIONS */
OBJECT = IMAGE
  INTERCHANGE_FORMAT = BINARY
  LINES = 58066
  LINE_SAMPLES = 8769
  SAMPLE_TYPE = UNSIGNED_INTEGER
  SAMPLE_BITS = 8
  BANDS = 1
  BAND_STORAGE_TYPE = BAND_SEQUENTIAL
  MAXIMUM = 255
  MEAN = 101.367
  MINIMUM = 1
  STANDARD_DEVIATION = 18.8026
END_OBJECT = IMAGE
/* MAP OBJECT DEFINITIONS */
OBJECT = IMAGE_MAP_PROJECTION
  ^DATA_SET_MAP_PROJECTION_CATALOG= "DSMAP.CAT"
  A_AXIS_RADIUS = 3396.0
  B_AXIS_RADIUS = 3396.0
  C_AXIS_RADIUS = 3396.0
  CENTER_LATITUDE = 0.0
  CENTER_LONGITUDE = 34.0
  COORDINATE_SYSTEM_NAME = PLANETOGRAPHIC
  COORDINATE_SYSTEM_TYPE = "BODY-FIXED ROTATING"
  EASTERNMOST_LONGITUDE = 34.5273
  FIRST_STANDARD_PARALLEL = "N/A"
  LINE_FIRST_PIXEL = 1
  LINE_LAST_PIXEL = 58066
  LINE_PROJECTION_OFFSET = -46393.0
  MAP_PROJECTION_ROTATION = 0.0
  MAP_PROJECTION_TYPE = SINUSOIDAL
  MAP_RESOLUTION = 4741.71043093333
  MAP_SCALE = 0.0125
  MAXIMUM_LATITUDE = -9.78382
  MINIMUM_LATITUDE = -22.0294
  POSITIVE_LONGITUDE_DIRECTION = EAST
  REFERENCE_LATITUDE = "N/A"
  REFERENCE_LONGITUDE = "N/A"
  SAMPLE_FIRST_PIXEL = 1
  SAMPLE_LAST_PIXEL = 8769
  SAMPLE_PROJECTION_OFFSET = 6304.0
  SECOND_STANDARD_PARALLEL = "N/A"
  WESTERNMOST_LONGITUDE = 32.6508
END_OBJECT = IMAGE_MAP_PROJECTION
END
