PDS_VERSION_ID = PDS3
/* FILE DATA ELEMENTS */
RECORD_TYPE = UNDEFINED
/* POINTERS TO DATA OBJECTS */
^IMAGE = ("HA537_0001_IR4.TIF")
/* IDENTIFICATION DATA ELEMENTS */
DATA_SET_ID = "MEX-M-HRSC-4-REFDR-MAPPROJECT-EXT3-V4.0"
DATA_SET_NAME = "MARS EXPRESS HRSC MAP PROJECTED REFDR EXTENSION3 V4.0"
DETECTOR_ID = MEX_HRSC_IR
EVENT_TYPE = "MARS-REGIONAL-MAPPING-Im-Fl-Mw"
INSTRUMENT_HOST_ID = MEX
INSTRUMENT_HOST_NAME = "MARS EXPRESS"
INSTRUMENT_ID = HRSC
INSTRUMENT_NAME = "HIGH RESOLUTION STEREO CAMERA"
MISSION_NAME = "MARS EXPRESS"
MISSION_PHASE_NAME = ME_Phase_25
PROCESSING_LEVEL_ID = 4
PRODUCT_CREATION_TIME = 2023-02-05T03:55:10.000Z
PRODUCT_ID = "HA537_0001_IR4.TIF"
RELEASE_ID = 0009
REVISION_ID = 0000
/* QUALITY DATA ELEMENTS */
DATA_QUALITY_ID = 1
DATA_QUALITY_DESC = "Data calculated based on original SPICE kernels"
/* TIME DATA ELEMENTS */
SPACECRAFT_CLOCK_START_COUNT = "1/0282014433.07311"
SPACECRAFT_CLOCK_STOP_COUNT = "1/0282014834.16466"
START_TIME = 2012-04-09T01:21:39.987Z
STOP_TIME = 2012-04-09T01:27:03.712Z
/* ORBITAL DATA ELEMENTS */
ASCENDING_NODE_LONGITUDE = 16.17
MAXIMUM_RESOLUTION = 0.1305
FOOTPRINT_POINT_LATITUDE = (-24.9139,-24.9137,-24.9124,-24.9124, -24.9157,-24.5888,-23.9361,-23.2862, -22.7993,-22.3104,-21.9803,-21.6504, -21.1527,-20.8157,-20.4817,-20.1428, -19.8011,-19.2896,-18.9433,-18.5961, -18.2426,-17.8892,-17.5368,-17.1777, -16.8189,-16.2737,-15.7241,-15.1665, -14.7919,-14.4171,-14.0362,-13.6547, -13.2677,-12.683,-12.2915,-11.8945, -11.4953,-11.0946,-10.6873,-10.2807, -9.87522,-9.47307,-8.86872,-8.47004, -8.0736,-7.67685,-7.28274,-6.8952, -6.69742,-6.601,-6.59443,-6.58698, -6.58017,-6.57291,-6.57264,-6.5741, -7.1596,-7.74893,-8.14487,-8.54296, -8.94296,-9.34358,-9.7472,-10.3569, -10.7695,-11.1756,-11.5736,-11.9725, -12.3685,-12.7608,-13.3476,-13.9258, -14.3082,-14.8725,-15.2489,-15.6189, -15.9893,-16.3552,-16.7195,-17.0785, -17.6158,-17.9694,-18.4987,-18.8459, -19.3666,-19.7078,-20.0508,-20.392, -20.7289,-21.0653,-21.4022,-21.7323, -22.062,-22.557,-23.2038,-23.8535, -24.1811,-24.6726,-24.8349,-24.9139)
FOOTPRINT_POINT_LONGITUDE = (136.379,135.54,134.91,134.896,134.887, 134.885,134.88,134.875,134.871,134.865, 134.861,134.857,134.851,134.846,134.84, 134.835,134.829,134.82,134.813,134.806, 134.801,134.793,134.786,134.778,134.769 ,134.757,134.743,134.729,134.719, 134.708,134.697,134.686,134.675,134.657 ,134.644,134.631,134.618,134.603, 134.588,134.573,134.558,134.542,134.52, 134.503,134.487,134.471,134.454,134.436 ,134.428,134.424,134.871,135.525, 135.977,136.572,136.593,136.606,136.596 ,136.586,136.58,136.574,136.568,136.562 ,136.556,136.548,136.545,136.539, 136.532,136.527,136.522,136.516,136.511 ,136.505,136.5,136.493,136.49,136.485, 136.481,136.477,136.473,136.469,136.462 ,136.458,136.453,136.448,136.442, 136.438,136.435,136.431,136.428,136.424 ,136.421,136.417,136.413,136.408,136.4, 136.392,136.389,136.384,136.381, 136.379)
ORBIT_NUMBER = 10537
ORBITAL_ECCENTRICITY = 0.578
ORBITAL_INCLINATION = 86.86
ORBITAL_SEMIMAJOR_AXIS = 8815.65
PERIAPSIS_ALTITUDE = 332.53
PERIAPSIS_ARGUMENT_ANGLE = 319.16
PERIAPSIS_TIME = 2012-04-09T01:17:07.000Z
SPACECRAFT_ORIENTATION = (0.0,1.0,0.0)
^MEX_ORIENTATION_DESC = "MEX_ORIENTATION_DESC.TXT"
SPACECRAFT_POINTING_MODE = NADIR
^MEX_POINTING_DESC = "MEX_POINTING_DESC.TXT"
RIGHT_ASCENSION = -1e+32
DECLINATION = -1e+32
OFFSET_ANGLE = -1e+32
SPACECRAFT_SOLAR_DISTANCE = 2.47143e+08
TARGET_NAME = MARS
/* CAMERA DATA ELEMENTS */
DETECTOR_TEMPERATURE = 17.5549
FOCAL_PLANE_TEMPERATURE = 8.5833
INST_CMPRS_NAME = "DISCRETE COSINE TRANSFORMATION (DCT)"
INST_CMPRS_RATIO = 7.90835
INST_CMPRS_QUALITY = 0
INST_CMPRS_QUANTZ_TBL_ID = 0
INSTRUMENT_TEMPERATURE = 11.8457
LENS_TEMPERATURE = 8.7872
MACROPIXEL_SIZE = 8
MISSING_FRAMES = 0
PIXEL_SUBSAMPLING_FLAG = N
SIGNAL_CHAIN_ID = 2
/* RADIOMETRIC DATA ELEMENTS */
BANDWIDTH = 81.0
CENTER_FILTER_WAVELENGTH = 955.5
RADIANCE_OFFSET = 0.0423132
RADIANCE_SCALING_FACTOR = 0.00659588
REFLECTANCE_SCALING_FACTOR = 0.00086915
MEX:REFLECTANCE_OFFSET = 0.00557568
/* IMAGE OBJECT DEFINITIONS */
OBJECT = IMAGE
  INTERCHANGE_FORMAT = BINARY
  LINES = 10896
  LINE_SAMPLES = 1193
  SAMPLE_TYPE = UNSIGNED_INTEGER
  SAMPLE_BITS = 8
  BANDS = 1
  BAND_STORAGE_TYPE = BAND_SEQUENTIAL
  MAXIMUM = 247
  MEAN = 94.3694
  MINIMUM = 1
  STANDARD_DEVIATION = 47.6204
END_OBJECT = IMAGE
/* MAP OBJECT DEFINITIONS */
OBJECT = IMAGE_MAP_PROJECTION
  ^DATA_SET_MAP_PROJECTION_CATALOG= "DSMAP.CAT"
  A_AXIS_RADIUS = 3396.0
  B_AXIS_RADIUS = 3396.0
  C_AXIS_RADIUS = 3396.0
  CENTER_LATITUDE = 0.0
  CENTER_LONGITUDE = 136.0
  COORDINATE_SYSTEM_NAME = PLANETOGRAPHIC
  COORDINATE_SYSTEM_TYPE = "BODY-FIXED ROTATING"
  EASTERNMOST_LONGITUDE = 136.606
  FIRST_STANDARD_PARALLEL = "N/A"
  LINE_FIRST_PIXEL = 1
  LINE_LAST_PIXEL = 10896
  LINE_PROJECTION_OFFSET = -3883.8125
  MAP_PROJECTION_ROTATION = 0.0
  MAP_PROJECTION_TYPE = SINUSOIDAL
  MAP_RESOLUTION = 592.713803866667
  MAP_SCALE = 0.1
  MAXIMUM_LATITUDE = -6.57264
  MINIMUM_LATITUDE = -24.9157
  POSITIVE_LONGITUDE_DIRECTION = EAST
  REFERENCE_LATITUDE = "N/A"
  REFERENCE_LONGITUDE = "N/A"
  SAMPLE_FIRST_PIXEL = 1
  SAMPLE_LAST_PIXEL = 1193
  SAMPLE_PROJECTION_OFFSET = 890.0625
  SECOND_STANDARD_PARALLEL = "N/A"
  WESTERNMOST_LONGITUDE = 134.424
END_OBJECT = IMAGE_MAP_PROJECTION
END
