PDS_VERSION_ID = PDS3
/* FILE DATA ELEMENTS */
RECORD_TYPE = UNDEFINED
/* POINTERS TO DATA OBJECTS */
^IMAGE = ("HA532_0000_P24.TIF")
/* IDENTIFICATION DATA ELEMENTS */
DATA_SET_ID = "MEX-M-HRSC-4-REFDR-MAPPROJECT-EXT3-V4.0"
DATA_SET_NAME = "MARS EXPRESS HRSC MAP PROJECTED REFDR EXTENSION3 V4.0"
DETECTOR_ID = MEX_HRSC_P2
EVENT_TYPE = "MARS-REGIONAL-MAPPING-Vo-Te"
INSTRUMENT_HOST_ID = MEX
INSTRUMENT_HOST_NAME = "MARS EXPRESS"
INSTRUMENT_ID = HRSC
INSTRUMENT_NAME = "HIGH RESOLUTION STEREO CAMERA"
MISSION_NAME = "MARS EXPRESS"
MISSION_PHASE_NAME = ME_Phase_25
PROCESSING_LEVEL_ID = 4
PRODUCT_CREATION_TIME = 2023-02-05T03:55:10.000Z
PRODUCT_ID = "HA532_0000_P24.TIF"
RELEASE_ID = 0009
REVISION_ID = 0000
/* QUALITY DATA ELEMENTS */
DATA_QUALITY_ID = 1
DATA_QUALITY_DESC = "Data calculated based on original SPICE kernels"
/* TIME DATA ELEMENTS */
SPACECRAFT_CLOCK_START_COUNT = "1/0281888606.09060"
SPACECRAFT_CLOCK_STOP_COUNT = "1/0281888867.54185"
START_TIME = 2012-04-07T14:23:41.016Z
STOP_TIME = 2012-04-07T14:26:30.427Z
/* ORBITAL DATA ELEMENTS */
ASCENDING_NODE_LONGITUDE = 16.27
MAXIMUM_RESOLUTION = 0.0608
FOOTPRINT_POINT_LATITUDE = (-23.9361,-23.9551,-23.967,-23.9769, -23.9772,-23.9773,-23.6571,-23.4435, -23.1233,-22.9105,-22.6978,-22.4853, -22.2732,-22.0604,-21.8481,-21.4247, -21.2125,-20.8943,-20.5761,-20.1528, -19.8355,-19.4134,-18.7807,-18.4647, -18.2489,-17.9248,-17.7089,-17.4931, -17.2774,-17.0578,-16.8369,-16.5057, -16.1748,-15.9513,-15.7258,-15.5004, -15.2751,-15.0496,-14.7053,-14.4749, -14.2445,-14.0143,-13.7803,-13.5447, -13.1915,-13.074,-13.0169,-13.0089, -12.9963,-12.966,-12.9516,-12.9461, -12.9378,-12.9371,-12.9379,-13.283, -13.5271,-13.7783,-14.0183,-14.2498, -14.4813,-14.7128,-14.9437,-15.1695, -15.3956,-15.6214,-15.8475,-16.0725, -16.2931,-16.5139,-16.8456,-17.0667, -17.3929,-17.609,-17.8249,-18.0412, -18.258,-18.6834,-19.0003,-19.3177, -19.5296,-19.7416,-19.9537,-20.3774, -20.5896,-20.8014,-21.014,-21.226, -21.5444,-21.863,-22.0754,-22.2881, -22.5011,-22.7144,-22.9274,-23.247, -23.566,-23.7815,-23.888,-23.9361)
FOOTPRINT_POINT_LONGITUDE = (288.287,287.718,287.292,286.873,286.86 ,286.856,286.853,286.851,286.847, 286.845,286.842,286.84,286.837,286.834, 286.832,286.826,286.823,286.818,286.813 ,286.806,286.801,286.793,286.782, 286.776,286.772,286.765,286.761,286.757 ,286.752,286.747,286.743,286.735, 286.728,286.723,286.718,286.712,286.707 ,286.701,286.693,286.687,286.681, 286.675,286.669,286.663,286.654,286.65, 286.649,286.905,287.164,287.464,287.748 ,287.998,288.298,288.314,288.319, 288.325,288.318,288.305,288.299,288.298 ,288.297,288.296,288.295,288.295, 288.294,288.294,288.294,288.294,288.294 ,288.294,288.293,288.293,288.293, 288.293,288.293,288.293,288.292,288.292 ,288.291,288.291,288.29,288.289,288.289 ,288.288,288.288,288.288,288.287, 288.287,288.287,288.287,288.287,288.287 ,288.287,288.286,288.286,288.285, 288.286,288.284,288.284,288.287)
ORBIT_NUMBER = 10532
ORBITAL_ECCENTRICITY = 0.578
ORBITAL_INCLINATION = 86.87
ORBITAL_SEMIMAJOR_AXIS = 8816.61
PERIAPSIS_ALTITUDE = 332.34
PERIAPSIS_ARGUMENT_ANGLE = 320.02
PERIAPSIS_TIME = 2012-04-07T14:19:58.000Z
SPACECRAFT_ORIENTATION = (0.0,1.0,0.0)
^MEX_ORIENTATION_DESC = "MEX_ORIENTATION_DESC.TXT"
SPACECRAFT_POINTING_MODE = ACROSSTRACK
^MEX_POINTING_DESC = "MEX_POINTING_DESC.TXT"
RIGHT_ASCENSION = -1e+32
DECLINATION = -1e+32
OFFSET_ANGLE = -0.687
SPACECRAFT_SOLAR_DISTANCE = 2.47255e+08
TARGET_NAME = MARS
/* CAMERA DATA ELEMENTS */
DETECTOR_TEMPERATURE = 18.3705
FOCAL_PLANE_TEMPERATURE = 7.9716
INST_CMPRS_NAME = "DISCRETE COSINE TRANSFORMATION (DCT)"
INST_CMPRS_RATIO = 7.56878
INST_CMPRS_QUALITY = 0
INST_CMPRS_QUANTZ_TBL_ID = 0
INSTRUMENT_TEMPERATURE = 11.0301
LENS_TEMPERATURE = 8.7872
MACROPIXEL_SIZE = 4
MISSING_FRAMES = 0
PIXEL_SUBSAMPLING_FLAG = N
SIGNAL_CHAIN_ID = 3
/* RADIOMETRIC DATA ELEMENTS */
BANDWIDTH = 177.0
CENTER_FILTER_WAVELENGTH = 676.5
RADIANCE_OFFSET = 0.499615
RADIANCE_SCALING_FACTOR = 0.0174469
REFLECTANCE_SCALING_FACTOR = 0.00056554
MEX:REFLECTANCE_OFFSET = 0.016195
/* IMAGE OBJECT DEFINITIONS */
OBJECT = IMAGE
  INTERCHANGE_FORMAT = BINARY
  LINES = 13020
  LINE_SAMPLES = 2015
  SAMPLE_TYPE = UNSIGNED_INTEGER
  SAMPLE_BITS = 8
  BANDS = 1
  BAND_STORAGE_TYPE = BAND_SEQUENTIAL
  MAXIMUM = 255
  MEAN = 83.8277
  MINIMUM = 1
  STANDARD_DEVIATION = 18.6115
END_OBJECT = IMAGE
/* MAP OBJECT DEFINITIONS */
OBJECT = IMAGE_MAP_PROJECTION
  ^DATA_SET_MAP_PROJECTION_CATALOG= "DSMAP.CAT"
  A_AXIS_RADIUS = 3396.0
  B_AXIS_RADIUS = 3396.0
  C_AXIS_RADIUS = 3396.0
  CENTER_LATITUDE = 0.0
  CENTER_LONGITUDE = 288.0
  COORDINATE_SYSTEM_NAME = PLANETOGRAPHIC
  COORDINATE_SYSTEM_TYPE = "BODY-FIXED ROTATING"
  EASTERNMOST_LONGITUDE = 288.325
  FIRST_STANDARD_PARALLEL = "N/A"
  LINE_FIRST_PIXEL = 1
  LINE_LAST_PIXEL = 13020
  LINE_PROJECTION_OFFSET = -15375.625
  MAP_PROJECTION_ROTATION = 0.0
  MAP_PROJECTION_TYPE = SINUSOIDAL
  MAP_RESOLUTION = 1185.42760773333
  MAP_SCALE = 0.05
  MAXIMUM_LATITUDE = -12.9371
  MINIMUM_LATITUDE = -23.9773
  POSITIVE_LONGITUDE_DIRECTION = EAST
  REFERENCE_LATITUDE = "N/A"
  REFERENCE_LONGITUDE = "N/A"
  SAMPLE_FIRST_PIXEL = 1
  SAMPLE_LAST_PIXEL = 2015
  SAMPLE_PROJECTION_OFFSET = 1606.625
  SECOND_STANDARD_PARALLEL = "N/A"
  WESTERNMOST_LONGITUDE = 286.649
END_OBJECT = IMAGE_MAP_PROJECTION
END
