PDS_VERSION_ID = PDS3
/* FILE DATA ELEMENTS */
RECORD_TYPE = UNDEFINED
/* POINTERS TO DATA OBJECTS */
^IMAGE = ("HA522_0000_IR4.TIF")
/* IDENTIFICATION DATA ELEMENTS */
DATA_SET_ID = "MEX-M-HRSC-4-REFDR-MAPPROJECT-EXT3-V4.0"
DATA_SET_NAME = "MARS EXPRESS HRSC MAP PROJECTED REFDR EXTENSION3 V4.0"
DETECTOR_ID = MEX_HRSC_IR
EVENT_TYPE = "MARS-REGIONAL-MAPPING-Vo-Eo"
INSTRUMENT_HOST_ID = MEX
INSTRUMENT_HOST_NAME = "MARS EXPRESS"
INSTRUMENT_ID = HRSC
INSTRUMENT_NAME = "HIGH RESOLUTION STEREO CAMERA"
MISSION_NAME = "MARS EXPRESS"
MISSION_PHASE_NAME = ME_Phase_25
PROCESSING_LEVEL_ID = 4
PRODUCT_CREATION_TIME = 2023-02-05T03:55:10.000Z
PRODUCT_ID = "HA522_0000_IR4.TIF"
RELEASE_ID = 0009
REVISION_ID = 0000
/* QUALITY DATA ELEMENTS */
DATA_QUALITY_ID = 1
DATA_QUALITY_DESC = "Data calculated based on original SPICE kernels"
/* TIME DATA ELEMENTS */
SPACECRAFT_CLOCK_START_COUNT = "1/0281636917.07292"
SPACECRAFT_CLOCK_STOP_COUNT = "1/0281637215.05138"
START_TIME = 2012-04-04T16:29:42.273Z
STOP_TIME = 2012-04-04T16:33:27.131Z
/* ORBITAL DATA ELEMENTS */
ASCENDING_NODE_LONGITUDE = 16.46
MAXIMUM_RESOLUTION = 0.0635
FOOTPRINT_POINT_LATITUDE = (-23.8141,-23.8146,-23.8145,-23.814, -23.814,-23.8146,-23.4388,-23.1885, -22.9388,-22.689,-22.44,-21.9432, -21.4473,-20.9536,-20.5839,-20.0929, -19.7167,-19.4659,-19.2157,-18.9656, -18.7096,-18.4536,-18.1988,-17.9445, -17.6848,-17.425,-17.1654,-16.7736, -16.5094,-16.2456,-15.9815,-15.7119, -15.4434,-15.1756,-14.9034,-14.6303, -14.3582,-14.0825,-13.8049,-13.5281, -13.247,-12.9654,-12.541,-12.2549, -11.9696,-11.68,-11.2455,-10.8036, -10.6571,-10.6094,-10.6045,-10.5962, -10.5911,-10.5843,-10.584,-10.5851, -10.8794,-11.1743,-11.4644,-11.7549, -12.0438,-12.3303,-12.7587,-13.0407, -13.3236,-13.7418,-14.0199,-14.2972, -14.5701,-14.8434,-15.1171,-15.3859, -15.6553,-16.0578,-16.3217,-16.5864, -16.9824,-17.2422,-17.5027,-17.7631, -18.1487,-18.4041,-18.6599,-19.042, -19.2925,-19.5435,-19.7951,-20.1703, -20.5394,-21.0324,-21.5281,-22.0238, -22.2727,-22.5219,-22.7715,-23.0214, -23.2717,-23.6479,-23.7734,-23.8141)
FOOTPRINT_POINT_LONGITUDE = (229.913,229.386,228.886,228.481, 228.467,228.463,228.461,228.459,228.457 ,228.455,228.453,228.448,228.444, 228.438,228.434,228.427,228.422,228.418 ,228.414,228.41,228.406,228.402,228.398 ,228.393,228.389,228.384,228.379, 228.371,228.365,228.36,228.354,228.348, 228.342,228.336,228.329,228.322,228.315 ,228.308,228.301,228.294,228.286, 228.278,228.266,228.258,228.249,228.24, 228.227,228.213,228.208,228.206,228.53, 229.11,229.485,230.014,230.031,230.036, 230.033,230.03,230.027,230.023,230.02, 230.018,230.013,230.011,230.008,230.004 ,230.001,229.998,229.996,229.993, 229.991,229.988,229.986,229.982,229.979 ,229.977,229.974,229.971,229.969, 229.967,229.963,229.961,229.959,229.956 ,229.953,229.951,229.949,229.946, 229.943,229.938,229.934,229.93,229.927, 229.925,229.923,229.921,229.918,229.915 ,229.914,229.913)
ORBIT_NUMBER = 10522
ORBITAL_ECCENTRICITY = 0.578
ORBITAL_INCLINATION = 86.89
ORBITAL_SEMIMAJOR_AXIS = 8818.27
PERIAPSIS_ALTITUDE = 332.02
PERIAPSIS_ARGUMENT_ANGLE = 321.69
PERIAPSIS_TIME = 2012-04-04T16:25:32.000Z
SPACECRAFT_ORIENTATION = (0.0,1.0,0.0)
^MEX_ORIENTATION_DESC = "MEX_ORIENTATION_DESC.TXT"
SPACECRAFT_POINTING_MODE = NADIR
^MEX_POINTING_DESC = "MEX_POINTING_DESC.TXT"
RIGHT_ASCENSION = -1e+32
DECLINATION = -1e+32
OFFSET_ANGLE = -1e+32
SPACECRAFT_SOLAR_DISTANCE = 2.47469e+08
TARGET_NAME = MARS
/* CAMERA DATA ELEMENTS */
DETECTOR_TEMPERATURE = 17.9627
FOCAL_PLANE_TEMPERATURE = 8.7872
INST_CMPRS_NAME = "DISCRETE COSINE TRANSFORMATION (DCT)"
INST_CMPRS_RATIO = 7.82244
INST_CMPRS_QUALITY = 0
INST_CMPRS_QUANTZ_TBL_ID = 0
INSTRUMENT_TEMPERATURE = 11.8457
LENS_TEMPERATURE = 9.195
MACROPIXEL_SIZE = 4
MISSING_FRAMES = 0
PIXEL_SUBSAMPLING_FLAG = N
SIGNAL_CHAIN_ID = 2
/* RADIOMETRIC DATA ELEMENTS */
BANDWIDTH = 81.0
CENTER_FILTER_WAVELENGTH = 955.5
RADIANCE_OFFSET = 0.17763
RADIANCE_SCALING_FACTOR = 0.00635123
REFLECTANCE_SCALING_FACTOR = 0.000839122
MEX:REFLECTANCE_OFFSET = 0.0234683
/* IMAGE OBJECT DEFINITIONS */
OBJECT = IMAGE
  INTERCHANGE_FORMAT = BINARY
  LINES = 15684
  LINE_SAMPLES = 2001
  SAMPLE_TYPE = UNSIGNED_INTEGER
  SAMPLE_BITS = 8
  BANDS = 1
  BAND_STORAGE_TYPE = BAND_SEQUENTIAL
  MAXIMUM = 255
  MEAN = 106.543
  MINIMUM = 1
  STANDARD_DEVIATION = 29.772
END_OBJECT = IMAGE
/* MAP OBJECT DEFINITIONS */
OBJECT = IMAGE_MAP_PROJECTION
  ^DATA_SET_MAP_PROJECTION_CATALOG= "DSMAP.CAT"
  A_AXIS_RADIUS = 3396.0
  B_AXIS_RADIUS = 3396.0
  C_AXIS_RADIUS = 3396.0
  CENTER_LATITUDE = 0.0
  CENTER_LONGITUDE = 229.0
  COORDINATE_SYSTEM_NAME = PLANETOGRAPHIC
  COORDINATE_SYSTEM_TYPE = "BODY-FIXED ROTATING"
  EASTERNMOST_LONGITUDE = 230.036
  FIRST_STANDARD_PARALLEL = "N/A"
  LINE_FIRST_PIXEL = 1
  LINE_LAST_PIXEL = 15684
  LINE_PROJECTION_OFFSET = -12566.625
  MAP_PROJECTION_ROTATION = 0.0
  MAP_PROJECTION_TYPE = SINUSOIDAL
  MAP_RESOLUTION = 1185.42760773333
  MAP_SCALE = 0.05
  MAXIMUM_LATITUDE = -10.584
  MINIMUM_LATITUDE = -23.8146
  POSITIVE_LONGITUDE_DIRECTION = EAST
  REFERENCE_LATITUDE = "N/A"
  REFERENCE_LONGITUDE = "N/A"
  SAMPLE_FIRST_PIXEL = 1
  SAMPLE_LAST_PIXEL = 2001
  SAMPLE_PROJECTION_OFFSET = 864.625
  SECOND_STANDARD_PARALLEL = "N/A"
  WESTERNMOST_LONGITUDE = 228.206
END_OBJECT = IMAGE_MAP_PROJECTION
END
