PDS_VERSION_ID = PDS3
/* FILE DATA ELEMENTS */
RECORD_TYPE = UNDEFINED
/* POINTERS TO DATA OBJECTS */
^IMAGE = ("HA511_0000_S24.TIF")
/* IDENTIFICATION DATA ELEMENTS */
DATA_SET_ID = "MEX-M-HRSC-4-REFDR-MAPPROJECT-EXT3-V4.0"
DATA_SET_NAME = "MARS EXPRESS HRSC MAP PROJECTED REFDR EXTENSION3 V4.0"
DETECTOR_ID = MEX_HRSC_S2
EVENT_TYPE = "MARS-REGIONAL-MAPPING-Vo-Fl-La"
INSTRUMENT_HOST_ID = MEX
INSTRUMENT_HOST_NAME = "MARS EXPRESS"
INSTRUMENT_ID = HRSC
INSTRUMENT_NAME = "HIGH RESOLUTION STEREO CAMERA"
MISSION_NAME = "MARS EXPRESS"
MISSION_PHASE_NAME = ME_Phase_25
PROCESSING_LEVEL_ID = 4
PRODUCT_CREATION_TIME = 2023-02-05T03:55:10.000Z
PRODUCT_ID = "HA511_0000_S24.TIF"
RELEASE_ID = 0009
REVISION_ID = 0000
/* QUALITY DATA ELEMENTS */
DATA_QUALITY_ID = 1
DATA_QUALITY_DESC = "Data calculated based on original SPICE kernels"
/* TIME DATA ELEMENTS */
SPACECRAFT_CLOCK_START_COUNT = "1/0281360203.08412"
SPACECRAFT_CLOCK_STOP_COUNT = "1/0281360598.41002"
START_TIME = 2012-04-01T11:36:46.732Z
STOP_TIME = 2012-04-01T11:40:56.166Z
/* ORBITAL DATA ELEMENTS */
ASCENDING_NODE_LONGITUDE = 16.66
MAXIMUM_RESOLUTION = 0.0353
FOOTPRINT_POINT_LATITUDE = (-13.0406,-13.0466,-13.0488,-13.0491, -13.049,-13.0766,-12.5316,-11.9848, -11.428,-11.0078,-10.4415,-10.0124, -9.72638,-9.28799,-8.99551,-8.70363, -8.40563,-7.95882,-7.65844,-7.1814, -6.86689,-6.55387,-6.26935,-5.96488, -5.6454,-5.32958,-5.00925,-4.6466, -4.32958,-4.03434,-3.70552,-3.37452, -3.03784,-2.70122,-2.35992,-2.01819, -1.49839,-1.15138,-0.79859,-0.266948, 0.0915182,0.453515,0.817614,1.18593, 1.74322,2.1189,2.68957,2.87997,2.93693, 2.94178,2.9467,2.95129,2.9572,2.96633, 2.97532,2.97581,2.97521,2.59242,2.21091 ,1.83445,1.27517,0.905469,0.539709, 0.176459,-0.182197,-0.715938,-1.24601, -1.59473,-1.94243,-2.28494,-2.62722, -2.96356,-3.29985,-3.63243,-3.962, -4.28894,-4.5742,-4.91123,-5.26054, -5.57836,-6.05255,-6.36172,-6.6433, -6.94567,-7.25855,-7.58313,-7.89466, -8.34313,-8.64313,-8.93652,-9.22938, -9.66927,-10.0994,-10.3862,-10.8141, -11.3751,-12.2069,-12.8921,-13.0275, -13.0406)
FOOTPRINT_POINT_LONGITUDE = (274.571,274.001,273.592,273.08,273.066 ,273.07,273.058,273.047,273.034,273.024 ,273.01,273.0,272.992,272.981,272.973, 272.965,272.957,272.945,272.936,272.917 ,272.904,272.894,272.892,272.884, 272.873,272.863,272.852,272.829,272.82, 272.818,272.807,272.795,272.782,272.769 ,272.756,272.743,272.722,272.708, 272.694,272.673,272.658,272.642,272.627 ,272.611,272.586,272.569,272.543, 272.534,272.531,272.88,273.209,273.496, 273.825,274.256,274.626,274.647,274.654 ,274.651,274.648,274.645,274.64,274.638 ,274.635,274.632,274.63,274.626,274.622 ,274.619,274.617,274.615,274.612,274.61 ,274.608,274.606,274.604,274.603, 274.612,274.607,274.597,274.595,274.592 ,274.592,274.599,274.599,274.595, 274.588,274.584,274.582,274.581,274.58, 274.579,274.577,274.575,274.574,274.572 ,274.57,274.567,274.564,274.564, 274.571)
ORBIT_NUMBER = 10511
ORBITAL_ECCENTRICITY = 0.578
ORBITAL_INCLINATION = 86.87
ORBITAL_SEMIMAJOR_AXIS = 8828.52
PERIAPSIS_ALTITUDE = 332.98
PERIAPSIS_ARGUMENT_ANGLE = 323.61
PERIAPSIS_TIME = 2012-04-01T11:31:24.000Z
SPACECRAFT_ORIENTATION = (0.0,1.0,0.0)
^MEX_ORIENTATION_DESC = "MEX_ORIENTATION_DESC.TXT"
SPACECRAFT_POINTING_MODE = NADIR
^MEX_POINTING_DESC = "MEX_POINTING_DESC.TXT"
RIGHT_ASCENSION = -1e+32
DECLINATION = -1e+32
OFFSET_ANGLE = -1e+32
SPACECRAFT_SOLAR_DISTANCE = 2.4769e+08
TARGET_NAME = MARS
/* CAMERA DATA ELEMENTS */
DETECTOR_TEMPERATURE = 19.39
FOCAL_PLANE_TEMPERATURE = 9.195
INST_CMPRS_NAME = "DISCRETE COSINE TRANSFORMATION (DCT)"
INST_CMPRS_RATIO = 12.6771
INST_CMPRS_QUALITY = 0
INST_CMPRS_QUANTZ_TBL_ID = 0
INSTRUMENT_TEMPERATURE = 12.4574
LENS_TEMPERATURE = 10.0106
MACROPIXEL_SIZE = 2
MISSING_FRAMES = 0
PIXEL_SUBSAMPLING_FLAG = N
SIGNAL_CHAIN_ID = 1
/* RADIOMETRIC DATA ELEMENTS */
BANDWIDTH = 178.0
CENTER_FILTER_WAVELENGTH = 679.0
RADIANCE_OFFSET = 1.08914
RADIANCE_SCALING_FACTOR = 0.0246984
REFLECTANCE_SCALING_FACTOR = 0.000802444
MEX:REFLECTANCE_OFFSET = 0.035386
/* IMAGE OBJECT DEFINITIONS */
OBJECT = IMAGE
  INTERCHANGE_FORMAT = BINARY
  LINES = 38007
  LINE_SAMPLES = 5467
  SAMPLE_TYPE = UNSIGNED_INTEGER
  SAMPLE_BITS = 8
  BANDS = 1
  BAND_STORAGE_TYPE = BAND_SEQUENTIAL
  MAXIMUM = 255
  MEAN = 123.051
  MINIMUM = 1
  STANDARD_DEVIATION = 41.9057
END_OBJECT = IMAGE
/* MAP OBJECT DEFINITIONS */
OBJECT = IMAGE_MAP_PROJECTION
  ^DATA_SET_MAP_PROJECTION_CATALOG= "DSMAP.CAT"
  A_AXIS_RADIUS = 3396.0
  B_AXIS_RADIUS = 3396.0
  C_AXIS_RADIUS = 3396.0
  CENTER_LATITUDE = 0.0
  CENTER_LONGITUDE = 274.0
  COORDINATE_SYSTEM_NAME = PLANETOGRAPHIC
  COORDINATE_SYSTEM_TYPE = "BODY-FIXED ROTATING"
  EASTERNMOST_LONGITUDE = 274.654
  FIRST_STANDARD_PARALLEL = "N/A"
  LINE_FIRST_PIXEL = 1
  LINE_LAST_PIXEL = 38007
  LINE_PROJECTION_OFFSET = 7108.25
  MAP_PROJECTION_ROTATION = 0.0
  MAP_PROJECTION_TYPE = SINUSOIDAL
  MAP_RESOLUTION = 2370.85521546667
  MAP_SCALE = 0.025
  MAXIMUM_LATITUDE = 2.97581
  MINIMUM_LATITUDE = -13.0766
  POSITIVE_LONGITUDE_DIRECTION = EAST
  REFERENCE_LATITUDE = "N/A"
  REFERENCE_LONGITUDE = "N/A"
  SAMPLE_FIRST_PIXEL = 1
  SAMPLE_LAST_PIXEL = 5467
  SAMPLE_PROJECTION_OFFSET = 3701.75
  SECOND_STANDARD_PARALLEL = "N/A"
  WESTERNMOST_LONGITUDE = 272.531
END_OBJECT = IMAGE_MAP_PROJECTION
END
