PDS_VERSION_ID = PDS3
/* FILE DATA ELEMENTS */
RECORD_TYPE = UNDEFINED
/* POINTERS TO DATA OBJECTS */
^IMAGE = ("HA503_0000_ND4.TIF")
/* IDENTIFICATION DATA ELEMENTS */
DATA_SET_ID = "MEX-M-HRSC-4-REFDR-MAPPROJECT-EXT3-V4.0"
DATA_SET_NAME = "MARS EXPRESS HRSC MAP PROJECTED REFDR EXTENSION3 V4.0"
DETECTOR_ID = MEX_HRSC_NADIR
EVENT_TYPE = "MARS-REGIONAL-MAPPING-Im-Fl"
INSTRUMENT_HOST_ID = MEX
INSTRUMENT_HOST_NAME = "MARS EXPRESS"
INSTRUMENT_ID = HRSC
INSTRUMENT_NAME = "HIGH RESOLUTION STEREO CAMERA"
MISSION_NAME = "MARS EXPRESS"
MISSION_PHASE_NAME = ME_Phase_25
PROCESSING_LEVEL_ID = 4
PRODUCT_CREATION_TIME = 2023-02-05T03:55:10.000Z
PRODUCT_ID = "HA503_0000_ND4.TIF"
RELEASE_ID = 0009
REVISION_ID = 0000
/* QUALITY DATA ELEMENTS */
DATA_QUALITY_ID = 1
DATA_QUALITY_DESC = "Data calculated based on original SPICE kernels"
/* TIME DATA ELEMENTS */
SPACECRAFT_CLOCK_START_COUNT = "1/0281158746.09033"
SPACECRAFT_CLOCK_STOP_COUNT = "1/0281159078.63625"
START_TIME = 2012-03-30T03:39:48.608Z
STOP_TIME = 2012-03-30T03:43:30.610Z
/* ORBITAL DATA ELEMENTS */
ASCENDING_NODE_LONGITUDE = 16.82
MAXIMUM_RESOLUTION = 0.0174
FOOTPRINT_POINT_LATITUDE = (-12.4698,-12.4735,-12.4764,-12.4776, -12.4788,-12.4788,-12.4785,-12.1328, -11.5461,-11.0761,-10.5968,-10.1177, -9.75154,-9.50729,-9.26337,-8.89138, -8.64266,-8.39429,-8.01582,-7.76278, -7.51013,-7.25295,-6.99549,-6.73846, -6.47776,-6.216,-5.95468,-5.68895, -5.42299,-5.15749,-4.88725,-4.48235, -4.2082,-3.79698,-3.37974,-3.1016, -2.81908,-2.53662,-2.10829,-1.82191, -1.53188,-1.24136,-0.800505,-0.506013, -0.207082,0.242997,0.545469,0.697291, 0.717665,0.721919,0.727563,0.734901, 0.744538,0.752429,0.752763,0.752577, 0.296921,-0.00497694,-0.304212, -0.602044,-0.897282,-1.19174,-1.48289, -1.77388,-2.06087,-2.49042,-2.77342, -3.05685,-3.4751,-3.75388,-4.16589, -4.441,-4.71131,-4.98212,-5.38376, -5.65022,-5.91681,-6.17862,-6.44085, -6.70239,-6.9599,-7.21775,-7.4758, -7.72892,-7.98243,-8.36193,-8.61071, -8.85985,-9.23283,-9.47718,-9.84433, -10.089,-10.3288,-10.5689,-10.8093, -11.0493,-11.756,-12.3389,-12.4544, -12.4698)
FOOTPRINT_POINT_LONGITUDE = (12.487,12.0152,11.5237,11.2763,10.949, 10.9334,10.924,10.9165,10.9041,10.8938, 10.8823,10.8713,10.8616,10.8557,10.8497 ,10.8392,10.832,10.8243,10.8123,10.8051 ,10.7977,10.79,10.7819,10.7741,10.7659, 10.7575,10.7491,10.7404,10.7315,10.7224 ,10.713,10.6988,10.6893,10.6747,10.6597 ,10.6494,10.6375,10.6263,10.6092, 10.5978,10.5867,10.575,10.5563,10.5437, 10.5305,10.5112,10.4977,10.4908,10.4899 ,10.7429,11.0786,11.5175,12.0992, 12.5743,12.5948,12.605,12.5998,12.5965, 12.5932,12.5899,12.5867,12.5836,12.5805 ,12.5776,12.5747,12.5706,12.5681, 12.5654,12.5615,12.5598,12.5562,12.5532 ,12.5509,12.5485,12.5451,12.5427, 12.5404,12.5382,12.536,12.5338,12.5315, 12.5299,12.5275,12.5252,12.5228,12.5195 ,12.5175,12.5155,12.5125,12.5105, 12.5075,12.5054,12.5036,12.5023,12.4998 ,12.498,12.493,12.4884,12.4876,12.487)
ORBIT_NUMBER = 10503
ORBITAL_ECCENTRICITY = 0.578
ORBITAL_INCLINATION = 86.88
ORBITAL_SEMIMAJOR_AXIS = 8827.45
PERIAPSIS_ALTITUDE = 333.77
PERIAPSIS_ARGUMENT_ANGLE = 324.97
PERIAPSIS_TIME = 2012-03-30T03:33:59.000Z
SPACECRAFT_ORIENTATION = (0.0,1.0,0.0)
^MEX_ORIENTATION_DESC = "MEX_ORIENTATION_DESC.TXT"
SPACECRAFT_POINTING_MODE = ACROSSTRACK
^MEX_POINTING_DESC = "MEX_POINTING_DESC.TXT"
RIGHT_ASCENSION = -1e+32
DECLINATION = -1e+32
OFFSET_ANGLE = 0.45
SPACECRAFT_SOLAR_DISTANCE = 2.47842e+08
TARGET_NAME = MARS
/* CAMERA DATA ELEMENTS */
DETECTOR_TEMPERATURE = 18.1666
FOCAL_PLANE_TEMPERATURE = 8.7872
INST_CMPRS_NAME = "DISCRETE COSINE TRANSFORMATION (DCT)"
INST_CMPRS_RATIO = 6.24202
INST_CMPRS_QUALITY = 0
INST_CMPRS_QUANTZ_TBL_ID = 0
INSTRUMENT_TEMPERATURE = 12.4574
LENS_TEMPERATURE = 8.9911
MACROPIXEL_SIZE = 1
MISSING_FRAMES = 0
PIXEL_SUBSAMPLING_FLAG = N
SIGNAL_CHAIN_ID = 0
/* RADIOMETRIC DATA ELEMENTS */
BANDWIDTH = 177.0
CENTER_FILTER_WAVELENGTH = 677.5
RADIANCE_OFFSET = 0.86606
RADIANCE_SCALING_FACTOR = 0.0211616
REFLECTANCE_SCALING_FACTOR = 0.000690533
MEX:REFLECTANCE_OFFSET = 0.0282607
/* IMAGE OBJECT DEFINITIONS */
OBJECT = IMAGE
  INTERCHANGE_FORMAT = BINARY
  LINES = 62740
  LINE_SAMPLES = 10030
  SAMPLE_TYPE = UNSIGNED_INTEGER
  SAMPLE_BITS = 8
  BANDS = 1
  BAND_STORAGE_TYPE = BAND_SEQUENTIAL
  MAXIMUM = 255
  MEAN = 78.68
  MINIMUM = 1
  STANDARD_DEVIATION = 32.8762
END_OBJECT = IMAGE
/* MAP OBJECT DEFINITIONS */
OBJECT = IMAGE_MAP_PROJECTION
  ^DATA_SET_MAP_PROJECTION_CATALOG= "DSMAP.CAT"
  A_AXIS_RADIUS = 3396.0
  B_AXIS_RADIUS = 3396.0
  C_AXIS_RADIUS = 3396.0
  CENTER_LATITUDE = 0.0
  CENTER_LONGITUDE = 12.0
  COORDINATE_SYSTEM_NAME = PLANETOGRAPHIC
  COORDINATE_SYSTEM_TYPE = "BODY-FIXED ROTATING"
  EASTERNMOST_LONGITUDE = 12.605
  FIRST_STANDARD_PARALLEL = "N/A"
  LINE_FIRST_PIXEL = 1
  LINE_LAST_PIXEL = 62740
  LINE_PROJECTION_OFFSET = 3568.0
  MAP_PROJECTION_ROTATION = 0.0
  MAP_PROJECTION_TYPE = SINUSOIDAL
  MAP_RESOLUTION = 4741.71043093333
  MAP_SCALE = 0.0125
  MAXIMUM_LATITUDE = 0.752763
  MINIMUM_LATITUDE = -12.4788
  POSITIVE_LONGITUDE_DIRECTION = EAST
  REFERENCE_LATITUDE = "N/A"
  REFERENCE_LONGITUDE = "N/A"
  SAMPLE_FIRST_PIXEL = 1
  SAMPLE_LAST_PIXEL = 10030
  SAMPLE_PROJECTION_OFFSET = 7160.0
  SECOND_STANDARD_PARALLEL = "N/A"
  WESTERNMOST_LONGITUDE = 10.4899
END_OBJECT = IMAGE_MAP_PROJECTION
END
