PDS_VERSION_ID = PDS3
/* FILE DATA ELEMENTS */
RECORD_TYPE = UNDEFINED
/* POINTERS TO DATA OBJECTS */
^IMAGE = ("HA503_0000_GR4.TIF")
/* IDENTIFICATION DATA ELEMENTS */
DATA_SET_ID = "MEX-M-HRSC-4-REFDR-MAPPROJECT-EXT3-V4.0"
DATA_SET_NAME = "MARS EXPRESS HRSC MAP PROJECTED REFDR EXTENSION3 V4.0"
DETECTOR_ID = MEX_HRSC_GREEN
EVENT_TYPE = "MARS-REGIONAL-MAPPING-Im-Fl"
INSTRUMENT_HOST_ID = MEX
INSTRUMENT_HOST_NAME = "MARS EXPRESS"
INSTRUMENT_ID = HRSC
INSTRUMENT_NAME = "HIGH RESOLUTION STEREO CAMERA"
MISSION_NAME = "MARS EXPRESS"
MISSION_PHASE_NAME = ME_Phase_25
PROCESSING_LEVEL_ID = 4
PRODUCT_CREATION_TIME = 2023-02-05T03:55:10.000Z
PRODUCT_ID = "HA503_0000_GR4.TIF"
RELEASE_ID = 0009
REVISION_ID = 0000
/* QUALITY DATA ELEMENTS */
DATA_QUALITY_ID = 1
DATA_QUALITY_DESC = "Data calculated based on original SPICE kernels"
/* TIME DATA ELEMENTS */
SPACECRAFT_CLOCK_START_COUNT = "1/0281158746.09033"
SPACECRAFT_CLOCK_STOP_COUNT = "1/0281159078.63625"
START_TIME = 2012-03-30T03:39:55.599Z
STOP_TIME = 2012-03-30T03:43:41.257Z
/* ORBITAL DATA ELEMENTS */
ASCENDING_NODE_LONGITUDE = 16.82
MAXIMUM_RESOLUTION = 0.0703
FOOTPRINT_POINT_LATITUDE = (-12.4679,-12.4717,-12.4756,-12.4796, -12.4822,-12.4823,-12.4819,-12.0167, -11.5522,-11.0795,-10.6064,-10.1248, -9.88405,-9.52011,-9.27432,-9.02913, -8.78443,-8.53453,-8.28525,-8.03625, -7.78351,-7.52964,-7.27616,-7.02017, -6.7621,-6.50454,-6.24365,-5.98154, -5.71995,-5.32168,-5.05595,-4.65191, -4.38195,-3.97221,-3.69839,-3.28215, -3.00447,-2.7232,-2.44163,-2.01456, -1.72911,-1.43907,-1.14981,-0.856904, -0.563799,-0.267181,0.0299499,0.481165, 0.631769,0.712979,0.722203,0.732099, 0.738403,0.745085,0.753778,0.754134, 0.752848,0.299234,-0.00132453,-0.298946 ,-0.595306,-0.888972,-1.18136,-1.47157, -1.7609,-2.04698,-2.33315,-2.61543, -3.03797,-3.31646,-3.73277,-4.00809, -4.28172,-4.68748,-4.95828,-5.35782, -5.6247,-5.88679,-6.14925,-6.41201, -6.66991,-6.92831,-7.31374,-7.69408, -7.94848,-8.19788,-8.44765,-8.82204, -9.06744,-9.31321,-9.68131,-9.92239, -10.1635,-10.4055,-10.7629,-11.2374, -11.9402,-12.29,-12.4066,-12.4679)
FOOTPRINT_POINT_LONGITUDE = (12.4945,12.1478,11.7549,11.286,10.9455 ,10.9306,10.9249,10.9148,10.9047, 10.8943,10.8827,10.8715,10.8647,10.8557 ,10.8497,10.8429,10.8354,10.828,10.8199 ,10.8121,10.8047,10.7971,10.7895, 10.7814,10.7734,10.7652,10.7567,10.7482 ,10.7395,10.7259,10.7166,10.7023,10.693 ,10.6781,10.668,10.6528,10.6422,10.6304 ,10.6188,10.6015,10.5899,10.5787, 10.5665,10.554,10.5413,10.5279,10.5154, 10.495,10.488,10.4843,10.9459,11.4459, 11.7644,12.1216,12.5957,12.6154,12.622, 12.6164,12.6128,12.6092,12.6057,12.602, 12.5986,12.5954,12.5923,12.5891,12.5862 ,12.5833,12.5791,12.5763,12.5726, 12.5707,12.5671,12.5634,12.5608,12.5571 ,12.5545,12.5521,12.5496,12.5472, 12.5449,12.5425,12.5397,12.5355,12.5332 ,12.5308,12.5285,12.5252,12.5231,12.521 ,12.5177,12.5157,12.5134,12.5115, 12.5084,12.5045,12.4991,12.4964,12.4954 ,12.4945)
ORBIT_NUMBER = 10503
ORBITAL_ECCENTRICITY = 0.578
ORBITAL_INCLINATION = 86.88
ORBITAL_SEMIMAJOR_AXIS = 8827.45
PERIAPSIS_ALTITUDE = 333.77
PERIAPSIS_ARGUMENT_ANGLE = 324.97
PERIAPSIS_TIME = 2012-03-30T03:33:59.000Z
SPACECRAFT_ORIENTATION = (0.0,1.0,0.0)
^MEX_ORIENTATION_DESC = "MEX_ORIENTATION_DESC.TXT"
SPACECRAFT_POINTING_MODE = ACROSSTRACK
^MEX_POINTING_DESC = "MEX_POINTING_DESC.TXT"
RIGHT_ASCENSION = -1e+32
DECLINATION = -1e+32
OFFSET_ANGLE = 0.45
SPACECRAFT_SOLAR_DISTANCE = 2.47842e+08
TARGET_NAME = MARS
/* CAMERA DATA ELEMENTS */
DETECTOR_TEMPERATURE = 18.1666
FOCAL_PLANE_TEMPERATURE = 8.7872
INST_CMPRS_NAME = "DISCRETE COSINE TRANSFORMATION (DCT)"
INST_CMPRS_RATIO = 11.8479
INST_CMPRS_QUALITY = 0
INST_CMPRS_QUANTZ_TBL_ID = 0
INSTRUMENT_TEMPERATURE = 12.4574
LENS_TEMPERATURE = 8.9911
MACROPIXEL_SIZE = 4
MISSING_FRAMES = 0
PIXEL_SUBSAMPLING_FLAG = N
SIGNAL_CHAIN_ID = 2
/* RADIOMETRIC DATA ELEMENTS */
BANDWIDTH = 88.0
CENTER_FILTER_WAVELENGTH = 538.0
RADIANCE_OFFSET = 0.442477
RADIANCE_SCALING_FACTOR = 0.00559998
REFLECTANCE_SCALING_FACTOR = 0.000296159
MEX:REFLECTANCE_OFFSET = 0.0234007
/* IMAGE OBJECT DEFINITIONS */
OBJECT = IMAGE
  INTERCHANGE_FORMAT = BINARY
  LINES = 15685
  LINE_SAMPLES = 2508
  SAMPLE_TYPE = UNSIGNED_INTEGER
  SAMPLE_BITS = 8
  BANDS = 1
  BAND_STORAGE_TYPE = BAND_SEQUENTIAL
  MAXIMUM = 255
  MEAN = 94.6668
  MINIMUM = 1
  STANDARD_DEVIATION = 31.3957
END_OBJECT = IMAGE
/* MAP OBJECT DEFINITIONS */
OBJECT = IMAGE_MAP_PROJECTION
  ^DATA_SET_MAP_PROJECTION_CATALOG= "DSMAP.CAT"
  A_AXIS_RADIUS = 3396.0
  B_AXIS_RADIUS = 3396.0
  C_AXIS_RADIUS = 3396.0
  CENTER_LATITUDE = 0.0
  CENTER_LONGITUDE = 12.0
  COORDINATE_SYSTEM_NAME = PLANETOGRAPHIC
  COORDINATE_SYSTEM_TYPE = "BODY-FIXED ROTATING"
  EASTERNMOST_LONGITUDE = 12.622
  FIRST_STANDARD_PARALLEL = "N/A"
  LINE_FIRST_PIXEL = 1
  LINE_LAST_PIXEL = 15685
  LINE_PROJECTION_OFFSET = 891.625
  MAP_PROJECTION_ROTATION = 0.0
  MAP_PROJECTION_TYPE = SINUSOIDAL
  MAP_RESOLUTION = 1185.42760773333
  MAP_SCALE = 0.05
  MAXIMUM_LATITUDE = 0.754134
  MINIMUM_LATITUDE = -12.4823
  POSITIVE_LONGITUDE_DIRECTION = EAST
  REFERENCE_LATITUDE = "N/A"
  REFERENCE_LONGITUDE = "N/A"
  SAMPLE_FIRST_PIXEL = 1
  SAMPLE_LAST_PIXEL = 2508
  SAMPLE_PROJECTION_OFFSET = 1789.625
  SECOND_STANDARD_PARALLEL = "N/A"
  WESTERNMOST_LONGITUDE = 10.4843
END_OBJECT = IMAGE_MAP_PROJECTION
END
