PDS_VERSION_ID = PDS3
/* FILE DATA ELEMENTS */
RECORD_TYPE = UNDEFINED
/* POINTERS TO DATA OBJECTS */
^IMAGE = ("HA501_0000_GR4.TIF")
/* IDENTIFICATION DATA ELEMENTS */
DATA_SET_ID = "MEX-M-HRSC-4-REFDR-MAPPROJECT-EXT3-V4.0"
DATA_SET_NAME = "MARS EXPRESS HRSC MAP PROJECTED REFDR EXTENSION3 V4.0"
DETECTOR_ID = MEX_HRSC_GREEN
EVENT_TYPE = "MARS-REGIONAL-MAPPING-Vo-Eo"
INSTRUMENT_HOST_ID = MEX
INSTRUMENT_HOST_NAME = "MARS EXPRESS"
INSTRUMENT_ID = HRSC
INSTRUMENT_NAME = "HIGH RESOLUTION STEREO CAMERA"
MISSION_NAME = "MARS EXPRESS"
MISSION_PHASE_NAME = ME_Phase_25
PROCESSING_LEVEL_ID = 4
PRODUCT_CREATION_TIME = 2023-02-05T03:55:10.000Z
PRODUCT_ID = "HA501_0000_GR4.TIF"
RELEASE_ID = 0009
REVISION_ID = 0000
/* QUALITY DATA ELEMENTS */
DATA_QUALITY_ID = 1
DATA_QUALITY_DESC = "Data calculated based on original SPICE kernels"
/* TIME DATA ELEMENTS */
SPACECRAFT_CLOCK_START_COUNT = "1/0281108253.07279"
SPACECRAFT_CLOCK_STOP_COUNT = "1/0281108577.36434"
START_TIME = 2012-03-29T13:38:15.340Z
STOP_TIME = 2012-03-29T13:42:14.161Z
/* ORBITAL DATA ELEMENTS */
ASCENDING_NODE_LONGITUDE = 16.86
MAXIMUM_RESOLUTION = 0.1187
FOOTPRINT_POINT_LATITUDE = (-20.6507,-20.6524,-20.6533,-20.6532, -20.6532,-20.652,-20.3751,-20.0984, -19.8222,-19.5461,-19.2703,-18.9949, -18.7196,-18.4447,-18.1702,-17.8961, -17.6222,-17.0753,-16.5298,-15.9856, -15.4427,-15.0278,-14.7501,-14.4729, -14.0543,-13.7707,-13.4876,-13.2049, -12.918,-12.629,-12.3404,-12.0523, -11.7576,-11.4632,-11.1694,-10.8716, -10.5717,-10.2723,-9.96906,-9.66362, -9.35879,-9.0499,-8.73918,-8.42914, -8.11354,-7.64004,-7.15925,-6.83843, -6.51268,-6.18709,-6.02361,-5.99245, -5.98205,-5.9728,-5.9662,-5.96594, -5.96819,-6.4589,-6.78584,-7.10719, -7.58943,-7.90548,-8.22214,-8.69104, -9.00222,-9.31219,-9.61749,-9.92337, -10.2277,-10.5276,-10.828,-11.1269, -11.4211,-11.7159,-12.156,-12.4447, -12.734,-13.1667,-13.4497,-13.7332, -14.1593,-14.577,-14.855,-15.5444, -16.0884,-16.6337,-17.1804,-17.4542, -17.7284,-18.0027,-18.2775,-18.5525, -18.8278,-19.1037,-19.3797,-19.7943, -20.0709,-20.4865,-20.6252,-20.6507)
FOOTPRINT_POINT_LONGITUDE = (217.016,216.609,216.21,215.663,215.65, 215.64,215.639,215.638,215.636,215.634, 215.633,215.631,215.629,215.626,215.624 ,215.621,215.618,215.612,215.605, 215.598,215.59,215.584,215.58,215.575, 215.568,215.563,215.558,215.553,215.547 ,215.542,215.536,215.529,215.523, 215.517,215.51,215.503,215.496,215.488, 215.481,215.473,215.465,215.457,215.448 ,215.439,215.43,215.416,215.402,215.392 ,215.382,215.369,215.365,215.364, 216.083,216.681,217.109,217.125,217.136 ,217.132,217.129,217.126,217.122, 217.119,217.116,217.113,217.11,217.107, 217.105,217.102,217.1,217.098,217.095, 217.093,217.091,217.088,217.085,217.083 ,217.08,217.077,217.075,217.072,217.069 ,217.067,217.065,217.058,217.054,217.05 ,217.045,217.043,217.041,217.039, 217.037,217.034,217.032,217.03,217.028, 217.024,217.022,217.018,217.017, 217.016)
ORBIT_NUMBER = 10501
ORBITAL_ECCENTRICITY = 0.578
ORBITAL_INCLINATION = 86.89
ORBITAL_SEMIMAJOR_AXIS = 8825.9
PERIAPSIS_ALTITUDE = 333.19
PERIAPSIS_ARGUMENT_ANGLE = 325.31
PERIAPSIS_TIME = 2012-03-29T13:34:35.000Z
SPACECRAFT_ORIENTATION = (0.0,1.0,0.0)
^MEX_ORIENTATION_DESC = "MEX_ORIENTATION_DESC.TXT"
SPACECRAFT_POINTING_MODE = ACROSSTRACK
^MEX_POINTING_DESC = "MEX_POINTING_DESC.TXT"
RIGHT_ASCENSION = -1e+32
DECLINATION = -1e+32
OFFSET_ANGLE = 0.458
SPACECRAFT_SOLAR_DISTANCE = 2.47879e+08
TARGET_NAME = MARS
/* CAMERA DATA ELEMENTS */
DETECTOR_TEMPERATURE = 18.3705
FOCAL_PLANE_TEMPERATURE = 8.5833
INST_CMPRS_NAME = "DISCRETE COSINE TRANSFORMATION (DCT)"
INST_CMPRS_RATIO = 6.47271
INST_CMPRS_QUALITY = 0
INST_CMPRS_QUANTZ_TBL_ID = 0
INSTRUMENT_TEMPERATURE = 12.6613
LENS_TEMPERATURE = 9.195
MACROPIXEL_SIZE = 8
MISSING_FRAMES = 0
PIXEL_SUBSAMPLING_FLAG = N
SIGNAL_CHAIN_ID = 2
/* RADIOMETRIC DATA ELEMENTS */
BANDWIDTH = 88.0
CENTER_FILTER_WAVELENGTH = 538.0
RADIANCE_OFFSET = 0.41846
RADIANCE_SCALING_FACTOR = 0.00663246
REFLECTANCE_SCALING_FACTOR = 0.000350867
MEX:REFLECTANCE_OFFSET = 0.0221372
/* IMAGE OBJECT DEFINITIONS */
OBJECT = IMAGE
  INTERCHANGE_FORMAT = BINARY
  LINES = 8700
  LINE_SAMPLES = 1045
  SAMPLE_TYPE = UNSIGNED_INTEGER
  SAMPLE_BITS = 8
  BANDS = 1
  BAND_STORAGE_TYPE = BAND_SEQUENTIAL
  MAXIMUM = 255
  MEAN = 97.2127
  MINIMUM = 1
  STANDARD_DEVIATION = 23.7702
END_OBJECT = IMAGE
/* MAP OBJECT DEFINITIONS */
OBJECT = IMAGE_MAP_PROJECTION
  ^DATA_SET_MAP_PROJECTION_CATALOG= "DSMAP.CAT"
  A_AXIS_RADIUS = 3396.0
  B_AXIS_RADIUS = 3396.0
  C_AXIS_RADIUS = 3396.0
  CENTER_LATITUDE = 0.0
  CENTER_LONGITUDE = 216.0
  COORDINATE_SYSTEM_NAME = PLANETOGRAPHIC
  COORDINATE_SYSTEM_TYPE = "BODY-FIXED ROTATING"
  EASTERNMOST_LONGITUDE = 217.136
  FIRST_STANDARD_PARALLEL = "N/A"
  LINE_FIRST_PIXEL = 1
  LINE_LAST_PIXEL = 8700
  LINE_PROJECTION_OFFSET = -3544.5625
  MAP_PROJECTION_ROTATION = 0.0
  MAP_PROJECTION_TYPE = SINUSOIDAL
  MAP_RESOLUTION = 592.713803866667
  MAP_SCALE = 0.1
  MAXIMUM_LATITUDE = -5.96594
  MINIMUM_LATITUDE = -20.6533
  POSITIVE_LONGITUDE_DIRECTION = EAST
  REFERENCE_LATITUDE = "N/A"
  REFERENCE_LONGITUDE = "N/A"
  SAMPLE_FIRST_PIXEL = 1
  SAMPLE_LAST_PIXEL = 1045
  SAMPLE_PROJECTION_OFFSET = 380.3125
  SECOND_STANDARD_PARALLEL = "N/A"
  WESTERNMOST_LONGITUDE = 215.364
END_OBJECT = IMAGE_MAP_PROJECTION
END
