PDS_VERSION_ID = PDS3
/* FILE DATA ELEMENTS */
RECORD_TYPE = UNDEFINED
/* POINTERS TO DATA OBJECTS */
^IMAGE = ("HA491_0000_IR4.TIF")
/* IDENTIFICATION DATA ELEMENTS */
DATA_SET_ID = "MEX-M-HRSC-4-REFDR-MAPPROJECT-EXT3-V4.0"
DATA_SET_NAME = "MARS EXPRESS HRSC MAP PROJECTED REFDR EXTENSION3 V4.0"
DETECTOR_ID = MEX_HRSC_IR
EVENT_TYPE = "MARS-REGIONAL-MAPPING-Vo-Im-Fl"
INSTRUMENT_HOST_ID = MEX
INSTRUMENT_HOST_NAME = "MARS EXPRESS"
INSTRUMENT_ID = HRSC
INSTRUMENT_NAME = "HIGH RESOLUTION STEREO CAMERA"
MISSION_NAME = "MARS EXPRESS"
MISSION_PHASE_NAME = ME_Phase_25
PROCESSING_LEVEL_ID = 4
PRODUCT_CREATION_TIME = 2023-02-04T22:47:41.000Z
PRODUCT_ID = "HA491_0000_IR4.TIF"
RELEASE_ID = 0008
REVISION_ID = 0000
/* QUALITY DATA ELEMENTS */
DATA_QUALITY_ID = 1
DATA_QUALITY_DESC = "Data calculated based on original SPICE kernels"
/* TIME DATA ELEMENTS */
SPACECRAFT_CLOCK_START_COUNT = "1/0280856450.09042"
SPACECRAFT_CLOCK_STOP_COUNT = "1/0280856789.30168"
START_TIME = 2012-03-26T15:41:55.658Z
STOP_TIME = 2012-03-26T15:46:21.114Z
/* ORBITAL DATA ELEMENTS */
ASCENDING_NODE_LONGITUDE = 17.04
MAXIMUM_RESOLUTION = 0.0636
FOOTPRINT_POINT_LATITUDE = (-19.3309,-19.3426,-19.3542,-19.3694, -19.3698,-19.3778,-19.0876,-18.6525, -18.3643,-17.9325,-17.6441,-17.3561, -17.0691,-16.6406,-16.2151,-15.9313, -15.5071,-15.2173,-14.9254,-14.6361, -14.2008,-13.9049,-13.6103,-13.3185, -13.0206,-12.7207,-12.4212,-11.966, -11.6605,-11.3552,-11.0464,-10.7347, -10.4239,-10.1095,-9.63857,-9.16148, -8.8438,-8.52075,-8.02369,-7.53003, -7.20166,-6.8678,-6.36757,-6.02347, -5.68371,-5.33954,-4.99424,-4.64394, -4.11709,-3.94164,-3.9105,-3.89398, -3.88087,-3.8596,-3.84322,-3.84265, -3.84365,-4.37526,-4.725,-5.24473, -5.59227,-5.93201,-6.44216,-6.7767, -7.27902,-7.60886,-7.93904,-8.43434, -8.91698,-9.2382,-9.55741,-9.8733, -10.3471,-10.6574,-10.969,-11.2798, -11.585,-11.8915,-12.1963,-12.4975, -12.948,-13.2481,-13.5417,-13.8361, -14.2767,-14.5708,-15.1447,-15.5796, -16.0062,-16.2907,-16.7197,-17.0056, -17.2929,-17.7252,-18.0134,-18.3028, -18.7371,-19.1736,-19.3177,-19.3309)
FOOTPRINT_POINT_LONGITUDE = (159.773,159.358,158.937,158.375, 158.361,158.351,158.349,158.347,158.344 ,158.341,158.339,158.336,158.334, 158.329,158.322,158.318,158.311,158.308 ,158.305,158.3,158.293,158.288,158.283, 158.275,158.269,158.263,158.257,158.248 ,158.241,158.235,158.228,158.221, 158.214,158.206,158.193,158.179,158.169 ,158.16,158.146,158.131,158.12,158.109, 158.091,158.082,158.071,158.058,158.046 ,158.034,158.014,158.007,158.006, 158.443,158.822,159.433,159.913,159.93, 159.936,159.93,159.925,159.919,159.915, 159.911,159.905,159.901,159.895,159.892 ,159.888,159.882,159.877,159.874,159.87 ,159.867,159.862,159.859,159.856, 159.853,159.85,159.847,159.844,159.841, 159.836,159.833,159.831,159.828,159.823 ,159.821,159.815,159.811,159.806, 159.804,159.8,159.797,159.794,159.79, 159.787,159.784,159.78,159.776,159.774, 159.773)
ORBIT_NUMBER = 10491
ORBITAL_ECCENTRICITY = 0.578
ORBITAL_INCLINATION = 86.88
ORBITAL_SEMIMAJOR_AXIS = 8828.19
PERIAPSIS_ALTITUDE = 334.66
PERIAPSIS_ARGUMENT_ANGLE = 327.07
PERIAPSIS_TIME = 2012-03-26T15:37:59.000Z
SPACECRAFT_ORIENTATION = (0.0,1.0,0.0)
^MEX_ORIENTATION_DESC = "MEX_ORIENTATION_DESC.TXT"
SPACECRAFT_POINTING_MODE = ACROSSTRACK
^MEX_POINTING_DESC = "MEX_POINTING_DESC.TXT"
RIGHT_ASCENSION = -1e+32
DECLINATION = -1e+32
OFFSET_ANGLE = 0.6
SPACECRAFT_SOLAR_DISTANCE = 2.48056e+08
TARGET_NAME = MARS
/* CAMERA DATA ELEMENTS */
DETECTOR_TEMPERATURE = 17.9627
FOCAL_PLANE_TEMPERATURE = 7.156
INST_CMPRS_NAME = "DISCRETE COSINE TRANSFORMATION (DCT)"
INST_CMPRS_RATIO = 5.34306
INST_CMPRS_QUALITY = 0
INST_CMPRS_QUANTZ_TBL_ID = 0
INSTRUMENT_TEMPERATURE = 12.0496
LENS_TEMPERATURE = 9.195
MACROPIXEL_SIZE = 4
MISSING_FRAMES = 1
PIXEL_SUBSAMPLING_FLAG = N
SIGNAL_CHAIN_ID = 2
/* RADIOMETRIC DATA ELEMENTS */
BANDWIDTH = 81.0
CENTER_FILTER_WAVELENGTH = 955.5
RADIANCE_OFFSET = 0.0810073
RADIANCE_SCALING_FACTOR = 0.005516
REFLECTANCE_SCALING_FACTOR = 0.000732235
MEX:REFLECTANCE_OFFSET = 0.0107535
/* IMAGE OBJECT DEFINITIONS */
OBJECT = IMAGE
  INTERCHANGE_FORMAT = BINARY
  LINES = 18414
  LINE_SAMPLES = 2135
  SAMPLE_TYPE = UNSIGNED_INTEGER
  SAMPLE_BITS = 8
  BANDS = 1
  BAND_STORAGE_TYPE = BAND_SEQUENTIAL
  MAXIMUM = 255
  MEAN = 116.115
  MINIMUM = 1
  STANDARD_DEVIATION = 37.8552
END_OBJECT = IMAGE
/* MAP OBJECT DEFINITIONS */
OBJECT = IMAGE_MAP_PROJECTION
  ^DATA_SET_MAP_PROJECTION_CATALOG= "DSMAP.CAT"
  A_AXIS_RADIUS = 3396.0
  B_AXIS_RADIUS = 3396.0
  C_AXIS_RADIUS = 3396.0
  CENTER_LATITUDE = 0.0
  CENTER_LONGITUDE = 159.0
  COORDINATE_SYSTEM_NAME = PLANETOGRAPHIC
  COORDINATE_SYSTEM_TYPE = "BODY-FIXED ROTATING"
  EASTERNMOST_LONGITUDE = 159.936
  FIRST_STANDARD_PARALLEL = "N/A"
  LINE_FIRST_PIXEL = 1
  LINE_LAST_PIXEL = 18414
  LINE_PROJECTION_OFFSET = -4554.375
  MAP_PROJECTION_ROTATION = 0.0
  MAP_PROJECTION_TYPE = SINUSOIDAL
  MAP_RESOLUTION = 1185.42760773333
  MAP_SCALE = 0.05
  MAXIMUM_LATITUDE = -3.84265
  MINIMUM_LATITUDE = -19.3778
  POSITIVE_LONGITUDE_DIRECTION = EAST
  REFERENCE_LATITUDE = "N/A"
  REFERENCE_LONGITUDE = "N/A"
  SAMPLE_FIRST_PIXEL = 1
  SAMPLE_LAST_PIXEL = 2135
  SAMPLE_PROJECTION_OFFSET = 1103.625
  SECOND_STANDARD_PARALLEL = "N/A"
  WESTERNMOST_LONGITUDE = 158.006
END_OBJECT = IMAGE_MAP_PROJECTION
END
