PDS_VERSION_ID = PDS3
/* FILE DATA ELEMENTS */
RECORD_TYPE = UNDEFINED
/* POINTERS TO DATA OBJECTS */
^IMAGE = ("HA482_0000_S14.TIF")
/* IDENTIFICATION DATA ELEMENTS */
DATA_SET_ID = "MEX-M-HRSC-4-REFDR-MAPPROJECT-EXT3-V4.0"
DATA_SET_NAME = "MARS EXPRESS HRSC MAP PROJECTED REFDR EXTENSION3 V4.0"
DETECTOR_ID = MEX_HRSC_S1
EVENT_TYPE = "MARS-REGIONAL-MAPPING-Im-Fl-La"
INSTRUMENT_HOST_ID = MEX
INSTRUMENT_HOST_NAME = "MARS EXPRESS"
INSTRUMENT_ID = HRSC
INSTRUMENT_NAME = "HIGH RESOLUTION STEREO CAMERA"
MISSION_NAME = "MARS EXPRESS"
MISSION_PHASE_NAME = ME_Phase_25
PROCESSING_LEVEL_ID = 4
PRODUCT_CREATION_TIME = 2023-02-04T22:47:41.000Z
PRODUCT_ID = "HA482_0000_S14.TIF"
RELEASE_ID = 0008
REVISION_ID = 0000
/* QUALITY DATA ELEMENTS */
DATA_QUALITY_ID = 1
DATA_QUALITY_DESC = "Data calculated based on original SPICE kernels"
/* TIME DATA ELEMENTS */
SPACECRAFT_CLOCK_START_COUNT = "1/0280629901.07282"
SPACECRAFT_CLOCK_STOP_COUNT = "1/0280630240.27629"
START_TIME = 2012-03-24T00:46:22.989Z
STOP_TIME = 2012-03-24T00:50:42.064Z
/* ORBITAL DATA ELEMENTS */
ASCENDING_NODE_LONGITUDE = 17.22
MAXIMUM_RESOLUTION = 0.037
FOOTPRINT_POINT_LATITUDE = (-11.8313,-11.8652,-11.9006,-11.9447, -11.9459,-11.9585,-11.3319,-10.83, -10.4479,-9.81183,-9.03058,-8.63524, -8.37168,-7.97433,-7.7067,-7.43963, -7.16985,-6.89776,-6.62774,-6.35299, -5.94107,-5.66516,-5.38649,-4.96625, -4.68369,-4.40178,-4.11381,-3.82982, -3.39432,-3.10384,-2.80977,-2.51669, -2.21896,-1.92205,-1.62098,-1.16861, -0.712028,-0.406106,-0.0961616,0.214528 ,0.527653,1.00033,1.3174,1.63768, 1.95951,2.12174,2.17565,2.20068,2.22477 ,2.24495,2.26266,2.294,2.31742,2.48817, 2.48942,2.48921,2.16337,1.84136,1.51119 ,1.0343,0.718475,0.414971,0.10246, -0.206141,-0.514502,-0.972296,-1.27744, -1.5789,-1.87939,-2.17703,-2.47407, -2.76838,-3.06222,-3.35207,-3.64372, -3.93101,-4.36045,-4.6427,-4.92603, -5.35473,-5.62701,-5.90322,-6.17829, -6.45462,-6.72601,-6.99916,-7.26967, -7.53582,-7.80411,-8.07139,-8.46834, -8.73606,-9.25391,-9.77466,-10.2871, -10.6711,-11.1738,-11.6783,-11.8017, -11.8313)
FOOTPRINT_POINT_LONGITUDE = (359.831,359.348,358.851,358.242, 358.226,358.21,358.2,358.19,358.182, 358.166,358.151,358.142,358.136,358.126 ,358.119,358.111,358.104,358.097, 358.089,358.081,358.068,358.058,358.049 ,358.036,358.026,358.016,358.007, 357.995,357.98,357.97,357.959,357.948, 357.936,357.925,357.913,357.894,357.875 ,357.86,357.847,357.833,357.818,357.796 ,357.781,357.765,357.749,357.741, 357.738,358.078,358.415,358.704,358.969 ,359.429,359.775,359.996,360.017, 360.024,360.019,360.015,360.004,359.997 ,359.992,359.994,359.99,359.986,359.982 ,359.976,359.962,359.958,359.954, 359.949,359.945,359.941,359.937,359.933 ,359.93,359.926,359.92,359.917,359.913, 359.906,359.904,359.9,359.897,359.894, 359.89,359.887,359.884,359.881,359.877, 359.874,359.869,359.865,359.86,359.853, 359.847,359.843,359.837,359.831,359.829 ,359.831)
ORBIT_NUMBER = 10482
ORBITAL_ECCENTRICITY = 0.578
ORBITAL_INCLINATION = 86.87
ORBITAL_SEMIMAJOR_AXIS = 8832.26
PERIAPSIS_ALTITUDE = 334.6
PERIAPSIS_ARGUMENT_ANGLE = 328.58
PERIAPSIS_TIME = 2012-03-24T00:40:40.000Z
SPACECRAFT_ORIENTATION = (0.0,1.0,0.0)
^MEX_ORIENTATION_DESC = "MEX_ORIENTATION_DESC.TXT"
SPACECRAFT_POINTING_MODE = ACROSSTRACK
^MEX_POINTING_DESC = "MEX_POINTING_DESC.TXT"
RIGHT_ASCENSION = -1e+32
DECLINATION = -1e+32
OFFSET_ANGLE = 1.3
SPACECRAFT_SOLAR_DISTANCE = 2.48204e+08
TARGET_NAME = MARS
/* CAMERA DATA ELEMENTS */
DETECTOR_TEMPERATURE = 19.39
FOCAL_PLANE_TEMPERATURE = 8.7872
INST_CMPRS_NAME = "DISCRETE COSINE TRANSFORMATION (DCT)"
INST_CMPRS_RATIO = 10.919
INST_CMPRS_QUALITY = 0
INST_CMPRS_QUANTZ_TBL_ID = 0
INSTRUMENT_TEMPERATURE = 12.0496
LENS_TEMPERATURE = 9.195
MACROPIXEL_SIZE = 2
MISSING_FRAMES = 0
PIXEL_SUBSAMPLING_FLAG = N
SIGNAL_CHAIN_ID = 1
/* RADIOMETRIC DATA ELEMENTS */
BANDWIDTH = 180.0
CENTER_FILTER_WAVELENGTH = 677.0
RADIANCE_OFFSET = 1.29488
RADIANCE_SCALING_FACTOR = 0.0130204
REFLECTANCE_SCALING_FACTOR = 0.00041849
MEX:REFLECTANCE_OFFSET = 0.0416189
/* IMAGE OBJECT DEFINITIONS */
OBJECT = IMAGE
  INTERCHANGE_FORMAT = BINARY
  LINES = 33664
  LINE_SAMPLES = 4878
  SAMPLE_TYPE = UNSIGNED_INTEGER
  SAMPLE_BITS = 8
  BANDS = 1
  BAND_STORAGE_TYPE = BAND_SEQUENTIAL
  MAXIMUM = 255
  MEAN = 92.8793
  MINIMUM = 1
  STANDARD_DEVIATION = 32.993
END_OBJECT = IMAGE
/* MAP OBJECT DEFINITIONS */
OBJECT = IMAGE_MAP_PROJECTION
  ^DATA_SET_MAP_PROJECTION_CATALOG= "DSMAP.CAT"
  A_AXIS_RADIUS = 3396.0
  B_AXIS_RADIUS = 3396.0
  C_AXIS_RADIUS = 3396.0
  CENTER_LATITUDE = 0.0
  CENTER_LONGITUDE = 359.0
  COORDINATE_SYSTEM_NAME = PLANETOGRAPHIC
  COORDINATE_SYSTEM_TYPE = "BODY-FIXED ROTATING"
  EASTERNMOST_LONGITUDE = 0.024
  FIRST_STANDARD_PARALLEL = "N/A"
  LINE_FIRST_PIXEL = 1
  LINE_LAST_PIXEL = 33664
  LINE_PROJECTION_OFFSET = 5463.75
  MAP_PROJECTION_ROTATION = 0.0
  MAP_PROJECTION_TYPE = SINUSOIDAL
  MAP_RESOLUTION = 2370.85521546667
  MAP_SCALE = 0.025
  MAXIMUM_LATITUDE = 2.48942
  MINIMUM_LATITUDE = -11.9585
  POSITIVE_LONGITUDE_DIRECTION = EAST
  REFERENCE_LATITUDE = "N/A"
  REFERENCE_LONGITUDE = "N/A"
  SAMPLE_FIRST_PIXEL = 1
  SAMPLE_LAST_PIXEL = 4878
  SAMPLE_PROJECTION_OFFSET = 2703.25
  SECOND_STANDARD_PARALLEL = "N/A"
  WESTERNMOST_LONGITUDE = -2.262
END_OBJECT = IMAGE_MAP_PROJECTION
END
