PDS_VERSION_ID = PDS3
/* FILE DATA ELEMENTS */
RECORD_TYPE = UNDEFINED
/* POINTERS TO DATA OBJECTS */
^IMAGE = ("HA481_0000_S14.TIF")
/* IDENTIFICATION DATA ELEMENTS */
DATA_SET_ID = "MEX-M-HRSC-4-REFDR-MAPPROJECT-EXT3-V4.0"
DATA_SET_NAME = "MARS EXPRESS HRSC MAP PROJECTED REFDR EXTENSION3 V4.0"
DETECTOR_ID = MEX_HRSC_S1
EVENT_TYPE = "MARS-REGIONAL-MAPPING-Vo"
INSTRUMENT_HOST_ID = MEX
INSTRUMENT_HOST_NAME = "MARS EXPRESS"
INSTRUMENT_ID = HRSC
INSTRUMENT_NAME = "HIGH RESOLUTION STEREO CAMERA"
MISSION_NAME = "MARS EXPRESS"
MISSION_PHASE_NAME = ME_Phase_25
PROCESSING_LEVEL_ID = 4
PRODUCT_CREATION_TIME = 2023-02-04T22:47:41.000Z
PRODUCT_ID = "HA481_0000_S14.TIF"
RELEASE_ID = 0008
REVISION_ID = 0000
/* QUALITY DATA ELEMENTS */
DATA_QUALITY_ID = 1
DATA_QUALITY_DESC = "Data calculated based on original SPICE kernels"
/* TIME DATA ELEMENTS */
SPACECRAFT_CLOCK_START_COUNT = "1/0280604634.09057"
SPACECRAFT_CLOCK_STOP_COUNT = "1/0280604925.62365"
START_TIME = 2012-03-23T17:45:05.481Z
STOP_TIME = 2012-03-23T17:48:47.576Z
/* ORBITAL DATA ELEMENTS */
ASCENDING_NODE_LONGITUDE = 17.23
MAXIMUM_RESOLUTION = 0.0325
FOOTPRINT_POINT_LATITUDE = (-17.4243,-17.4263,-17.4285,-17.4303, -17.4304,-17.4295,-17.1829,-16.9372, -16.6921,-16.4477,-15.9601,-15.5941, -14.9869,-14.5028,-14.1424,-13.6564, -13.4101,-13.1644,-12.7964,-12.4227, -12.1731,-11.9241,-11.5498,-11.2931, -11.0391,-10.7854,-10.3988,-10.1406, -9.8826,-9.48949,-9.22788,-8.96554, -8.69941,-8.29932,-8.03259,-7.76183, -7.48921,-7.0813,-6.80459,-6.53238, -6.25115,-5.97303,-5.69456,-5.40909, -4.98407,-4.69821,-4.55517,-4.51813, -4.51272,-4.50686,-4.50602,-4.50244, -4.49789,-4.4978,-4.4983,-4.78529, -5.21251,-5.49634,-5.77935,-6.05572, -6.33329,-6.75029,-7.02559,-7.30178, -7.57407,-7.84406,-8.11454,-8.38107, -8.64812,-8.91529,-9.17744,-9.44068, -9.70443,-9.96379,-10.2201,-10.4794, -10.7375,-10.9918,-11.2463,-11.5044, -11.7553,-12.1298,-12.3797,-12.755, -13.0001,-13.2458,-13.4915,-13.7364, -14.1003,-14.584,-15.069,-15.4331, -15.9208,-16.1646,-16.5321,-16.7772, -17.023,-17.2691,-17.3921,-17.4243)
FOOTPRINT_POINT_LONGITUDE = (103.413,102.923,102.421,102.026, 102.013,102.008,102.006,102.002,101.999 ,101.996,101.988,101.983,101.973, 101.965,101.958,101.949,101.945,101.94, 101.933,101.925,101.919,101.913,101.904 ,101.899,101.893,101.887,101.877,101.87 ,101.864,101.854,101.846,101.839, 101.832,101.82,101.813,101.804,101.797, 101.784,101.776,101.766,101.758,101.749 ,101.739,101.73,101.716,101.705,101.7, 101.699,101.98,102.349,102.594,102.946, 103.492,103.51,103.516,103.513,103.507, 103.505,103.502,103.498,103.494,103.491 ,103.488,103.486,103.484,103.481, 103.478,103.476,103.474,103.471,103.469 ,103.467,103.465,103.463,103.46,103.458 ,103.456,103.454,103.452,103.451, 103.449,103.446,103.444,103.441,103.44, 103.438,103.436,103.434,103.432,103.429 ,103.426,103.424,103.421,103.42,103.418 ,103.416,103.415,103.414,103.413, 103.413)
ORBIT_NUMBER = 10481
ORBITAL_ECCENTRICITY = 0.579
ORBITAL_INCLINATION = 86.87
ORBITAL_SEMIMAJOR_AXIS = 8836.68
PERIAPSIS_ALTITUDE = 333.8
PERIAPSIS_ARGUMENT_ANGLE = 328.74
PERIAPSIS_TIME = 2012-03-23T17:40:59.000Z
SPACECRAFT_ORIENTATION = (0.0,1.0,0.0)
^MEX_ORIENTATION_DESC = "MEX_ORIENTATION_DESC.TXT"
SPACECRAFT_POINTING_MODE = NADIR
^MEX_POINTING_DESC = "MEX_POINTING_DESC.TXT"
RIGHT_ASCENSION = -1e+32
DECLINATION = -1e+32
OFFSET_ANGLE = -1e+32
SPACECRAFT_SOLAR_DISTANCE = 2.4822e+08
TARGET_NAME = MARS
/* CAMERA DATA ELEMENTS */
DETECTOR_TEMPERATURE = 18.1666
FOCAL_PLANE_TEMPERATURE = 7.5638
INST_CMPRS_NAME = "DISCRETE COSINE TRANSFORMATION (DCT)"
INST_CMPRS_RATIO = 8.18737
INST_CMPRS_QUALITY = 0
INST_CMPRS_QUANTZ_TBL_ID = 0
INSTRUMENT_TEMPERATURE = 11.6418
LENS_TEMPERATURE = 8.7872
MACROPIXEL_SIZE = 2
MISSING_FRAMES = 0
PIXEL_SUBSAMPLING_FLAG = N
SIGNAL_CHAIN_ID = 1
/* RADIOMETRIC DATA ELEMENTS */
BANDWIDTH = 180.0
CENTER_FILTER_WAVELENGTH = 677.0
RADIANCE_OFFSET = 0.749965
RADIANCE_SCALING_FACTOR = 0.0136159
REFLECTANCE_SCALING_FACTOR = 0.000437687
MEX:REFLECTANCE_OFFSET = 0.0241078
/* IMAGE OBJECT DEFINITIONS */
OBJECT = IMAGE
  INTERCHANGE_FORMAT = BINARY
  LINES = 30692
  LINE_SAMPLES = 3965
  SAMPLE_TYPE = UNSIGNED_INTEGER
  SAMPLE_BITS = 8
  BANDS = 1
  BAND_STORAGE_TYPE = BAND_SEQUENTIAL
  MAXIMUM = 255
  MEAN = 92.3736
  MINIMUM = 1
  STANDARD_DEVIATION = 35.551
END_OBJECT = IMAGE
/* MAP OBJECT DEFINITIONS */
OBJECT = IMAGE_MAP_PROJECTION
  ^DATA_SET_MAP_PROJECTION_CATALOG= "DSMAP.CAT"
  A_AXIS_RADIUS = 3396.0
  B_AXIS_RADIUS = 3396.0
  C_AXIS_RADIUS = 3396.0
  CENTER_LATITUDE = 0.0
  CENTER_LONGITUDE = 103.0
  COORDINATE_SYSTEM_NAME = PLANETOGRAPHIC
  COORDINATE_SYSTEM_TYPE = "BODY-FIXED ROTATING"
  EASTERNMOST_LONGITUDE = 103.516
  FIRST_STANDARD_PARALLEL = "N/A"
  LINE_FIRST_PIXEL = 1
  LINE_LAST_PIXEL = 30692
  LINE_PROJECTION_OFFSET = -10663.25
  MAP_PROJECTION_ROTATION = 0.0
  MAP_PROJECTION_TYPE = SINUSOIDAL
  MAP_RESOLUTION = 2370.85521546667
  MAP_SCALE = 0.025
  MAXIMUM_LATITUDE = -4.4978
  MINIMUM_LATITUDE = -17.4304
  POSITIVE_LONGITUDE_DIRECTION = EAST
  REFERENCE_LATITUDE = "N/A"
  REFERENCE_LONGITUDE = "N/A"
  SAMPLE_FIRST_PIXEL = 1
  SAMPLE_LAST_PIXEL = 3965
  SAMPLE_PROJECTION_OFFSET = 2917.75
  SECOND_STANDARD_PARALLEL = "N/A"
  WESTERNMOST_LONGITUDE = 101.699
END_OBJECT = IMAGE_MAP_PROJECTION
END
