PDS_VERSION_ID = PDS3
/* FILE DATA ELEMENTS */
RECORD_TYPE = UNDEFINED
/* POINTERS TO DATA OBJECTS */
^IMAGE = ("HA481_0000_GR4.TIF")
/* IDENTIFICATION DATA ELEMENTS */
DATA_SET_ID = "MEX-M-HRSC-4-REFDR-MAPPROJECT-EXT3-V4.0"
DATA_SET_NAME = "MARS EXPRESS HRSC MAP PROJECTED REFDR EXTENSION3 V4.0"
DETECTOR_ID = MEX_HRSC_GREEN
EVENT_TYPE = "MARS-REGIONAL-MAPPING-Vo"
INSTRUMENT_HOST_ID = MEX
INSTRUMENT_HOST_NAME = "MARS EXPRESS"
INSTRUMENT_ID = HRSC
INSTRUMENT_NAME = "HIGH RESOLUTION STEREO CAMERA"
MISSION_NAME = "MARS EXPRESS"
MISSION_PHASE_NAME = ME_Phase_25
PROCESSING_LEVEL_ID = 4
PRODUCT_CREATION_TIME = 2023-02-04T22:47:41.000Z
PRODUCT_ID = "HA481_0000_GR4.TIF"
RELEASE_ID = 0008
REVISION_ID = 0000
/* QUALITY DATA ELEMENTS */
DATA_QUALITY_ID = 1
DATA_QUALITY_DESC = "Data calculated based on original SPICE kernels"
/* TIME DATA ELEMENTS */
SPACECRAFT_CLOCK_START_COUNT = "1/0280604634.09057"
SPACECRAFT_CLOCK_STOP_COUNT = "1/0280604925.62365"
START_TIME = 2012-03-23T17:44:36.176Z
STOP_TIME = 2012-03-23T17:48:05.437Z
/* ORBITAL DATA ELEMENTS */
ASCENDING_NODE_LONGITUDE = 17.23
MAXIMUM_RESOLUTION = 0.0593
FOOTPRINT_POINT_LATITUDE = (-17.4383,-17.4407,-17.4415,-17.4416, -17.4416,-17.4405,-17.0639,-16.8131, -16.5627,-16.3124,-16.0624,-15.8126, -15.563,-15.3139,-15.0646,-14.8157, -14.5672,-13.9391,-13.4441,-12.9501, -12.4573,-12.0808,-11.5826,-11.2054, -10.9543,-10.7036,-10.447,-10.1904, -9.93406,-9.67805,-9.41743,-9.15574, -8.89432,-8.63329,-8.23444,-7.96783, -7.70183,-7.43147,-7.16002,-6.75275, -6.33937,-6.06289,-5.78687,-5.50593, -5.22385,-4.94303,-4.65666,-4.51355, -4.51126,-4.5074,-4.50447,-4.50159, -4.49816,-4.4927,-4.49251,-4.49359, -4.78044,-5.20507,-5.48681,-5.76862, -6.04467,-6.32111,-6.73555,-7.00706, -7.27919,-7.6858,-7.95225,-8.21918, -8.61855,-8.87992,-9.14168,-9.40381, -9.66484,-9.92102,-10.1774,-10.4344, -10.6913,-10.9424,-11.3197,-11.5714, -12.0705,-12.4476,-12.941,-13.4354, -13.9307,-14.1789,-14.5597,-14.8086, -15.0579,-15.307,-15.5567,-15.8066, -16.0566,-16.3069,-16.5575,-16.8083, -17.0593,-17.3106,-17.4363,-17.4383)
FOOTPRINT_POINT_LONGITUDE = (103.386,102.795,102.367,102.053,102.04 ,102.037,102.033,102.031,102.028, 102.025,102.021,102.018,102.015,102.011 ,102.008,102.005,102.001,101.991, 101.983,101.974,101.965,101.958,101.947 ,101.94,101.935,101.929,101.924,101.918 ,101.912,101.906,101.9,101.894,101.887, 101.881,101.87,101.864,101.856,101.85, 101.842,101.831,101.819,101.812,101.804 ,101.794,101.787,101.779,101.769, 101.764,101.764,102.094,102.361,102.644 ,102.959,103.431,103.447,103.452,103.45 ,103.446,103.445,103.442,103.44,103.438 ,103.436,103.434,103.433,103.43,103.429 ,103.427,103.425,103.423,103.422, 103.421,103.419,103.418,103.416,103.415 ,103.413,103.412,103.411,103.409, 103.407,103.405,103.403,103.401,103.399 ,103.398,103.396,103.395,103.395, 103.393,103.393,103.392,103.391,103.39, 103.389,103.388,103.387,103.386,103.386 ,103.386)
ORBIT_NUMBER = 10481
ORBITAL_ECCENTRICITY = 0.579
ORBITAL_INCLINATION = 86.87
ORBITAL_SEMIMAJOR_AXIS = 8836.68
PERIAPSIS_ALTITUDE = 333.8
PERIAPSIS_ARGUMENT_ANGLE = 328.74
PERIAPSIS_TIME = 2012-03-23T17:40:59.000Z
SPACECRAFT_ORIENTATION = (0.0,1.0,0.0)
^MEX_ORIENTATION_DESC = "MEX_ORIENTATION_DESC.TXT"
SPACECRAFT_POINTING_MODE = NADIR
^MEX_POINTING_DESC = "MEX_POINTING_DESC.TXT"
RIGHT_ASCENSION = -1e+32
DECLINATION = -1e+32
OFFSET_ANGLE = -1e+32
SPACECRAFT_SOLAR_DISTANCE = 2.4822e+08
TARGET_NAME = MARS
/* CAMERA DATA ELEMENTS */
DETECTOR_TEMPERATURE = 18.3705
FOCAL_PLANE_TEMPERATURE = 7.5638
INST_CMPRS_NAME = "DISCRETE COSINE TRANSFORMATION (DCT)"
INST_CMPRS_RATIO = 7.8125
INST_CMPRS_QUALITY = 0
INST_CMPRS_QUANTZ_TBL_ID = 0
INSTRUMENT_TEMPERATURE = 11.6418
LENS_TEMPERATURE = 8.7872
MACROPIXEL_SIZE = 4
PIXEL_SUBSAMPLING_FLAG = N
SIGNAL_CHAIN_ID = 2
/* RADIOMETRIC DATA ELEMENTS */
BANDWIDTH = 88.0
CENTER_FILTER_WAVELENGTH = 538.0
RADIANCE_OFFSET = 0.317753
RADIANCE_SCALING_FACTOR = 0.00397402
REFLECTANCE_SCALING_FACTOR = 0.000210811
MEX:REFLECTANCE_OFFSET = 0.0168559
/* IMAGE OBJECT DEFINITIONS */
OBJECT = IMAGE
  INTERCHANGE_FORMAT = BINARY
  LINES = 15346
  LINE_SAMPLES = 1983
  SAMPLE_TYPE = UNSIGNED_INTEGER
  SAMPLE_BITS = 8
  BANDS = 1
  BAND_STORAGE_TYPE = BAND_SEQUENTIAL
  MAXIMUM = 255
  MEAN = 104.327
  MINIMUM = 1
  STANDARD_DEVIATION = 35.5732
END_OBJECT = IMAGE
/* MAP OBJECT DEFINITIONS */
OBJECT = IMAGE_MAP_PROJECTION
  ^DATA_SET_MAP_PROJECTION_CATALOG= "DSMAP.CAT"
  A_AXIS_RADIUS = 3396.0
  B_AXIS_RADIUS = 3396.0
  C_AXIS_RADIUS = 3396.0
  CENTER_LATITUDE = 0.0
  CENTER_LONGITUDE = 103.0
  COORDINATE_SYSTEM_NAME = PLANETOGRAPHIC
  COORDINATE_SYSTEM_TYPE = "BODY-FIXED ROTATING"
  EASTERNMOST_LONGITUDE = 103.452
  FIRST_STANDARD_PARALLEL = "N/A"
  LINE_FIRST_PIXEL = 1
  LINE_LAST_PIXEL = 15346
  LINE_PROJECTION_OFFSET = -5331.875
  MAP_PROJECTION_ROTATION = 0.0
  MAP_PROJECTION_TYPE = SINUSOIDAL
  MAP_RESOLUTION = 1185.42760773333
  MAP_SCALE = 0.05
  MAXIMUM_LATITUDE = -4.49251
  MINIMUM_LATITUDE = -17.4416
  POSITIVE_LONGITUDE_DIRECTION = EAST
  REFERENCE_LATITUDE = "N/A"
  REFERENCE_LONGITUDE = "N/A"
  SAMPLE_FIRST_PIXEL = 1
  SAMPLE_LAST_PIXEL = 1983
  SAMPLE_PROJECTION_OFFSET = 1458.625
  SECOND_STANDARD_PARALLEL = "N/A"
  WESTERNMOST_LONGITUDE = 101.764
END_OBJECT = IMAGE_MAP_PROJECTION
END
